Workbook

Sheet Výdavky_2026_1HY
B2: VÝDAVKY DO INTERNETOVEJ REKLAMY V PRVOM POLROKU 2026
B4: 1HY 2026 - výdavky podľa FORMÁTU
B6: FORMÁT REKLAMY | C6: 1HY 2026 | D6: 1HY 2025 | E6: ZMENA | F6: % PODIEL
B7: Non video display | C7: 41471278 | D7: 38532495 | E7: =C7/D7-1 -> 0.076267647 | F7: =C7/$C$15 -> 0.35049879
B8: Paid for search | C8: 24115372 | D8: 22967021 | E8: =C8/D8-1 -> 0.04999999 | F8: =C8/$C$15 -> 0.20381356
B9: Video display | C9: 26789193 | D9: 23967263 | E9: =C9/D9-1 -> 0.11774103 | F9: =C9/$C$15 -> 0.22641163
B10: Classifieds and directories | C10: 15379578 | D10: 15459402 | E10: =C10/D10-1 -> -0.0051634598 | F10: =C10/$C$15 -> 0.12998209
B11: Native | C11: 6688817.2 | D11: 6794191 | E11: =C11/D11-1 -> -0.015509396 | F11: =C11/$C$15 -> 0.056531229
B12: Other | C12: 3876507.6 | D12: 3604738 | E12: =C12/D12-1 -> 0.075392323 | F12: =C12/$C$15 -> 0.032762704
B13: - z toho affiliate reklama | C13: 1480668.7 | D13: 1510886 | E13: =C13/D13-1 -> -0.019999741 | F13: =C13/$C$15 -> 0.012514024
B14: - z toho digitálna audio reklama | C14: 1835487.5 | D14: 1552479 | E14: =C14/D14-1 -> 0.18229458 | F14: =C14/$C$15 -> 0.015512812
B15: TOTAL | C15: 1.1832075e+08 | D15: 111325110 | E15: =C15/D15-1 -> 0.062839692 | F15: =C15/$C$15 -> 1
B19: 1HY 2026 - PODIEL PROGRAMMATIC DISPLAY NA CELKOVOM DISPLAY
B21: DISPLAY | C21: 1HY 2026 | D21: 1HY 2025 | E21: ZMENA | F21: % PODIEL
B22: Non-programmatic display | C22: =(C7+C9)-C23 -> 15382567 | D22: =(D7+D9)-D23 -> 12982218 | E22: =C22/D22-1 -> 0.18489516 | F22: =C22/$C$24 -> 0.22535102
B23: Programmatic display | C23: 52877904 | D23: 49517540 | E23: =C23/D23-1 -> 0.067862091 | F23: =C23/$C$24 -> 0.77464898
B24: DISPLAY SPOLU vrátane Video | C24: =SUM(C22:C23) -> 68260471 | D24: =SUM(D22:D23) -> 62499758 | E24: =C24/D24-1 -> 0.092171765 | F24: =C24/$C$24 -> 1
B26: Poznámka: Na začiatku roka 2021 došlo k zmene metodiky v prípade programmatic reklamy a to v súlade so štandardmi medzinárodného združenie IAB Europe. Definícia programmatic display reklamy bola rozšírená a zahŕňa všetku reklamu, ktorá bola nakupovaná akýmkoľvek automatizovaným spôsobom. Čiže do programmatic výdavkov sú zahrnuté investície zrealizované cez DSP platformy, cez reklamné nástroje Google Ads, DV360 a Facebook Ads.
B31: 1HY 2026 - PODIEL VIDEO DISPLAY NA CELKOVOM DISPLAY
B33: Display | C33: 1HY 2026 | D33: 1HY 2025 | E33: ZMENA | F33: % PODIEL
B34: Non-video display | C34: =C7 -> 41471278 | D34: =D7 -> 38532495 | E34: =C34/D34-1 -> 0.076267647 | F34: =C34/C36 -> 0.60754456
B35: Video display | C35: =C9 -> 26789193 | D35: =D9 -> 23967263 | E35: =C35/D35-1 -> 0.11774103 | F35: =C35/C36 -> 0.39245544
B36: DISPLAY SPOLU vrátane Video | C36: =SUM(C34:C35) -> 68260471 | D36: =D7+D9 -> 62499758 | E36: =C36/D36-1 -> 0.092171765 | F36: =SUM(F34:F35) -> 1
B39: VÝVOJ VÝDAVKOV DO INTERNETOVEJ REKLAMY MEDZIROČNÉ POROVNANIE PRVÉ POLROKY
B41: REKLAMNÝ FORMÁT | C41: 1HY 2026 | D41: 1HY 2025 | E41: 1HY 2024 | F41: 1HY 2023 | G41: 1HY 2022 | H41: 1HY 2021 | I41: 1HY 2020 | J41: 1HY 2019 | K41: 2026/2025 | L41: 2025/2024 | M41: 2024/2023 | N41: 2023/2022 | O41: 2022/2021 | P41: 2021/2020 | Q41: 2020/2019 | R41: PODIEL 1HY 2025 | S41: PODIEL 1HY 2024 | T41: PODIEL 1HY 2023 | U41: PODIEL 1HY 2022 | V41: PODIEL 1HY 2021 | W41: PODIEL 1HY 2020 | X41: PODIEL 1HY 2019
B42: Non video display | C42: =C7 -> 41471278 | D42: =D7 -> 38532495 | E42: 36371102 | F42: 32747701 | G42: 31331893 | H42: 30256737 | I42: 24053985 | J42: 26122052 | K42: =C42/D42-1 -> 0.076267647 | L42: =D42/E42-1 -> 0.059426102 | M42: 0.11064597 | N42: 0.045187441 | O42: 0.035534433 | P42: 0.25786796 | Q42: -0.079169386 | R42: =C42/$C$48 -> 0.35049879 | S42: =E42/$E$48 -> 0.34980096 | T42: 0.35 | U42: 0.36057548 | V42: 0.38449404 | W42: 0.39079394 | X42: 0.41066475
B43: Paid for search | C43: =C8 -> 24115372 | D43: =D8 -> 22967021 | E43: 21070661 | F43: 19692207 | G43: 19306085 | H43: 17550986 | I43: 13500759 | J43: 14602862 | K43: =C43/D43-1 -> 0.04999999 | L43: =D43/E43-1 -> 0.09000001 | M43: 0.069999989 | N43: 0.020000016 | O43: 0.10000002 | P43: 0.29999997 | Q43: -0.075471712 | R43: =C43/$C$48 -> 0.20381356 | S43: =E43/$E$48 -> 0.20264818 | T43: 0.21 | U43: 0.22217939 | V43: 0.22303296 | W43: 0.21934057 | X43: 0.22957157
B44: Video display | C44: =C9 -> 26789193 | D44: =D9 -> 23967263 | E44: 19855798 | F44: 18535146 | G44: 16715979 | H44: 16027187 | I44: 12287379 | J44: 10629730 | K44: =C44/D44-1 -> 0.11774103 | L44: =D44/E44-1 -> 0.20706624 | M44: 0.071251201 | N44: 0.10882804 | O44: 0.042976475 | P44: 0.30436176 | Q44: 0.15594457 | R44: =C44/$C$48 -> 0.22641163 | S44: =E44/$E$48 -> 0.19096416 | T44: 0.2 | U44: 0.19237178 | V44: 0.20366895 | W44: 0.19962735 | X44: 0.16710998
B45: Classifieds and directories | C45: =C10 -> 15379578 | D45: =D10 -> 15459402 | E45: 16516714 | F45: 13267414 | G45: 11706740 | H45: 9290618 | I45: 8272290.4 | J45: 9130513.8 | K45: =C45/D45-1 -> -0.0051634598 | L45: =D45/E45-1 -> -0.064014648 | M45: 0.24490833 | N45: 0.1333141 | O45: 0.26006042 | P45: 0.12310105 | Q45: -0.093995082 | R45: =C45/$C$48 -> 0.12998209 | S45: =E45/$E$48 -> 0.15885035 | T45: 0.14 | U45: 0.13472417 | V45: 0.11806254 | W45: 0.13439607 | X45: 0.1435408
B46: Native | C46: =C11 -> 6688817.2 | D46: =D11 -> 6794191 | E46: 6634193 | F46: 5613923.4 | G46: 4568782 | H46: 4103694 | I46: 2599528.1 | J46: 2598781.8 | K46: =C46/D46-1 -> -0.015509396 | L46: =D46/E46-1 -> 0.024117184 | M46: 0.18173914 | N46: 0.22875711 | O46: 0.11333399 | P46: 0.57863037 | Q46: 0.00028716955 | R46: =C46/$C$48 -> 0.056531229 | S46: =E46/$E$48 -> 0.063804695 | T46: 0.06 | U46: 0.052578717 | V46: 0.052148581 | W46: 0.042233328 | X46: 0.040855446
B47: Other | C47: =C12 -> 3876507.6 | D47: =D12 -> 3604738 | E47: 3528096.2 | F47: 3231599 | G47: 3264653 | H47: 1463121 | I47: 837640 | J47: 525250.46 | K47: =C47/D47-1 -> 0.075392323 | L47: =D47/E47-1 -> 0.021723274 | M47: 0.091749379 | N47: -0.010124813 | O47: 1.2312939 | P47: 0.74671816 | Q47: 0.59474396 | R47: =C47/$C$48 -> 0.032762704 | S47: =E47/$E$48 -> 0.033931648 | T47: 0.04 | U47: 0.037570466 | V47: 0.018592927 | W47: 0.013608749 | X47: 0.0082574619
B48: TOTAL | C48: =SUM(C42:C47) -> 1.1832075e+08 | D48: =SUM(D42:D47) -> 111325110 | E48: 1.0397656e+08 | F48: 93087990 | G48: 86894132 | H48: 78692343 | I48: 61551581 | J48: 63609190 | K48: =C48/D48-1 -> 0.062839692 | L48: =D48/E48-1 -> 0.070675024 | M48: 0.11697077 | N48: 0.071280512 | O48: 0.10422601 | P48: 0.27847801 | Q48: -0.032347663 | R48: =C48/$C$48 -> 1 | S48: =E48/$E$48 -> 1 | T48: 1 | U48: 1 | V48: 1 | W48: 1 | X48: 1
B50: Vývoj Programmatic display | C50: 1HY 2026 | D50: 1HY 2025 | E50: 1HY 2024 | F50: 1HY 2023 | G50: 1HY 2022 | H50: 1HY 2021 | I50: 1HY 2020 | J50: 1HY 2019 | K50: 2026/2025 | L50: 2025/2024 | M50: 2024/2023 | N50: 2023/2022 | O50: 2022/2021 | P50: 2021/2020 | Q50: 2020/2019 | R50: PODIEL 1HY 2025 | S50: PODIEL 1HY 2024 | T50: PODIEL 1HY 2023 | U50: PODIEL 1HY 2022 | V50: PODIEL 1HY 2021 | W50: PODIEL 1HY 2020 | X50: PODIEL 1HY 2019
B51: Non-programmatic display | C51: =C22 -> 15382567 | D51: 12982218 | E51: 11928120 | F51: 10928918 | G51: 8895012 | H51: 10406201 | I51: 8882048.5 | J51: 9893204.7 | K51: =C51/D51-1 -> 0.18489516 | L51: =D51/E51-1 -> 0.088370796 | M51: 0.09142734 | N51: 0.22865695 | O51: -0.14522005 | P51: 0.17159921 | Q51: -0.10220715 | R51: =C51/C53 -> 0.22535102 | S51: =E51/E53 -> 0.21214259 | T51: 0.2131106 | U51: 0.18512812 | V51: 0.22483403 | W51: 0.24440603 | X51: 0.2691898
B52: Programmatic display | C52: =C23 -> 52877904 | D52: 49517540 | E52: 44298780 | F52: 40353929 | G52: 39152860 | H52: 35877723 | I52: 27459315 | J52: 26858577 | K52: =C52/D52-1 -> 0.067862091 | L52: =D52/E52-1 -> 0.11780823 | M52: 0.097756296 | N52: 0.030676405 | O52: 0.091286089 | P52: 0.30657748 | Q52: 0.022366717 | R52: =C52/C53 -> 0.77464898 | S52: =E52/E53 -> 0.78785741 | T52: 0.7868894 | U52: 0.81487188 | V52: 0.77516597 | W52: 0.75559397 | X52: 0.7308102
B53: TOTAL | C53: =SUM(C51:C52) -> 68260471 | D53: =SUM(D51:D52) -> 62499758 | E53: 56226900 | F53: 51282847 | G53: 48047872 | H53: 46283924 | I53: 36341364 | J53: 36751782 | K53: =C53/D53-1 -> 0.092171765 | L53: =D53/E53-1 -> 0.11156329 | M53: 0.096407528 | N53: 0.06732817 | O53: 0.038111462 | P53: 0.27358798 | Q53: -0.011167298 | R53: =SUM(R51:R52) -> 1 | S53: =SUM(S51:S52) -> 1 | T53: 1 | U53: 1 | V53: 1 | W53: 1 | X53: 1
B56: Vývoj Video display | C56: 1HY 2026 | D56: 1HY 2025 | E56: 1HY 2024 | F56: 1 HY 2023 | G56: 1HY 2022 | H56: 1HY 2021 | I56: 1HY 2020 | J56: 1HY 2019 | K56: 2026/2025 | L56: 2025/2024 | M56: 2024/2023 | N56: 2023/2022 | O56: 2022/2021 | P56: 2021/2020 | Q56: 2020/2019 | R56: PODIEL 1HY 2025 | S56: PODIEL 1HY 2024 | T56: PODIEL 1HY 2023 | U56: PODIEL 1HY 2022 | V56: PODIEL 1HY 2021 | W56: PODIEL 1HY 2020 | X56: PODIEL 1HY 2019
B57: Non-video display | C57: =C34 -> 41471278 | D57: 38532495 | E57: 36371102 | F57: 32747701 | G57: 31331893 | H57: 30256737 | I57: 24053985 | J57: 26122052 | K57: =C57/D57-1 -> 0.076267647 | L57: =D57/E57-1 -> 0.059426102 | M57: 0.11064597 | N57: 0.045187441 | O57: 0.035534433 | P57: 0.25786796 | Q57: -0.079169386 | R57: 0.61622848 | S57: =E57/E59 -> 0.64686302 | T57: 0.63857026 | U57: 0.65209741 | V57: 0.65372022 | W57: 0.66188999 | X57: 0.71076967
B58: Video display | C58: =C35 -> 26789193 | D58: 23967263 | E58: 19855798 | F58: 18535146 | G58: 16715979 | H58: 16027187 | I58: 12287379 | J58: 10629730 | K58: =C58/D58-1 -> 0.11774103 | L58: =D58/E58-1 -> 0.20706624 | M58: 0.071251201 | N58: 0.10882804 | O58: 0.042976475 | P58: 0.30436176 | Q58: 0.15594457 | R58: 0.38377152 | S58: =E58/E59 -> 0.35313698 | T58: 0.36142974 | U58: 0.34790259 | V58: 0.34627978 | W58: 0.33811001 | X58: 0.28923033
B59: TOTAL | C59: =SUM(C57:C58) -> 68260471 | D59: =SUM(D57:D58) -> 62499758 | E59: 56226900 | F59: 51282847 | G59: 48047872 | H59: 46283924 | I59: 36341364 | J59: 36751782 | K59: =C59/D59-1 -> 0.092171765 | L59: =D59/E59-1 -> 0.11156329 | M59: 0.096407528 | N59: 0.06732817 | O59: 0.038111462 | P59: 0.27358798 | Q59: -0.011167298 | R59: 1 | S59: =SUM(S57:S58) -> 1 | T59: 1 | U59: 1 | V59: 1 | W59: 1 | X59: 1
...

Sheet Výdavky_2025_full_year
B2: VÝDAVKY DO INTERNETOVEJ REKLAMY ZA ROK 2025
B4: 2025 - výdavky podľa FORMÁTU
B6: FORMÁT REKLAMY | C6: 1HY 2025 | D6: 2HY 2025 | E6: TOTAL | F6: % PODIEL
B7: Non video display | C7: 38532495 | D7: 50093278 | E7: =C7+D7 -> 88625773 | F7: =E7/$E$15 -> 0.35063222
B8: Paid for search | C8: 22967021 | D8: 28620387 | E8: =C8+D8 -> 51587408 | F8: =E8/$E$15 -> 0.20409647
B9: Video display | C9: 23967263 | D9: 33063606 | E9: =C9+D9 -> 57030869 | F9: =E9/$E$15 -> 0.22563256
B10: Classifieds and directories | C10: 15459402 | D10: 15039023 | E10: =C10+D10 -> 30498425 | F10: =E10/$E$15 -> 0.12066163
B11: Native | C11: 6794191 | D11: 9656119.2 | E11: =C11+D11 -> 16450310 | F11: =E11/$E$15 -> 0.065082747
B12: Other | C12: 3604738 | D12: 4962399.8 | E12: =C12+D12 -> 8567137.8 | F12: =E12/$E$15 -> 0.033894368
B13: - z toho affiliate reklama | C13: 1510886 | D13: 2324648.2 | E13: =C13+D13 -> 3835534.2 | F13: =E13/$E$15 -> 0.015174614
B14: - z toho digitálna audio reklama | C14: 1552479 | D14: 2270844 | E14: =C14+D14 -> 3823323 | F14: =E14/$E$15 -> 0.015126302
B15: TOTAL | C15: =SUM(C7:C12) -> 111325110 | D15: =D7+D8+D9+D10+D11+D12 -> 1.4143481e+08 | E15: =SUM(E7:E12) -> 2.5275992e+08 | F15: =E15/$E$15 -> 1
B17: Poznámka: Na začiatku roka 2022 sme v IAB Slovakia začali monitorovať affiliate reklamu ako separátny formát.
B19: 2025 - PODIEL PROGRAMMATIC DISPLAY NA CELKOVOM DISPLAY
B21: DISPLAY | C21: 1HY 2025 | D21: 2HY 2025 | E21: TOTAL | F21: % PODIEL
B22: Non-programmatic display | C22: 12982218 | D22: =D24-D23 -> 18838263 | E22: =SUM(C22:D22) -> 31820481 | F22: =E22/$E$24 -> 0.21846227
B23: Programmatic display | C23: 49517540 | D23: 64318621 | E23: =SUM(C23:D23) -> 1.1383616e+08 | F23: =E23/$E$24 -> 0.78153773
B24: DISPLAY SPOLU vrátane Video | C24: =SUM(C22:C23) -> 62499758 | D24: =D7+D9 -> 83156884 | E24: =SUM(C24:D24) -> 1.4565664e+08 | F24: =E24/$E$24 -> 1
B26: Poznámka: Na začiatku roka 2021 došlo k zmene metodiky v prípade programmatic reklamy a to v súlade so štandardmi medzinárodného združenie IAB Europe. Definícia programmatic display reklamy bola rozšírená a zahŕňa všetku reklamu, ktorá bola nakupovaná akýmkoľvek automatizovaným spôsobom. Čiže do programmatic výdavkov sú zahrnuté investície zrealizované cez DSP platformy, cez reklamné nástroje Google Ads, DV360 a Facebook Ads.
B31: 2025 - PODIEL VIDEO DISPLAY NA CELKOVOM DISPLAY
B33: Display | C33: 1HY 2025 | D33: 2HY 2025 | E33: TOTAL | F33: % PODIEL
B34: Non-video display | C34: 38532495 | D34: =D7 -> 50093278 | E34: =SUM(C34:D34) -> 88625773 | F34: =E34/$E$24 -> 0.60845679
B35: Video display | C35: 23967263 | D35: =D9 -> 33063606 | E35: =SUM(C35:D35) -> 57030869 | F35: =E35/$E$24 -> 0.39154321
B36: DISPLAY SPOLU vrátane Video | C36: =C7+C9 -> 62499758 | D36: =SUM(D34:D35) -> 83156884 | E36: =SUM(C36:D36) -> 1.4565664e+08 | F36: =E36/$E$24 -> 1
B39: VÝVOJ VÝDAVKOV DO INTERNETOVEJ REKLAMY MEDZIROČNÉ POROVNANIE 2024/2023
B41: REKLAMNÝ FORMÁT | C41: 2025 | D41: 2024 | E41: 2025/2024 | F41: 2023 | G41: 2022 | H41: 2021 | I41: 2020 | J41: 2019 | K41: 2018 | L41: 2017 | M41: 2024/2023 | N41: 2023/2022 | O41: 2022/2021 | P41: 2021/2020 | Q41: 2020/2019 | R41: 2019/2018 | S41: 2018/2017 | T41: PODIEL 2024 | U41: PODIEL 2023 | V41: PODIEL 2O22 | W41: PODIEL 2021 | X41: PODIEL 2020 | Y41: PODIEL 2019 | Z41: PODIEL 2018 | AA41: PODIEL 2017
B42: Non video display | C42: =E7 -> 88625773 | D42: 82761556 | E42: =C42/D42-1 -> 0.070856769 | F42: =Výdavky_2023_full_year!C51 -> 72079678 | G42: =Výdavky_2022_full_year!C51 -> 68209725 | H42: 69962777 | I42: 55211440 | J42: 55741283 | K42: 54536270 | L42: 53440908 | M42: =D42/F42-1 -> 0.14819542 | N42: =F42/G42-1 -> 0.056736089 | O42: =G42/H42-1 -> -0.025056924 | P42: 0.26717899 | Q42: -0.0095053958 | R42: 0.02209562 | S42: 0.020496703 | T42: =D42/$D$50 -> 0.35473993 | U42: =F42/$F$50 -> 0.35207284 | V42: =G42/$G$50 -> 0.36082365 | W42: 0.37936396 | X42: 0.39418877 | Y42: 0.40736399 | Z42: 0.42534798 | AA42: 0.45377397
B43: Paid for search | C43: =E8 -> 51587408 | D43: 46398437 | E43: =C43/D43-1 -> 0.11183503 | F43: =Výdavky_2023_full_year!C52 -> 42510023 | G43: =Výdavky_2022_full_year!C52 -> 41037339 | H43: 40187709 | I43: 30268702 | J43: 30128735 | K43: 29023726 | L43: 26786329 | M43: =D43/F43-1 -> 0.091470528 | N43: =F43/G43-1 -> 0.03588644 | O43: =G43/H43-1 -> 0.021141539 | P43: 0.32769847 | Q43: 0.004645621 | R43: 0.038072597 | S43: 0.08352759 | T43: =D43/$D$50 -> 0.1988771 | U43: =F43/$F$50 -> 0.20764 | V43: =G43/$G$50 -> 0.21708403 | W43: 0.21791257 | X43: 0.21610706 | Y43: 0.22018441 | Z43: 0.22636648 | AA43: 0.22744634
B44: Video display | C44: =E9 -> 57030869 | D44: 49495938 | E44: =C44/D44-1 -> 0.15223333 | F44: =Výdavky_2023_full_year!C53 -> 42706170 | G44: =Výdavky_2022_full_year!C53 -> 39393836 | H44: 39759061 | I44: 28887354 | J44: 25175706 | K44: 22225424 | L44: 19625070 | M44: =D44/F44-1 -> 0.15898797 | N44: =F44/G44-1 -> 0.084082552 | O44: =G44/H44-1 -> -0.0091859564 | P44: 0.37634831 | Q44: 0.14742975 | R44: 0.13274357 | S44: 0.13250162 | T44: =D44/$D$50 -> 0.21215388 | U44: =F44/$F$50 -> 0.20859808 | V44: =G44/$G$50 -> 0.20839004 | W44: 0.21558828 | X44: 0.20624476 | Y44: 0.18398708 | Z44: 0.17334407 | AA44: 0.16663912
B45: Classifieds and directories | C45: =E10 -> 30498425 | D45: 31843076 | E45: =C45/D45-1 -> -0.04222744 | F45: =Výdavky_2023_full_year!C54 -> 26710574 | G45: =Výdavky_2022_full_year!C54 -> 22961871 | H45: 20526521 | I45: 16495648 | J45: 18078714 | K45: 16074435 | L45: 13187804 | M45: =D45/F45-1 -> 0.19215243 | N45: =F45/G45-1 -> 0.16325775 | O45: =G45/H45-1 -> 0.11864407 | P45: 0.24435979 | Q45: -0.087565189 | R45: 0.12468739 | S45: 0.21888639 | T45: =D45/$D$50 -> 0.13648862 | U45: =F45/$F$50 -> 0.13046767 | V45: =G45/$G$50 -> 0.12146635 | W45: 0.11130236 | X45: 0.11777268 | Y45: 0.13212141 | Z45: 0.1253703 | AA45: 0.11197942
B46: Native | C46: =E11 -> 16450310 | D46: 14833697 | E46: =C46/D46-1 -> 0.10898248 | F46: =Výdavky_2023_full_year!C55 -> 13028809 | G46: =Výdavky_2022_full_year!C55 -> 10158251 | H46: 10283778 | I46: 6963053 | J46: 6202853 | K46: 4163961.4 | L46: 3017230.5 | M46: =D46/F46-1 -> 0.13853052 | N46: =F46/G46-1 -> 0.28258392 | O46: =G46/H46-1 -> -0.012206312 | P46: 0.47690647 | Q46: 0.12255651 | R46: 0.4896519 | S46: 0.38006077 | T46: =D46/$D$50 -> 0.06358151 | U46: =F46/$F$50 -> 0.063639156 | V46: =G46/$G$50 -> 0.053736284 | W46: 0.055762435 | X46: 0.049713561 | Y46: 0.045331194 | Z46: 0.032476232 | AA46: 0.025619712
B47: Other | C47: =E12 -> 8567137.8 | D47: 7969354.2 | E47: =C47/D47-1 -> 0.075010289 | F47: =Výdavky_2023_full_year!C56 -> 7694193 | G47: =Výdavky_2022_full_year!C56 -> 7277933 | H47: 3701406 | I47: 2237257 | J47: 1506805 | K47: 2191838 | L47: 1712542.7 | M47: =D47/F47-1 -> 0.035762191 | N47: =F47/G47-1 -> 0.057194811 | O47: =G47/H47-1 -> 0.96626174 | P47: 0.65443934 | Q47: 0.48476877 | R47: -0.31253814 | S47: 0.27987349 | T47: =D47/$D$50 -> 0.034158954 | U47: =F47/$F$50 -> 0.037582249 | V47: =G47/$G$50 -> 0.038499647 | W47: 0.020070388 | X47: 0.015973167 | Y47: 0.011011912 | Z47: 0.017094933 | AA47: 0.014541431
B48: - z toho affiliate reklama | C48: 3835534.2 | D48: 3945930 | E48: =C48/D48-1 -> -0.027977131 | F48: =Výdavky_2023_full_year!C57 -> 3948500 | G48: =Výdavky_2022_full_year!C57 -> 4250128 | H48: n/a | M48: =D48/F48-1 -> -0.00065088008 | N48: =F48/G48-1 -> -0.070969157 | O48: n/a | T48: =D48/$D$50 -> 0.016913396 | U48: =F48/$F$50 -> 0.019286429 | V48: =G48/$G$50 -> 0.022482816
B49: - z toho digitálna audio reklama | C49: 3823323 | D49: 3199023 | E49: =C49/D49-1 -> 0.19515333 | F49: =Výdavky_2023_full_year!C58 -> 2334865.3 | G49: =Výdavky_2022_full_year!C58 -> 1688755.3 | H49: 1153066 | M49: =D49/F49-1 -> 0.37011032 | N49: =F49/G49-1 -> 0.38259537 | O49: =G49/H49-1 -> 0.46457818 | T49: =D49/$D$50 -> 0.013711936 | U49: =F49/$F$50 -> 0.011404638 | V49: =G49/$G$50 -> 0.008933372
B50: TOTAL | C50: =SUM(C42:C47) -> 2.5275992e+08 | D50: =SUM(D42:D47) -> 2.3330206e+08 | E50: =C50/D50-1 -> 0.083402023 | F50: =SUM(F42:F47) -> 2.0472945e+08 | G50: =SUM(G42:G47) -> 189038955 | H50: 184421252 | I50: 1.4006345e+08 | J50: 136834096 | K50: 1.2821565e+08 | L50: 1.1776988e+08 | M50: =D50/F50-1 -> 0.13956278 | N50: =F50/G50-1 -> 0.083001375 | O50: =G50/H50-1 -> 0.025038888 | P50: 0.31669788 | Q50: 0.023600534 | R50: 0.067218324 | S50: 0.088696448 | T50: =D50/$D$50 -> 1 | U50: =F50/$F$50 -> 1 | V50: 1 | W50: 1 | X50: 1 | Y50: 1 | Z50: 1
B53: Vývoj Programmatic display | C53: 2025 | D53: 2024 | E53: 2025/2024 | F53: 2023 | G53: 2022 | H53: 2021 | I53: 2020 | J53: 2024/2023 | K53: 2023/2022 | L53: 2022/2021 | M53: 2021/2020 | N53: PODIEL 2024 | O53: PODIEL 2023 | P53: PODIEL 2022 | Q53: PODIEL 2021 | R53: PODIEL 2020
B54: Non-programmatic display | C54: =E22 -> 31820481 | D54: 29738791 | E54: =C54/D54-1 -> 0.06999913 | F54: =Výdavky_2023_full_year!C68 -> 24189561 | G54: =Výdavky_2022_full_year!C68 -> 21193696 | H54: =H56-H55 -> 25388912 | I54: =I56-I55 -> 20111926 | J54: =D54/F54-1 -> 0.22940598 | K54: =F54/G54-1 -> 0.14135646 | L54: =G54/H54-1 -> -0.16523814 | M54: =H54/I54-1 -> 0.26238093 | N54: =D54/$D$56 -> 0.22485525 | O54: =F54/$F$56 -> 0.21073644 | P54: =G54/G$56 -> 0.19696091 | Q54: =H54/H$56 -> 0.23139343 | R54: =I54/I$56 -> 0.23914643
B55: Programmatic display | C55: =E23 -> 1.1383616e+08 | D55: 1.025187e+08 | E55: =C55/D55-1 -> 0.11039409 | F55: =Výdavky_2023_full_year!C69 -> 90596287 | G55: =Výdavky_2022_full_year!C69 -> 86409865 | H55: 84332926 | I55: 63986868 | J55: =D55/F55-1 -> 0.13159938 | K55: =F55/G55-1 -> 0.048448421 | L55: =G55/H55-1 -> 0.02462786 | M55: =H55/I55-1 -> 0.3179724 | N55: =D55/$D$56 -> 0.77514475 | O55: =F55/$F$56 -> 0.78926356 | P55: =G55/G$56 -> 0.80303909 | Q55: =H55/H$56 -> 0.76860657 | R55: =I55/I$56 -> 0.76085357
B56: TOTAL | C56: =SUM(C54:C55) -> 1.4565664e+08 | D56: =SUM(D54:D55) -> 1.3225749e+08 | E56: =C56/D56-1 -> 0.10131107 | F56: =SUM(F54:F55) -> 1.1478585e+08 | G56: =SUM(G54:G55) -> 107603561 | H56: =Výdavky_2021!E7+Výdavky_2021!E9 -> 109721838 | I56: =Výdavky_2020!E8+Výdavky_2020!E10 -> 84098794 | J56: =D56/F56-1 -> 0.1522108 | K56: =F56/G56-1 -> 0.066747673 | L56: =G56/H56-1 -> -0.019305883 | M56: =H56/I56-1 -> 0.3046779 | N56: =D56/$D$56 -> 1 | O56: =F56/$F$56 -> 1 | P56: =SUM(P54:P55) -> 1 | Q56: =SUM(Q54:Q55) -> 1 | R56: =SUM(R54:R55) -> 1
B57: Poznámka: pre možnosť porovnania boli hodnoty z roka 2020 prepočítané novou metodikou pre programmatic reklamu.
...

Sheet Výdavky_2025_1HY
B2: VÝDAVKY DO INTERNETOVEJ REKLAMY V PRVOM POLROKU 2025
B4: 1HY 2025 - výdavky podľa FORMÁTU
B6: FORMÁT REKLAMY | C6: 1HY 2025 | D6: 1HY 2024 | E6: ZMENA | F6: % PODIEL
B7: Non video display | C7: 38532495 | D7: 36371102 | E7: =C7/D7-1 -> 0.059426102 | F7: =C7/$C$15 -> 0.34612582
B8: Paid for search | C8: 22967021 | D8: 21070661 | E8: =C8/D8-1 -> 0.09000001 | F8: =C8/$C$15 -> 0.20630585
B9: Video display | C9: 23967263 | D9: 19855798 | E9: =C9/D9-1 -> 0.20706624 | F9: =C9/$C$15 -> 0.21529072
B10: Classifieds and directories | C10: 15459402 | D10: 16516714 | E10: =C10/D10-1 -> -0.064014648 | F10: =C10/$C$15 -> 0.13886716
B11: Native | C11: 6794191 | D11: 6634193 | E11: =C11/D11-1 -> 0.024117184 | F11: =C11/$C$15 -> 0.061030175
B12: Other | C12: 3604738 | D12: 3528096.2 | E12: =C12/D12-1 -> 0.021723274 | F12: =C12/$C$15 -> 0.032380278
B13: - z toho affiliate reklama | C13: 1510886 | D13: 1573840 | E13: =C13/D13-1 -> -0.040000254 | F13: =C13/$C$15 -> 0.013571835
B14: - z toho digitálna audio reklama | C14: 1552479 | D14: 1444750 | E14: =C14/D14-1 -> 0.074565842 | F14: =C14/$C$15 -> 0.013945452
B15: TOTAL | C15: =SUM(C7:C12) -> 111325110 | D15: =D7+D8+D9+D10+D11+D12 -> 1.0397656e+08 | E15: =C15/D15-1 -> 0.070675024 | F15: =C15/$C$15 -> 1
B19: 1HY 2025 - PODIEL PROGRAMMATIC DISPLAY NA CELKOVOM DISPLAY
B21: DISPLAY | C21: 1HY 2025 | D21: 1HY 2024 | E21: ZMENA | F21: % PODIEL
B22: Non-programmatic display | C22: =(C7+C9)-C23 -> 12982218 | D22: 11928120 | E22: =C22/D22-1 -> 0.088370796 | F22: =C22/$C$24 -> 0.20771629
B23: Programmatic display | C23: 49517540 | D23: 44298780 | E23: =C23/D23-1 -> 0.11780823 | F23: =C23/$C$24 -> 0.79228371
B24: DISPLAY SPOLU vrátane Video | C24: =SUM(C22:C23) -> 62499758 | D24: =D7+D9 -> 56226900 | E24: =C24/D24-1 -> 0.11156329 | F24: =C24/$C$24 -> 1
B26: Poznámka: Na začiatku roka 2021 došlo k zmene metodiky v prípade programmatic reklamy a to v súlade so štandardmi medzinárodného združenie IAB Europe. Definícia programmatic display reklamy bola rozšírená a zahŕňa všetku reklamu, ktorá bola nakupovaná akýmkoľvek automatizovaným spôsobom. Čiže do programmatic výdavkov sú zahrnuté investície zrealizované cez DSP platformy, cez reklamné nástroje Google Ads, DV360 a Facebook Ads.
B31: 1HY 2025 - PODIEL VIDEO DISPLAY NA CELKOVOM DISPLAY
B33: Display | C33: 1HY 2025 | D33: 1HY 2024 | E33: ZMENA | F33: % PODIEL
B34: Non-video display | C34: =C7 -> 38532495 | D34: 36371102 | E34: =C34/D34-1 -> 0.059426102 | F34: =C34/C36 -> 0.61652231
B35: Video display | C35: =C9 -> 23967263 | D35: 19855798 | E35: =C35/D35-1 -> 0.20706624 | F35: =C35/C36 -> 0.38347769
B36: DISPLAY SPOLU vrátane Video | C36: =C7+C9 -> 62499758 | D36: =SUM(D34:D35) -> 56226900 | E36: =C36/D36-1 -> 0.11156329 | F36: =SUM(F34:F35) -> 1
B39: VÝVOJ VÝDAVKOV DO INTERNETOVEJ REKLAMY MEDZIROČNÉ POROVNANIE PRVÉ POLROKY
B41: REKLAMNÝ FORMÁT | C41: 1HY 2025 | D41: 1HY 2024 | E41: 1HY 2023 | F41: 1HY 2022 | G41: 1HY 2021 | H41: 1HY 2020 | I41: 1HY 2019 | J41: 2025/2024 | K41: 2024/2023 | L41: 2023/2022 | M41: 2022/2021 | N41: 2021/2020 | O41: 2020/2019 | P41: PODIEL 1HY 2025 | Q41: PODIEL 1HY 2024 | R41: PODIEL 1HY 2023 | S41: PODIEL 1HY 2022 | T41: PODIEL 1HY 2021 | U41: PODIEL 1HY 2020 | V41: PODIEL 1HY 2019
B42: Non video display | C42: =C7 -> 38532495 | D42: 36371102 | E42: 32747701 | F42: 31331893 | G42: 30256737 | H42: 24053985 | I42: 26122052 | J42: =C42/D42-1 -> 0.059426102 | K42: 0.11064597 | L42: 0.045187441 | M42: 0.035534433 | N42: 0.25786796 | O42: -0.079169386 | P42: =C42/$C$48 -> 0.34612582 | Q42: =D42/$D$48 -> 0.34980096 | R42: 0.35 | S42: 0.36057548 | T42: 0.38449404 | U42: 0.39079394 | V42: 0.41066475
B43: Paid for search | C43: =C8 -> 22967021 | D43: 21070661 | E43: 19692207 | F43: 19306085 | G43: 17550986 | H43: 13500759 | I43: 14602862 | J43: =C43/D43-1 -> 0.09000001 | K43: 0.069999989 | L43: 0.020000016 | M43: 0.10000002 | N43: 0.29999997 | O43: -0.075471712 | P43: =C43/$C$48 -> 0.20630585 | Q43: =D43/$D$48 -> 0.20264818 | R43: 0.21 | S43: 0.22217939 | T43: 0.22303296 | U43: 0.21934057 | V43: 0.22957157
B44: Video display | C44: =C9 -> 23967263 | D44: 19855798 | E44: 18535146 | F44: 16715979 | G44: 16027187 | H44: 12287379 | I44: 10629730 | J44: =C44/D44-1 -> 0.20706624 | K44: 0.071251201 | L44: 0.10882804 | M44: 0.042976475 | N44: 0.30436176 | O44: 0.15594457 | P44: =C44/$C$48 -> 0.21529072 | Q44: =D44/$D$48 -> 0.19096416 | R44: 0.2 | S44: 0.19237178 | T44: 0.20366895 | U44: 0.19962735 | V44: 0.16710998
B45: Classifieds and directories | C45: =C10 -> 15459402 | D45: 16516714 | E45: 13267414 | F45: 11706740 | G45: 9290618 | H45: 8272290.4 | I45: 9130513.8 | J45: =C45/D45-1 -> -0.064014648 | K45: 0.24490833 | L45: 0.1333141 | M45: 0.26006042 | N45: 0.12310105 | O45: -0.093995082 | P45: =C45/$C$48 -> 0.13886716 | Q45: =D45/$D$48 -> 0.15885035 | R45: 0.14 | S45: 0.13472417 | T45: 0.11806254 | U45: 0.13439607 | V45: 0.1435408
B46: Native | C46: =C11 -> 6794191 | D46: 6634193 | E46: 5613923.4 | F46: 4568782 | G46: 4103694 | H46: 2599528.1 | I46: 2598781.8 | J46: =C46/D46-1 -> 0.024117184 | K46: 0.18173914 | L46: 0.22875711 | M46: 0.11333399 | N46: 0.57863037 | O46: 0.00028716955 | P46: =C46/$C$48 -> 0.061030175 | Q46: =D46/$D$48 -> 0.063804695 | R46: 0.06 | S46: 0.052578717 | T46: 0.052148581 | U46: 0.042233328 | V46: 0.040855446
B47: Other | C47: =C12 -> 3604738 | D47: 3528096.2 | E47: 3231599 | F47: 3264653 | G47: 1463121 | H47: 837640 | I47: 525250.46 | J47: =C47/D47-1 -> 0.021723274 | K47: 0.091749379 | L47: -0.010124813 | M47: 1.2312939 | N47: 0.74671816 | O47: 0.59474396 | P47: =C47/$C$48 -> 0.032380278 | Q47: =D47/$D$48 -> 0.033931648 | R47: 0.04 | S47: 0.037570466 | T47: 0.018592927 | U47: 0.013608749 | V47: 0.0082574619
B48: TOTAL | C48: =SUM(C42:C47) -> 111325110 | D48: 1.0397656e+08 | E48: 93087990 | F48: 86894132 | G48: 78692343 | H48: 61551581 | I48: 63609190 | J48: =C48/D48-1 -> 0.070675024 | K48: 0.11697077 | L48: 0.071280512 | M48: 0.10422601 | N48: 0.27847801 | O48: -0.032347663 | P48: =C48/$C$48 -> 1 | Q48: =D48/$D$48 -> 1 | R48: 1 | S48: 1 | T48: 1 | U48: 1 | V48: 1
B50: Vývoj Programmatic display | C50: 1HY 2025 | D50: 1HY 2024 | E50: 1HY 2023 | F50: 1HY 2022 | G50: 1HY 2021 | H50: 1HY 2020 | I50: 1HY 2019 | J50: 2025/2024 | K50: 2024/2023 | L50: 2023/2022 | M50: 2022/2021 | N50: 2021/2020 | O50: 2020/2019 | P50: PODIEL 1HY 2025 | Q50: PODIEL 1HY 2024 | R50: PODIEL 1HY 2023 | S50: PODIEL 1HY 2022 | T50: PODIEL 1HY 2021 | U50: PODIEL 1HY 2020 | V50: PODIEL 1HY 2019
B51: Non-programmatic display | C51: =C22 -> 12982218 | D51: 11928120 | E51: 10928918 | F51: 8895012 | G51: 10406201 | H51: 8882048.5 | I51: 9893204.7 | J51: =C51/D51-1 -> 0.088370796 | K51: 0.09142734 | L51: 0.22865695 | M51: -0.14522005 | N51: 0.17159921 | O51: -0.10220715 | P51: =C51/C53 -> 0.20771629 | Q51: =D51/D53 -> 0.21214259 | R51: 0.2131106 | S51: 0.18512812 | T51: 0.22483403 | U51: 0.24440603 | V51: 0.2691898
B52: Programmatic display | C52: =C23 -> 49517540 | D52: 44298780 | E52: 40353929 | F52: 39152860 | G52: 35877723 | H52: 27459315 | I52: 26858577 | J52: =C52/D52-1 -> 0.11780823 | K52: 0.097756296 | L52: 0.030676405 | M52: 0.091286089 | N52: 0.30657748 | O52: 0.022366717 | P52: =C52/C53 -> 0.79228371 | Q52: =D52/D53 -> 0.78785741 | R52: 0.7868894 | S52: 0.81487188 | T52: 0.77516597 | U52: 0.75559397 | V52: 0.7308102
B53: TOTAL | C53: =SUM(C51:C52) -> 62499758 | D53: 56226900 | E53: 51282847 | F53: 48047872 | G53: 46283924 | H53: 36341364 | I53: 36751782 | J53: =C53/D53-1 -> 0.11156329 | K53: 0.096407528 | L53: 0.06732817 | M53: 0.038111462 | N53: 0.27358798 | O53: -0.011167298 | P53: =SUM(P51:P52) -> 1 | Q53: =SUM(Q51:Q52) -> 1 | R53: 1 | S53: 1 | T53: 1 | U53: 1 | V53: 1
B54: Poznámka: pre možnosť porovnania boli hodnoty z roka 2020 a 2019 prepočítané novou metodikou pre programmatic reklamu.
B56: Vývoj Video display | C56: 1HY 2025 | D56: 1HY 2024 | E56: 1 HY 2023 | F56: 1HY 2022 | G56: 1HY 2021 | H56: 1HY 2020 | I56: 1HY 2019 | J56: 2025/2024 | K56: 2024/2023 | L56: 2023/2022 | M56: 2022/2021 | N56: 2021/2020 | O56: 2020/2019 | P56: PODIEL 1HY 2025 | Q56: PODIEL 1HY 2024 | R56: PODIEL 1HY 2023 | S56: PODIEL 1HY 2022 | T56: PODIEL 1HY 2021 | U56: PODIEL 1HY 2020 | V56: PODIEL 1HY 2019
B57: Non-video display | C57: =C34 -> 38532495 | D57: 36371102 | E57: 32747701 | F57: 31331893 | G57: 30256737 | H57: 24053985 | I57: 26122052 | J57: =C57/D57-1 -> 0.059426102 | K57: 0.11064597 | L57: 0.045187441 | M57: 0.035534433 | N57: 0.25786796 | O57: -0.079169386 | P57: 0.61622848 | Q57: =D57/D59 -> 0.64686302 | R57: 0.63857026 | S57: 0.65209741 | T57: 0.65372022 | U57: 0.66188999 | V57: 0.71076967
B58: Video display | C58: =C35 -> 23967263 | D58: 19855798 | E58: 18535146 | F58: 16715979 | G58: 16027187 | H58: 12287379 | I58: 10629730 | J58: =C58/D58-1 -> 0.20706624 | K58: 0.071251201 | L58: 0.10882804 | M58: 0.042976475 | N58: 0.30436176 | O58: 0.15594457 | P58: 0.38377152 | Q58: =D58/D59 -> 0.35313698 | R58: 0.36142974 | S58: 0.34790259 | T58: 0.34627978 | U58: 0.33811001 | V58: 0.28923033
...

Sheet Výdavky_2024_full_year
B2: VÝDAVKY DO INTERNETOVEJ REKLAMY ZA ROK 2024
B4: 2024 - výdavky podľa FORMÁTU
B6: FORMÁT REKLAMY | C6: 1HY 2024 | D6: 2HY 2024 | E6: TOTAL | F6: % PODIEL
B7: Non video display | C7: 36371102 | D7: 46390454 | E7: =C7+D7 -> 82761556 | F7: =E7/$E$15 -> 0.35473993
B8: Paid for search | C8: 21070661 | D8: 25327776 | E8: =C8+D8 -> 46398437 | F8: =E8/$E$15 -> 0.1988771
B9: Video display | C9: 19855798 | D9: 29640140 | E9: =C9+D9 -> 49495938 | F9: =E9/$E$15 -> 0.21215388
B10: Classifieds and directories | C10: 16516714 | D10: 15326363 | E10: =C10+D10 -> 31843076 | F10: =E10/$E$15 -> 0.13648862
B11: Native | C11: 6634193 | D11: 8199504.2 | E11: =C11+D11 -> 14833697 | F11: =E11/$E$15 -> 0.06358151
B12: Other | C12: 3528096.2 | D12: 4441258 | E12: =C12+D12 -> 7969354.2 | F12: =E12/$E$15 -> 0.034158954
B13: - z toho affiliate reklama | C13: 1573840 | D13: 2372090 | E13: =C13+D13 -> 3945930 | F13: =E13/$E$15 -> 0.016913396
B14: - z toho digitálna audio reklama | C14: 1444750 | D14: 1754273 | E14: =C14+D14 -> 3199023 | F14: =E14/$E$15 -> 0.013711936
B15: TOTAL | C15: =SUM(C7:C12) -> 1.0397656e+08 | D15: =D7+D8+D9+D10+D11+D12 -> 1.2932549e+08 | E15: =SUM(E7:E12) -> 2.3330206e+08 | F15: =E15/$E$15 -> 1
B17: Poznámka: Na začiatku roka 2022 sme v IAB Slovakia začali monitorovať affiliate reklamu ako separátny formát.
B19: 2024 - PODIEL PROGRAMMATIC DISPLAY NA CELKOVOM DISPLAY
B21: DISPLAY | C21: 1HY 2024 | D21: 2HY 2024 | E21: TOTAL | F21: % PODIEL
B22: Non-programmatic display | C22: 11928120 | D22: =D24-D23 -> 17810671 | E22: =SUM(C22:D22) -> 29738791 | F22: =E22/$E$24 -> 0.22485525
B23: Programmatic display | C23: 44298780 | D23: 58219923 | E23: =SUM(C23:D23) -> 1.025187e+08 | F23: =E23/$E$24 -> 0.77514475
B24: DISPLAY SPOLU vrátane Video | C24: =SUM(C22:C23) -> 56226900 | D24: =D7+D9 -> 76030594 | E24: =SUM(C24:D24) -> 1.3225749e+08 | F24: =E24/$E$24 -> 1
B26: Poznámka: Na začiatku roka 2021 došlo k zmene metodiky v prípade programmatic reklamy a to v súlade so štandardmi medzinárodného združenie IAB Europe. Definícia programmatic display reklamy bola rozšírená a zahŕňa všetku reklamu, ktorá bola nakupovaná akýmkoľvek automatizovaným spôsobom. Čiže do programmatic výdavkov sú zahrnuté investície zrealizované cez DSP platformy, cez reklamné nástroje Google Ads, DV360 a Facebook Ads.
B31: 2024 - PODIEL VIDEO DISPLAY NA CELKOVOM DISPLAY
B33: Display | C33: 1HY 2024 | D33: 2HY 2024 | E33: TOTAL | F33: % PODIEL
B34: Non-video display | C34: =C7 -> 36371102 | D34: =D7 -> 46390454 | E34: =SUM(C34:D34) -> 82761556 | F34: =E34/$E$24 -> 0.62576081
B35: Video display | C35: =C9 -> 19855798 | D35: =D9 -> 29640140 | E35: =SUM(C35:D35) -> 49495938 | F35: =E35/$E$24 -> 0.37423919
B36: DISPLAY SPOLU vrátane Video | C36: =C7+C9 -> 56226900 | D36: =SUM(D34:D35) -> 76030594 | E36: =SUM(C36:D36) -> 1.3225749e+08 | F36: =E36/$E$24 -> 1
B39: VÝVOJ VÝDAVKOV DO INTERNETOVEJ REKLAMY MEDZIROČNÉ POROVNANIE 2024/2023
B41: REKLAMNÝ FORMÁT | C41: 2024 | D41: 2023 | E41: 2022 | F41: 2021 | G41: 2020 | H41: 2019 | I41: 2018 | J41: 2017 | K41: 2024/2023 | L41: 2023/2022 | M41: 2022/2021 | N41: 2021/2020 | O41: 2020/2019 | P41: 2019/2018 | Q41: 2018/2017 | R41: PODIEL 2024 | S41: PODIEL 2023 | T41: PODIEL 2O22 | U41: PODIEL 2021 | V41: PODIEL 2020 | W41: PODIEL 2019 | X41: PODIEL 2018 | Y41: PODIEL 2017
B42: Non video display | C42: =C7+D7 -> 82761556 | D42: =Výdavky_2023_full_year!C51 -> 72079678 | E42: =Výdavky_2022_full_year!C51 -> 68209725 | F42: 69962777 | G42: 55211440 | H42: 55741283 | I42: 54536270 | J42: 53440908 | K42: =C42/D42-1 -> 0.14819542 | L42: =D42/E42-1 -> 0.056736089 | M42: =E42/F42-1 -> -0.025056924 | N42: 0.26717899 | O42: -0.0095053958 | P42: 0.02209562 | Q42: 0.020496703 | R42: =C42/$C$50 -> 0.35473993 | S42: =D42/$D$50 -> 0.35207284 | T42: =E42/$E$50 -> 0.36082365 | U42: 0.37936396 | V42: 0.39418877 | W42: 0.40736399 | X42: 0.42534798 | Y42: 0.45377397
B43: Paid for search | C43: =C8+D8 -> 46398437 | D43: =Výdavky_2023_full_year!C52 -> 42510023 | E43: =Výdavky_2022_full_year!C52 -> 41037339 | F43: 40187709 | G43: 30268702 | H43: 30128735 | I43: 29023726 | J43: 26786329 | K43: =C43/D43-1 -> 0.091470528 | L43: =D43/E43-1 -> 0.03588644 | M43: =E43/F43-1 -> 0.021141539 | N43: 0.32769847 | O43: 0.004645621 | P43: 0.038072597 | Q43: 0.08352759 | R43: =C43/$C$50 -> 0.1988771 | S43: =D43/$D$50 -> 0.20764 | T43: =E43/$E$50 -> 0.21708403 | U43: 0.21791257 | V43: 0.21610706 | W43: 0.22018441 | X43: 0.22636648 | Y43: 0.22744634
B44: Video display | C44: =C9+D9 -> 49495938 | D44: =Výdavky_2023_full_year!C53 -> 42706170 | E44: =Výdavky_2022_full_year!C53 -> 39393836 | F44: 39759061 | G44: 28887354 | H44: 25175706 | I44: 22225424 | J44: 19625070 | K44: =C44/D44-1 -> 0.15898797 | L44: =D44/E44-1 -> 0.084082552 | M44: =E44/F44-1 -> -0.0091859564 | N44: 0.37634831 | O44: 0.14742975 | P44: 0.13274357 | Q44: 0.13250162 | R44: =C44/$C$50 -> 0.21215388 | S44: =D44/$D$50 -> 0.20859808 | T44: =E44/$E$50 -> 0.20839004 | U44: 0.21558828 | V44: 0.20624476 | W44: 0.18398708 | X44: 0.17334407 | Y44: 0.16663912
B45: Classifieds and directories | C45: =C10+D10 -> 31843076 | D45: =Výdavky_2023_full_year!C54 -> 26710574 | E45: =Výdavky_2022_full_year!C54 -> 22961871 | F45: 20526521 | G45: 16495648 | H45: 18078714 | I45: 16074435 | J45: 13187804 | K45: =C45/D45-1 -> 0.19215243 | L45: =D45/E45-1 -> 0.16325775 | M45: =E45/F45-1 -> 0.11864407 | N45: 0.24435979 | O45: -0.087565189 | P45: 0.12468739 | Q45: 0.21888639 | R45: =C45/$C$50 -> 0.13648862 | S45: =D45/$D$50 -> 0.13046767 | T45: =E45/$E$50 -> 0.12146635 | U45: 0.11130236 | V45: 0.11777268 | W45: 0.13212141 | X45: 0.1253703 | Y45: 0.11197942
B46: Native | C46: =C11+D11 -> 14833697 | D46: =Výdavky_2023_full_year!C55 -> 13028809 | E46: =Výdavky_2022_full_year!C55 -> 10158251 | F46: 10283778 | G46: 6963053 | H46: 6202853 | I46: 4163961.4 | J46: 3017230.5 | K46: =C46/D46-1 -> 0.13853052 | L46: =D46/E46-1 -> 0.28258392 | M46: =E46/F46-1 -> -0.012206312 | N46: 0.47690647 | O46: 0.12255651 | P46: 0.4896519 | Q46: 0.38006077 | R46: =C46/$C$50 -> 0.06358151 | S46: =D46/$D$50 -> 0.063639156 | T46: =E46/$E$50 -> 0.053736284 | U46: 0.055762435 | V46: 0.049713561 | W46: 0.045331194 | X46: 0.032476232 | Y46: 0.025619712
B47: Other | C47: =C12+D12 -> 7969354.2 | D47: =Výdavky_2023_full_year!C56 -> 7694193 | E47: =Výdavky_2022_full_year!C56 -> 7277933 | F47: 3701406 | G47: 2237257 | H47: 1506805 | I47: 2191838 | J47: 1712542.7 | K47: =C47/D47-1 -> 0.035762191 | L47: =D47/E47-1 -> 0.057194811 | M47: =E47/F47-1 -> 0.96626174 | N47: 0.65443934 | O47: 0.48476877 | P47: -0.31253814 | Q47: 0.27987349 | R47: =C47/$C$50 -> 0.034158954 | S47: =D47/$D$50 -> 0.037582249 | T47: =E47/$E$50 -> 0.038499647 | U47: 0.020070388 | V47: 0.015973167 | W47: 0.011011912 | X47: 0.017094933 | Y47: 0.014541431
B48: - z toho affiliate reklama | C48: =C13+D13 -> 3945930 | D48: =Výdavky_2023_full_year!C57 -> 3948500 | E48: =Výdavky_2022_full_year!C57 -> 4250128 | F48: n/a | K48: =C48/D48-1 -> -0.00065088008 | L48: =D48/E48-1 -> -0.070969157 | M48: n/a | R48: =C48/$C$50 -> 0.016913396 | S48: =D48/$D$50 -> 0.019286429 | T48: =E48/$E$50 -> 0.022482816
B49: - z toho digitálna audio reklama | C49: =C14+D14 -> 3199023 | D49: =Výdavky_2023_full_year!C58 -> 2334865.3 | E49: =Výdavky_2022_full_year!C58 -> 1688755.3 | F49: 1153066 | K49: =C49/D49-1 -> 0.37011032 | L49: =D49/E49-1 -> 0.38259537 | M49: =E49/F49-1 -> 0.46457818 | R49: =C49/$C$50 -> 0.013711936 | S49: =D49/$D$50 -> 0.011404638 | T49: =E49/$E$50 -> 0.008933372
B50: TOTAL | C50: =SUM(C42:C47) -> 2.3330206e+08 | D50: =SUM(D42:D47) -> 2.0472945e+08 | E50: =SUM(E42:E47) -> 189038955 | F50: 184421252 | G50: 1.4006345e+08 | H50: 136834096 | I50: 1.2821565e+08 | J50: 1.1776988e+08 | K50: =C50/D50-1 -> 0.13956278 | L50: =D50/E50-1 -> 0.083001375 | M50: =E50/F50-1 -> 0.025038888 | N50: 0.31669788 | O50: 0.023600534 | P50: 0.067218324 | Q50: 0.088696448 | R50: =C50/$C$50 -> 1 | S50: =D50/$D$50 -> 1 | T50: 1 | U50: 1 | V50: 1 | W50: 1 | X50: 1
B53: Vývoj Programmatic display | C53: 2024 | D53: 2023 | E53: 2022 | F53: 2021 | G53: 2020 | H53: 2024/2023 | I53: 2023/2022 | J53: 2022/2021 | K53: 2021/2020 | L53: PODIEL 2024 | M53: PODIEL 2023 | N53: PODIEL 2022 | O53: PODIEL 2021 | P53: PODIEL 2020
B54: Non-programmatic display | C54: =C22+D22 -> 29738791 | D54: =Výdavky_2023_full_year!C68 -> 24189561 | E54: =Výdavky_2022_full_year!C68 -> 21193696 | F54: =F56-F55 -> 25388912 | G54: =G56-G55 -> 20111926 | H54: =C54/D54-1 -> 0.22940598 | I54: =D54/E54-1 -> 0.14135646 | J54: =E54/F54-1 -> -0.16523814 | K54: =F54/G54-1 -> 0.26238093 | L54: =C54/$C$56 -> 0.22485525 | M54: =D54/$D$56 -> 0.21073644 | N54: =E54/E$56 -> 0.19696091 | O54: =F54/F$56 -> 0.23139343 | P54: =G54/G$56 -> 0.23914643
B55: Programmatic display | C55: =C23+D23 -> 1.025187e+08 | D55: =Výdavky_2023_full_year!C69 -> 90596287 | E55: =Výdavky_2022_full_year!C69 -> 86409865 | F55: 84332926 | G55: 63986868 | H55: =C55/D55-1 -> 0.13159938 | I55: =D55/E55-1 -> 0.048448421 | J55: =E55/F55-1 -> 0.02462786 | K55: =F55/G55-1 -> 0.3179724 | L55: =C55/$C$56 -> 0.77514475 | M55: =D55/$D$56 -> 0.78926356 | N55: =E55/E$56 -> 0.80303909 | O55: =F55/F$56 -> 0.76860657 | P55: =G55/G$56 -> 0.76085357
B56: TOTAL | C56: =SUM(C54:C55) -> 1.3225749e+08 | D56: =SUM(D54:D55) -> 1.1478585e+08 | E56: =SUM(E54:E55) -> 107603561 | F56: =Výdavky_2021!E7+Výdavky_2021!E9 -> 109721838 | G56: =Výdavky_2020!E8+Výdavky_2020!E10 -> 84098794 | H56: =C56/D56-1 -> 0.1522108 | I56: =D56/E56-1 -> 0.066747673 | J56: =E56/F56-1 -> -0.019305883 | K56: =F56/G56-1 -> 0.3046779 | L56: =C56/$C$56 -> 1 | M56: =D56/$D$56 -> 1 | N56: =SUM(N54:N55) -> 1 | O56: =SUM(O54:O55) -> 1 | P56: =SUM(P54:P55) -> 1
B57: Poznámka: pre možnosť porovnania boli hodnoty z roka 2020 prepočítané novou metodikou pre programmatic reklamu.
...

Sheet Výdavky_2024_1HY
B2: VÝDAVKY DO INTERNETOVEJ REKLAMY ZA PRVÝ POLROK 2024
B4: 1HY 2024 - výdavky podľa FORMÁTU
B6: FORMÁT REKLAMY | C6: 1HY 2024 | D6: 1HY 2023 | E6: % ZMENA | F6: % PODIEL
B7: Non video display | C7: 36371102 | D7: 32747701 | E7: =C7/D7-1 -> 0.11064597 | F7: =C7/$C$15 -> 0.34980096
B8: Paid for search | C8: 21070661 | D8: 19692207 | E8: =C8/D8-1 -> 0.069999989 | F8: =C8/$C$15 -> 0.20264818
B9: Video display | C9: 19855798 | D9: 18535146 | E9: =C9/D9-1 -> 0.071251201 | F9: =C9/$C$15 -> 0.19096416
B10: Classifieds and directories | C10: 16516714 | D10: 13267414 | E10: =C10/D10-1 -> 0.24490833 | F10: =C10/$C$15 -> 0.15885035
B11: Native | C11: 6634193 | D11: 5613923.4 | E11: =C11/D11-1 -> 0.18173914 | F11: =C11/$C$15 -> 0.063804695
B12: Other | C12: 3528096.2 | D12: 3231599 | E12: =C12/D12-1 -> 0.091749379 | F12: =C12/$C$15 -> 0.033931648
B13: - z toho affiliate reklama | C13: 1573840 | D13: 1528000 | E13: =C13/D13-1 -> 0.03 | F13: =C13/$C$15 -> 0.015136488
B14: - z toho digitálna audio reklama | C14: 1444750 | D14: 909012 | E14: =C14/D14-1 -> 0.58936296 | F14: =C14/$C$15 -> 0.013894958
B15: TOTAL | C15: =SUM(C7:C12) -> 1.0397656e+08 | D15: =D7+D8+D9+D10+D11+D12 -> 93087990 | E15: =C15/D15-1 -> 0.11697077 | F15: =C15/$C$15 -> 1
B18: 1HY 2024 - PODIEL PROGRAMMATIC DISPLAY NA CELKOVOM DISPLAY
B20: DISPLAY | C20: 1HY 2024 | D20: 1HY 2023 | E20: % ZMENA | F20: % PODIEL
B21: Non-programmatic display | C21: =C23-C22 -> 11928120 | D21: =D23-D22 -> 10928918 | E21: =C21/D21-1 -> 0.09142734 | F21: =C21/$C$23 -> 0.21214259
B22: Programmatic display | C22: 44298780 | D22: 40353929 | E22: =C22/D22-1 -> 0.097756296 | F22: =C22/$C$23 -> 0.78785741
B23: DISPLAY SPOLU vrátane Video | C23: =C7+C9 -> 56226900 | D23: =D7+D9 -> 51282847 | E23: =C23/D23-1 -> 0.096407528 | F23: =C23/$C$23 -> 1
B25: Poznámka: Programmatic display reklama zahŕňa všetku reklamu, ktorá bola nakupovaná akýmkoľvek automatizovaným spôsobom. Čiže do programmatic výdavkov sú zahrnuté investície zrealizované cez DSP platformy, cez reklamné nástroje Google Ads, DV360 a Facebook Ads.
B29: 1HY 2024 - PODIEL VIDEO DISPLAY NA CELKOVOM DISPLAY
B31: Display | C31: 1HY 2024 | D31: 1HY 2023 | E31: % ZMENA | F31: % PODIEL
B32: Non-video display | C32: =C7 -> 36371102 | D32: =D7 -> 32747701 | E32: =C32/D32-1 -> 0.11064597 | F32: =C32/$C$34 -> 0.64686302
B33: Video display | C33: =C9 -> 19855798 | D33: =D9 -> 18535146 | E33: =C33/D33-1 -> 0.071251201 | F33: =C33/$C$34 -> 0.35313698
B34: DISPLAY SPOLU vrátane Video | C34: =SUM(C32:C33) -> 56226900 | D34: =D7+D9 -> 51282847 | E34: =C34/D34-1 -> 0.096407528 | F34: =C34/$C$34 -> 1
B37: VÝVOJ VÝDAVKOV DO INTERNETOVEJ REKLAMY MEDZIROČNÉ POROVNANIE PRVÉ POLROKY
B39: REKLAMNÝ FORMÁT | C39: 1HY 2024 | D39: 1HY 2023 | E39: 1HY 2022 | F39: 1HY 2021 | G39: 1HY 2020 | H39: 1HY 2019 | I39: 2024/2023 | J39: 2023/2022 | K39: 2022/2021 | L39: 2021/2020 | M39: 2020/2019 | N39: PODIEL 1HY 2023 | O39: PODIEL 1HY 2022 | P39: PODIEL 1HY 2021 | Q39: PODIEL 1HY 2020 | R39: PODIEL 1HY 2019
B40: Non video display | C40: =C7 -> 36371102 | D40: =D7 -> 32747701 | E40: =Výdavky_2022_1HY!C51 -> 31331893 | F40: 30256737 | G40: 24053985 | H40: 26122052 | I40: =C40/D40-1 -> 0.11064597 | J40: =D40/E40-1 -> 0.045187441 | K40: =E40/F40-1 -> 0.035534433 | L40: =F40/G40-1 -> 0.25786796 | M40: =G40/H40-1 -> -0.079169386 | N40: 0.35 | O40: =E40/E$46 -> 0.36057548 | P40: =F40/F$46 -> 0.38449404 | Q40: =G40/G$46 -> 0.39079394 | R40: =H40/H$46 -> 0.41066475
B41: Paid for search | C41: =C8 -> 21070661 | D41: =D8 -> 19692207 | E41: =Výdavky_2022_1HY!C52 -> 19306085 | F41: 17550986 | G41: 13500759 | H41: 14602862 | I41: =C41/D41-1 -> 0.069999989 | J41: =D41/E41-1 -> 0.020000016 | K41: =E41/F41-1 -> 0.10000002 | L41: =F41/G41-1 -> 0.29999997 | M41: =G41/H41-1 -> -0.075471712 | N41: 0.21 | O41: =E41/E$46 -> 0.22217939 | P41: =F41/F$46 -> 0.22303296 | Q41: =G41/G$46 -> 0.21934057 | R41: =H41/H$46 -> 0.22957157
B42: Video display | C42: =C9 -> 19855798 | D42: =D9 -> 18535146 | E42: =Výdavky_2022_1HY!C53 -> 16715979 | F42: 16027187 | G42: 12287379 | H42: 10629730 | I42: =C42/D42-1 -> 0.071251201 | J42: =D42/E42-1 -> 0.10882804 | K42: =E42/F42-1 -> 0.042976475 | L42: =F42/G42-1 -> 0.30436176 | M42: =G42/H42-1 -> 0.15594457 | N42: 0.2 | O42: =E42/E$46 -> 0.19237178 | P42: =F42/F$46 -> 0.20366895 | Q42: =G42/G$46 -> 0.19962735 | R42: =H42/H$46 -> 0.16710998
B43: Classifieds and directories | C43: =C10 -> 16516714 | D43: =D10 -> 13267414 | E43: =Výdavky_2022_1HY!C54 -> 11706740 | F43: 9290618 | G43: 8272290.4 | H43: 9130513.8 | I43: =C43/D43-1 -> 0.24490833 | J43: =D43/E43-1 -> 0.1333141 | K43: =E43/F43-1 -> 0.26006042 | L43: =F43/G43-1 -> 0.12310105 | M43: =G43/H43-1 -> -0.093995082 | N43: 0.14 | O43: =E43/E$46 -> 0.13472417 | P43: =F43/F$46 -> 0.11806254 | Q43: =G43/G$46 -> 0.13439607 | R43: =H43/H$46 -> 0.1435408
B44: Native | C44: =C11 -> 6634193 | D44: =D11 -> 5613923.4 | E44: =Výdavky_2022_1HY!C55 -> 4568782 | F44: 4103694 | G44: 2599528.1 | H44: 2598781.8 | I44: =C44/D44-1 -> 0.18173914 | J44: =D44/E44-1 -> 0.22875711 | K44: =E44/F44-1 -> 0.11333399 | L44: =F44/G44-1 -> 0.57863037 | M44: =G44/H44-1 -> 0.00028716955 | N44: 0.06 | O44: =E44/E$46 -> 0.052578717 | P44: =F44/F$46 -> 0.052148581 | Q44: =G44/G$46 -> 0.042233328 | R44: =H44/H$46 -> 0.040855446
B45: Other | C45: =C12 -> 3528096.2 | D45: =D12 -> 3231599 | E45: =Výdavky_2022_1HY!C56 -> 3264653 | F45: 1463121 | G45: 837640 | H45: 525250.46 | I45: =C45/D45-1 -> 0.091749379 | J45: =D45/E45-1 -> -0.010124813 | K45: =E45/F45-1 -> 1.2312939 | L45: =F45/G45-1 -> 0.74671816 | M45: =G45/H45-1 -> 0.59474396 | N45: 0.04 | O45: =E45/E$46 -> 0.037570466 | P45: =F45/F$46 -> 0.018592927 | Q45: =G45/G$46 -> 0.013608749 | R45: =H45/H$46 -> 0.0082574619
B46: TOTAL | C46: =SUM(C40:C45) -> 1.0397656e+08 | D46: =SUM(D40:D45) -> 93087990 | E46: =SUM(E40:E45) -> 86894132 | F46: =SUM(F40:F45) -> 78692343 | G46: =SUM(G40:G45) -> 61551581 | H46: =SUM(H40:H45) -> 63609190 | I46: =C46/D46-1 -> 0.11697077 | J46: =D46/E46-1 -> 0.071280512 | K46: =E46/F46-1 -> 0.10422601 | L46: =F46/G46-1 -> 0.27847801 | M46: =G46/H46-1 -> -0.032347663 | N46: =D46/$D$46 -> 1 | O46: =SUM(O40:O45) -> 1 | P46: =F15 -> 1 | Q46: =SUM(Q40:Q45) -> 1 | R46: =SUM(R40:R45) -> 1
B48: Vývoj Programmatic display | C48: 1HY 2024 | D48: 1HY 2023 | E48: 1HY 2022 | F48: 1HY 2021 | G48: 1HY 2020 | H48: 1HY 2019 | I48: 2024/2023 | J48: 2023/2022 | K48: 2022/2021 | L48: 2021/2020 | M48: 2020/2019 | N48: PODIEL 1HY 2023 | O48: PODIEL 1HY 2022 | P48: PODIEL 1HY 2021 | Q48: PODIEL 1HY 2020 | R48: PODIEL 1HY 2019
B49: Non-programmatic display | C49: =C21 -> 11928120 | D49: =D21 -> 10928918 | E49: =Výdavky_2022_1HY!C66 -> 8895012 | F49: 10406201 | G49: 8882048.5 | H49: 9893204.7 | I49: =C49/D49-1 -> 0.09142734 | J49: =D49/E49-1 -> 0.22865695 | K49: =E49/F49-1 -> -0.14522005 | L49: =F49/G49-1 -> 0.17159921 | M49: =G49/H49-1 -> -0.10220715 | N49: =D49/D51 -> 0.2131106 | O49: =E49/E$51 -> 0.18512812 | P49: =F49/F$51 -> 0.22483403 | Q49: =G49/G$51 -> 0.24440603 | R49: =H49/H$51 -> 0.2691898
B50: Programmatic display | C50: =C22 -> 44298780 | D50: =D22 -> 40353929 | E50: =Výdavky_2022_1HY!C67 -> 39152860 | F50: 35877723 | G50: 27459315 | H50: 26858577 | I50: =C50/D50-1 -> 0.097756296 | J50: =D50/E50-1 -> 0.030676405 | K50: =E50/F50-1 -> 0.091286089 | L50: =F50/G50-1 -> 0.30657748 | M50: =G50/H50-1 -> 0.022366717 | N50: =D50/D51 -> 0.7868894 | O50: =E50/E$51 -> 0.81487188 | P50: =F50/F$51 -> 0.77516597 | Q50: =G50/G$51 -> 0.75559397 | R50: =H50/H$51 -> 0.7308102
B51: TOTAL | C51: =C23 -> 56226900 | D51: =SUM(D49:D50) -> 51282847 | E51: =SUM(E49:E50) -> 48047872 | F51: =SUM(F49:F50) -> 46283924 | G51: =SUM(G49:G50) -> 36341364 | H51: =SUM(H49:H50) -> 36751782 | I51: =C51/D51-1 -> 0.096407528 | J51: =D51/E51-1 -> 0.06732817 | K51: =E51/F51-1 -> 0.038111462 | L51: =F51/G51-1 -> 0.27358798 | M51: =G51/H51-1 -> -0.011167298 | N51: =SUM(N49:N50) -> 1 | O51: =SUM(O49:O50) -> 1 | P51: =SUM(P49:P50) -> 1 | Q51: =SUM(Q49:Q50) -> 1 | R51: =SUM(R49:R50) -> 1
B52: Poznámka: pre možnosť porovnania boli hodnoty z roka 2020 a 2019 prepočítané novou metodikou pre programmatic reklamu.
B54: Vývoj Video display | C54: 1HY 2024 | D54: 1 HY 2023 | E54: 1HY 2022 | F54: 1HY 2021 | G54: 1HY 2020 | H54: 1HY 2019 | I54: 2024/2022 | J54: 2023/2022 | K54: 2022/2021 | L54: 2021/2020 | M54: 2020/2019 | N54: PODIEL 1HY 2023 | O54: PODIEL 1HY 2022 | P54: PODIEL 1HY 2021 | Q54: PODIEL 1HY 2020 | R54: PODIEL 1HY 2019
B55: Non-video display | C55: =C32 -> 36371102 | D55: =D32 -> 32747701 | E55: =Výdavky_2022_1HY!C72 -> 31331893 | F55: 30256737 | G55: 24053985 | H55: 26122052 | I55: =C55/D55-1 -> 0.11064597 | J55: =D55/E55-1 -> 0.045187441 | K55: =E55/F55-1 -> 0.035534433 | L55: =F55/G55-1 -> 0.25786796 | M55: =G55/H55-1 -> -0.079169386 | N55: =D55/D57 -> 0.63857026 | O55: =E55/E$51 -> 0.65209741 | P55: =F55/F$51 -> 0.65372022 | Q55: =G55/G$51 -> 0.66188999 | R55: =H55/H$51 -> 0.71076967
B56: Video display | C56: =C33 -> 19855798 | D56: =D33 -> 18535146 | E56: =Výdavky_2022_1HY!C73 -> 16715979 | F56: 16027187 | G56: 12287379 | H56: 10629730 | I56: =C56/D56-1 -> 0.071251201 | J56: =D56/E56-1 -> 0.10882804 | K56: =E56/F56-1 -> 0.042976475 | L56: =F56/G56-1 -> 0.30436176 | M56: =G56/H56-1 -> 0.15594457 | N56: =D56/D57 -> 0.36142974 | O56: =E56/E$51 -> 0.34790259 | P56: =F56/F$51 -> 0.34627978 | Q56: =G56/G$51 -> 0.33811001 | R56: =H56/H$51 -> 0.28923033
...

Sheet Výdavky_2023_full_year
B2: VÝDAVKY DO INTERNETOVEJ REKLAMY ZA ROK 2023
B4: 2023 - výdavky podľa FORMÁTU
B6: FORMÁT REKLAMY | C6: 1HY 2023 | D6: 2HY 2023 | E6: TOTAL | F6: % PODIEL
B7: Non video display | C7: =Výdavky_2023_1HY!C7 -> 32747701 | D7: 39331977 | E7: =C7+D7 -> 72079678 | F7: =E7/$E$15 -> 0.35207284
B8: Paid for search | C8: =Výdavky_2023_1HY!C8 -> 19692207 | D8: 22817816 | E8: =C8+D8 -> 42510023 | F8: =E8/$E$15 -> 0.20764
B9: Video display | C9: =Výdavky_2023_1HY!C9 -> 18535146 | D9: 24171024 | E9: =C9+D9 -> 42706170 | F9: =E9/$E$15 -> 0.20859808
B10: Classifieds and directories | C10: =Výdavky_2023_1HY!C10 -> 13267414 | D10: 13443161 | E10: =C10+D10 -> 26710574 | F10: =E10/$E$15 -> 0.13046767
B11: Native | C11: =Výdavky_2023_1HY!C11 -> 5613923.4 | D11: 7414886 | E11: =C11+D11 -> 13028809 | F11: =E11/$E$15 -> 0.063639156
B12: Other | C12: =Výdavky_2023_1HY!C12 -> 3231599 | D12: 4462594 | E12: =C12+D12 -> 7694193 | F12: =E12/$E$15 -> 0.037582249
B13: - z toho affiliate reklama | C13: =Výdavky_2023_1HY!C13 -> 1528000 | D13: 2420500 | E13: =C13+D13 -> 3948500 | F13: =E13/$E$15 -> 0.019286429
B14: - z toho digitálna audio reklama | C14: =Výdavky_2023_1HY!C14 -> 909012 | D14: ='[1]2HY_2023'!$B$163 -> 1425853.3 | E14: =C14+D14 -> 2334865.3 | F14: =E14/$E$15 -> 0.011404638
B15: TOTAL | C15: =SUM(C7:C12) -> 93087990 | D15: =D7+D8+D9+D10+D11+D12 -> 111641458 | E15: =SUM(E7:E12) -> 2.0472945e+08 | F15: =E15/$E$15 -> 1
B17: Poznámka: Na začiatku roka 2022 sme v IAB Slovakia začali monitorovať affiliate reklamu ako separátny formát.
B20: 2023 - výdavky podľa PLATFORMY
B22: PLATFORMA | C22: 1HY 2023 | D22: 2HY 2023 | E22: TOTAL | F22: % PODIEL
B23: Desktop | C23: =Výdavky_2023_1HY!C23 -> 42883388 | D23: 50169621 | E23: =SUM(C23:D23) -> 93053009 | F23: =E23/$E$25 -> 0.45451697
B24: Mobil | C24: =Výdavky_2023_1HY!C24 -> 50204602 | D24: 61471837 | E24: =SUM(C24:D24) -> 111676439 | F24: =E24/$E$25 -> 0.54548303
B25: TOTAL | C25: =SUM(C23:C24) -> 93087990 | D25: =SUM(D23:D24) -> 111641458 | E25: =SUM(C25:D25) -> 204729448 | F25: =E25/$E$25 -> 1
B28: 2023 - PODIEL PROGRAMMATIC DISPLAY NA CELKOVOM DISPLAY
B30: DISPLAY | C30: 1HY 2023 | D30: 2HY 2023 | E30: TOTAL | F30: % PODIEL
B31: Non-programmatic display | C31: =Výdavky_2023_1HY!C31 -> 10928918 | D31: 13260643 | E31: =SUM(C31:D31) -> 24189561 | F31: =E31/$E$33 -> 0.21073644
B32: Programmatic display | C32: =Výdavky_2023_1HY!C32 -> 40353929 | D32: 50242358 | E32: =SUM(C32:D32) -> 90596287 | F32: =E32/$E$33 -> 0.78926356
B33: DISPLAY SPOLU vrátane Video | C33: =Výdavky_2023_1HY!C33 -> 51282847 | D33: =D7+D9 -> 63503001 | E33: =SUM(C33:D33) -> 1.1478585e+08 | F33: =E33/$E$33 -> 1
B35: Poznámka: Na začiatku roka 2021 došlo k zmene metodiky v prípade programmatic reklamy a to v súlade so štandardmi medzinárodného združenie IAB Europe. Definícia programmatic display reklamy bola rozšírená a zahŕňa všetku reklamu, ktorá bola nakupovaná akýmkoľvek automatizovaným spôsobom. Čiže do programmatic výdavkov sú zahrnuté investície zrealizované cez DSP platformy, cez reklamné nástroje Google Ads, DV360 a Facebook Ads.
B40: 2023 - PODIEL VIDEO DISPLAY NA CELKOVOM DISPLAY
B42: Display | C42: 1HY 2023 | D42: 2HY 2023 | E42: TOTAL | F42: % PODIEL
B43: Non-video display | C43: =C7 -> 32747701 | D43: =D7 -> 39331977 | E43: =SUM(C43:D43) -> 72079678 | F43: =E43/$E$33 -> 0.62794917
B44: Video display | C44: =C9 -> 18535146 | D44: =D9 -> 24171024 | E44: =SUM(C44:D44) -> 42706170 | F44: =E44/$E$33 -> 0.37205083
B45: DISPLAY SPOLU vrátane Video | C45: =SUM(C43:C44) -> 51282847 | D45: =SUM(D43:D44) -> 63503001 | E45: =SUM(C45:D45) -> 1.1478585e+08 | F45: =E45/$E$33 -> 1
B48: VÝVOJ VÝDAVKOV DO INTERNETOVEJ REKLAMY MEDZIROČNÉ POROVNANIE 2023/2022
B50: REKLAMNÝ FORMÁT | C50: 2023 | D50: 2022 | E50: 2021 | F50: 2020 | G50: 2019 | H50: 2018 | I50: 2017 | J50: 2023/2022 | K50: 2022/2021 | L50: 2021/2020 | M50: 2020/2019 | N50: 2019/2018 | O50: 2018/2017 | P50: PODIEL 2023 | Q50: PODIEL 2O22 | R50: PODIEL 2021 | S50: PODIEL 2020 | T50: PODIEL 2019 | U50: PODIEL 2018 | V50: PODIEL 2017
B51: Non video display | C51: =E7 -> 72079678 | D51: =Výdavky_2022_full_year!C51 -> 68209725 | E51: 69962777 | F51: 55211440 | G51: 55741283 | H51: 54536270 | I51: 53440908 | J51: =C51/D51-1 -> 0.056736089 | K51: =D51/E51-1 -> -0.025056924 | L51: 0.26717899 | M51: -0.0095053958 | N51: 0.02209562 | O51: 0.020496703 | P51: =C51/$C$59 -> 0.35207284 | Q51: =D51/$D$59 -> 0.36082365 | R51: 0.37936396 | S51: 0.39418877 | T51: 0.40736399 | U51: 0.42534798 | V51: 0.45377397
B52: Paid for search | C52: =E8 -> 42510023 | D52: =Výdavky_2022_full_year!C52 -> 41037339 | E52: 40187709 | F52: 30268702 | G52: 30128735 | H52: 29023726 | I52: 26786329 | J52: =C52/D52-1 -> 0.03588644 | K52: =D52/E52-1 -> 0.021141539 | L52: 0.32769847 | M52: 0.004645621 | N52: 0.038072597 | O52: 0.08352759 | P52: =C52/$C$59 -> 0.20764 | Q52: =D52/$D$59 -> 0.21708403 | R52: 0.21791257 | S52: 0.21610706 | T52: 0.22018441 | U52: 0.22636648 | V52: 0.22744634
B53: Video display | C53: =E9 -> 42706170 | D53: =Výdavky_2022_full_year!C53 -> 39393836 | E53: 39759061 | F53: 28887354 | G53: 25175706 | H53: 22225424 | I53: 19625070 | J53: =C53/D53-1 -> 0.084082552 | K53: =D53/E53-1 -> -0.0091859564 | L53: 0.37634831 | M53: 0.14742975 | N53: 0.13274357 | O53: 0.13250162 | P53: =C53/$C$59 -> 0.20859808 | Q53: =D53/$D$59 -> 0.20839004 | R53: 0.21558828 | S53: 0.20624476 | T53: 0.18398708 | U53: 0.17334407 | V53: 0.16663912
B54: Classifieds and directories | C54: =E10 -> 26710574 | D54: =Výdavky_2022_full_year!C54 -> 22961871 | E54: 20526521 | F54: 16495648 | G54: 18078714 | H54: 16074435 | I54: 13187804 | J54: =C54/D54-1 -> 0.16325775 | K54: =D54/E54-1 -> 0.11864407 | L54: 0.24435979 | M54: -0.087565189 | N54: 0.12468739 | O54: 0.21888639 | P54: =C54/$C$59 -> 0.13046767 | Q54: =D54/$D$59 -> 0.12146635 | R54: 0.11130236 | S54: 0.11777268 | T54: 0.13212141 | U54: 0.1253703 | V54: 0.11197942
B55: Native | C55: =E11 -> 13028809 | D55: =Výdavky_2022_full_year!C55 -> 10158251 | E55: 10283778 | F55: 6963053 | G55: 6202853 | H55: 4163961.4 | I55: 3017230.5 | J55: =C55/D55-1 -> 0.28258392 | K55: =D55/E55-1 -> -0.012206312 | L55: 0.47690647 | M55: 0.12255651 | N55: 0.4896519 | O55: 0.38006077 | P55: =C55/$C$59 -> 0.063639156 | Q55: =D55/$D$59 -> 0.053736284 | R55: 0.055762435 | S55: 0.049713561 | T55: 0.045331194 | U55: 0.032476232 | V55: 0.025619712
B56: Other | C56: =E12 -> 7694193 | D56: =Výdavky_2022_full_year!C56 -> 7277933 | E56: 3701406 | F56: 2237257 | G56: 1506805 | H56: 2191838 | I56: 1712542.7 | J56: =C56/D56-1 -> 0.057194811 | K56: =D56/E56-1 -> 0.96626174 | L56: 0.65443934 | M56: 0.48476877 | N56: -0.31253814 | O56: 0.27987349 | P56: =C56/$C$59 -> 0.037582249 | Q56: =D56/$D$59 -> 0.038499647 | R56: 0.020070388 | S56: 0.015973167 | T56: 0.011011912 | U56: 0.017094933 | V56: 0.014541431
B57: - z toho affiliate reklama | C57: =E13 -> 3948500 | D57: =Výdavky_2022_full_year!C57 -> 4250128 | E57: n/a | J57: =C57/D57-1 -> -0.070969157 | K57: n/a | P57: =C57/$C$59 -> 0.019286429 | Q57: =D57/$D$59 -> 0.022482816
B58: - z toho digitálna audio reklama | C58: =E14 -> 2334865.3 | D58: =Výdavky_2022_full_year!C58 -> 1688755.3 | E58: 1153066 | J58: =C58/D58-1 -> 0.38259537 | K58: =D58/E58-1 -> 0.46457818 | P58: =C58/$C$59 -> 0.011404638 | Q58: =D58/$D$59 -> 0.008933372
B59: TOTAL | C59: =SUM(C51:C56) -> 2.0472945e+08 | D59: =SUM(D51:D56) -> 189038955 | E59: 184421252 | F59: 1.4006345e+08 | G59: 136834096 | H59: 1.2821565e+08 | I59: 1.1776988e+08 | J59: =C59/D59-1 -> 0.083001375 | K59: =D59/E59-1 -> 0.025038888 | L59: 0.31669788 | M59: 0.023600534 | N59: 0.067218324 | O59: 0.088696448 | P59: =C59/$C$59 -> 1 | Q59: 1 | R59: 1 | S59: 1 | T59: 1 | U59: 1
...

Sheet Výdavky_2023_1HY
B2: VÝDAVKY DO INTERNETOVEJ REKLAMY ZA PRVÝ POLROK 2023
B4: 1HY 2023 - výdavky podľa FORMÁTU
B6: FORMÁT REKLAMY | C6: 1HY 2023 | D6: 1HY 2022 | E6: % ZMENA | F6: % PODIEL
B7: Non video display | C7: 32747701 | D7: 31331893 | E7: =C7/D7-1 -> 0.045187441 | F7: 0.35
B8: Paid for search | C8: 19692207 | D8: 19306085 | E8: =C8/D8-1 -> 0.020000016 | F8: 0.21
B9: Video display | C9: 18535146 | D9: 16715979 | E9: =C9/D9-1 -> 0.10882804 | F9: 0.2
B10: Classifieds and directories | C10: 13267414 | D10: 11706740 | E10: =C10/D10-1 -> 0.1333141 | F10: 0.14
B11: Native | C11: 5613923.4 | D11: 4568782 | E11: =C11/D11-1 -> 0.22875711 | F11: 0.06
B12: Other | C12: 3231599 | D12: 3264653 | E12: =C12/D12-1 -> -0.010124813 | F12: 0.04
B13: - z toho affiliate reklama | C13: 1528000 | D13: 1900128 | E13: =C13/D13-1 -> -0.19584365 | F13: =C13/$C$15 -> 0.016414577
B14: - z toho digitálna audio reklama | C14: 909012 | D14: 744481 | E14: =C14/D14-1 -> 0.22100094 | F14: =C14/$C$15 -> 0.0097650835
B15: TOTAL | C15: =C7+C8+C9+C10+C11+C12 -> 93087990 | D15: =SUM(D7:D12) -> 86894132 | E15: =C15/D15-1 -> 0.071280512 | F15: =F7+F8+F9+F10+F11+F12 -> 1
B17: Poznámka: Na začiatku roka 2022 sme v IAB Slovakia začali monitorovať affiliate reklamu ako separátny formát.
B20: 1HY 2023 - výdavky podľa PLATFORMY
B22: PLATFORMA | C22: 1HY 2023 | D22: 1HY 2022 | E22: % ZMENA | F22: % PODIEL
B23: Desktop | C23: 42883388 | D23: 40794384 | E23: =C23/D23-1 -> 0.051208127 | F23: =C23/C25 -> 0.46067584
B24: Mobil | C24: 50204602 | D24: 46099748 | E24: =C24/D24-1 -> 0.089042873 | F24: =C24/C25 -> 0.53932416
B25: TOTAL | C25: =SUM(C23:C24) -> 93087990 | D25: =SUM(D23:D24) -> 86894132 | E25: =C25/D25-1 -> 0.071280509 | F25: =SUM(F23:F24) -> 1
B28: 1HY 2023 - PODIEL PROGRAMMATIC DISPLAY NA CELKOVOM DISPLAY
B30: DISPLAY | C30: 1HY 2023 | D30: 1HY 2022 | E30: % ZMENA | F30: % PODIEL
B31: Non-programmatic display | C31: =C33-C32 -> 10928918 | D31: =(D7+D9)-D32 -> 8895012 | E31: =C31/D31-1 -> 0.22865695 | F31: =C31/C33 -> 0.2131106
B32: Programmatic display | C32: 40353929 | D32: 39152860 | E32: =C32/D32-1 -> 0.030676405 | F32: =C32/C33 -> 0.7868894
B33: DISPLAY SPOLU vrátane Video | C33: =C7+C9 -> 51282847 | D33: =SUM(D31:D32) -> 48047872 | E33: =C33/D33-1 -> 0.06732817 | F33: =SUM(F31:F32) -> 1
B35: Poznámka: Na začiatku roka 2021 došlo k zmene metodiky v prípade programmatic reklamy a to v súlade so štandardmi medzinárodného združenie IAB Europe. Definícia programmatic display reklamy bola rozšírená a zahŕňa všetku reklamu, ktorá bola nakupovaná akýmkoľvek automatizovaným spôsobom. Čiže do programmatic výdavkov sú zahrnuté investície zrealizované cez DSP platformy, cez reklamné nástroje Google Ads, DV360 a Facebook Ads.
B40: 1HY 2023 - PODIEL VIDEO DISPLAY NA CELKOVOM DISPLAY
B42: Display | C42: 1HY 2023 | D42: 1HY 2022 | E42: % ZMENA | F42: % PODIEL
B43: Non-video display | C43: =C7 -> 32747701 | D43: =D7 -> 31331893 | E43: =C43/D43-1 -> 0.045187441 | F43: =C43/C45 -> 0.63857026
B44: Video display | C44: =C9 -> 18535146 | D44: =D9 -> 16715979 | E44: =C44/D44-1 -> 0.10882804 | F44: =C44/C45 -> 0.36142974
B45: DISPLAY SPOLU vrátane Video | C45: =C7+C9 -> 51282847 | D45: =SUM(D43:D44) -> 48047872 | E45: =C45/D45-1 -> 0.06732817 | F45: =E45/$E$45 -> 1
