Workbook

Sheet Výdavky_2026_1HY
B2: VÝDAVKY DO INTERNETOVEJ REKLAMY V PRVOM POLROKU 2026
B4: 1HY 2026 - výdavky podľa FORMÁTU
B6: FORMÁT REKLAMY | C6: 1HY 2026 | D6: 1HY 2025 | E6: ZMENA | F6: % PODIEL
B7: Non video display | C7: 41471278 | D7: 38532495 | E7: =C7/D7-1 -> 0.076267647 | F7: =C7/$C$15 -> 0.35049879
B8: Paid for search | C8: 24115372 | D8: 22967021 | E8: =C8/D8-1 -> 0.04999999 | F8: =C8/$C$15 -> 0.20381356
B9: Video display | C9: 26789193 | D9: 23967263 | E9: =C9/D9-1 -> 0.11774103 | F9: =C9/$C$15 -> 0.22641163
B10: Classifieds and directories | C10: 15379578 | D10: 15459402 | E10: =C10/D10-1 -> -0.0051634598 | F10: =C10/$C$15 -> 0.12998209
B11: Native | C11: 6688817.2 | D11: 6794191 | E11: =C11/D11-1 -> -0.015509396 | F11: =C11/$C$15 -> 0.056531229
B12: Other | C12: 3876507.6 | D12: 3604738 | E12: =C12/D12-1 -> 0.075392323 | F12: =C12/$C$15 -> 0.032762704
B13: - z toho affiliate reklama | C13: 1480668.7 | D13: 1510886 | E13: =C13/D13-1 -> -0.019999741 | F13: =C13/$C$15 -> 0.012514024
B14: - z toho digitálna audio reklama | C14: 1835487.5 | D14: 1552479 | E14: =C14/D14-1 -> 0.18229458 | F14: =C14/$C$15 -> 0.015512812
B15: TOTAL | C15: 1.1832075e+08 | D15: 111325110 | E15: =C15/D15-1 -> 0.062839692 | F15: =C15/$C$15 -> 1
B19: 1HY 2026 - PODIEL PROGRAMMATIC DISPLAY NA CELKOVOM DISPLAY
B21: DISPLAY | C21: 1HY 2026 | D21: 1HY 2025 | E21: ZMENA | F21: % PODIEL
B22: Non-programmatic display | C22: =(C7+C9)-C23 -> 15382567 | D22: =(D7+D9)-D23 -> 12982218 | E22: =C22/D22-1 -> 0.18489516 | F22: =C22/$C$24 -> 0.22535102
B23: Programmatic display | C23: 52877904 | D23: 49517540 | E23: =C23/D23-1 -> 0.067862091 | F23: =C23/$C$24 -> 0.77464898
B24: DISPLAY SPOLU vrátane Video | C24: =SUM(C22:C23) -> 68260471 | D24: =SUM(D22:D23) -> 62499758 | E24: =C24/D24-1 -> 0.092171765 | F24: =C24/$C$24 -> 1
B26: Poznámka: Na začiatku roka 2021 došlo k zmene metodiky v prípade programmatic reklamy a to v súlade so štandardmi medzinárodného združenie IAB Europe. Definícia programmatic display reklamy bola rozšírená a zahŕňa všetku reklamu, ktorá bola nakupovaná akýmkoľvek automatizovaným spôsobom. Čiže do programmatic výdavkov sú zahrnuté investície zrealizované cez DSP platformy, cez reklamné nástroje Google Ads, DV360 a Facebook Ads.
B31: 1HY 2026 - PODIEL VIDEO DISPLAY NA CELKOVOM DISPLAY
B33: Display | C33: 1HY 2026 | D33: 1HY 2025 | E33: ZMENA | F33: % PODIEL
B34: Non-video display | C34: =C7 -> 41471278 | D34: =D7 -> 38532495 | E34: =C34/D34-1 -> 0.076267647 | F34: =C34/C36 -> 0.60754456
B35: Video display | C35: =C9 -> 26789193 | D35: =D9 -> 23967263 | E35: =C35/D35-1 -> 0.11774103 | F35: =C35/C36 -> 0.39245544
B36: DISPLAY SPOLU vrátane Video | C36: =SUM(C34:C35) -> 68260471 | D36: =D7+D9 -> 62499758 | E36: =C36/D36-1 -> 0.092171765 | F36: =SUM(F34:F35) -> 1
B39: VÝVOJ VÝDAVKOV DO INTERNETOVEJ REKLAMY MEDZIROČNÉ POROVNANIE PRVÉ POLROKY
B41: REKLAMNÝ FORMÁT | C41: 1HY 2026 | D41: 1HY 2025 | E41: 1HY 2024 | F41: 1HY 2023 | G41: 1HY 2022 | H41: 1HY 2021 | I41: 1HY 2020 | J41: 1HY 2019 | K41: 2026/2025 | L41: 2025/2024 | M41: 2024/2023 | N41: 2023/2022 | O41: 2022/2021 | P41: 2021/2020 | Q41: 2020/2019 | R41: PODIEL 1HY 2025 | S41: PODIEL 1HY 2024 | T41: PODIEL 1HY 2023 | U41: PODIEL 1HY 2022 | V41: PODIEL 1HY 2021 | W41: PODIEL 1HY 2020 | X41: PODIEL 1HY 2019
B42: Non video display | C42: =C7 -> 41471278 | D42: =D7 -> 38532495 | E42: 36371102 | F42: 32747701 | G42: 31331893 | H42: 30256737 | I42: 24053985 | J42: 26122052 | K42: =C42/D42-1 -> 0.076267647 | L42: =D42/E42-1 -> 0.059426102 | M42: 0.11064597 | N42: 0.045187441 | O42: 0.035534433 | P42: 0.25786796 | Q42: -0.079169386 | R42: =C42/$C$48 -> 0.35049879 | S42: =E42/$E$48 -> 0.34980096 | T42: 0.35 | U42: 0.36057548 | V42: 0.38449404 | W42: 0.39079394 | X42: 0.41066475
B43: Paid for search | C43: =C8 -> 24115372 | D43: =D8 -> 22967021 | E43: 21070661 | F43: 19692207 | G43: 19306085 | H43: 17550986 | I43: 13500759 | J43: 14602862 | K43: =C43/D43-1 -> 0.04999999 | L43: =D43/E43-1 -> 0.09000001 | M43: 0.069999989 | N43: 0.020000016 | O43: 0.10000002 | P43: 0.29999997 | Q43: -0.075471712 | R43: =C43/$C$48 -> 0.20381356 | S43: =E43/$E$48 -> 0.20264818 | T43: 0.21 | U43: 0.22217939 | V43: 0.22303296 | W43: 0.21934057 | X43: 0.22957157
B44: Video display | C44: =C9 -> 26789193 | D44: =D9 -> 23967263 | E44: 19855798 | F44: 18535146 | G44: 16715979 | H44: 16027187 | I44: 12287379 | J44: 10629730 | K44: =C44/D44-1 -> 0.11774103 | L44: =D44/E44-1 -> 0.20706624 | M44: 0.071251201 | N44: 0.10882804 | O44: 0.042976475 | P44: 0.30436176 | Q44: 0.15594457 | R44: =C44/$C$48 -> 0.22641163 | S44: =E44/$E$48 -> 0.19096416 | T44: 0.2 | U44: 0.19237178 | V44: 0.20366895 | W44: 0.19962735 | X44: 0.16710998
B45: Classifieds and directories | C45: =C10 -> 15379578 | D45: =D10 -> 15459402 | E45: 16516714 | F45: 13267414 | G45: 11706740 | H45: 9290618 | I45: 8272290.4 | J45: 9130513.8 | K45: =C45/D45-1 -> -0.0051634598 | L45: =D45/E45-1 -> -0.064014648 | M45: 0.24490833 | N45: 0.1333141 | O45: 0.26006042 | P45: 0.12310105 | Q45: -0.093995082 | R45: =C45/$C$48 -> 0.12998209 | S45: =E45/$E$48 -> 0.15885035 | T45: 0.14 | U45: 0.13472417 | V45: 0.11806254 | W45: 0.13439607 | X45: 0.1435408
B46: Native | C46: =C11 -> 6688817.2 | D46: =D11 -> 6794191 | E46: 6634193 | F46: 5613923.4 | G46: 4568782 | H46: 4103694 | I46: 2599528.1 | J46: 2598781.8 | K46: =C46/D46-1 -> -0.015509396 | L46: =D46/E46-1 -> 0.024117184 | M46: 0.18173914 | N46: 0.22875711 | O46: 0.11333399 | P46: 0.57863037 | Q46: 0.00028716955 | R46: =C46/$C$48 -> 0.056531229 | S46: =E46/$E$48 -> 0.063804695 | T46: 0.06 | U46: 0.052578717 | V46: 0.052148581 | W46: 0.042233328 | X46: 0.040855446
B47: Other | C47: =C12 -> 3876507.6 | D47: =D12 -> 3604738 | E47: 3528096.2 | F47: 3231599 | G47: 3264653 | H47: 1463121 | I47: 837640 | J47: 525250.46 | K47: =C47/D47-1 -> 0.075392323 | L47: =D47/E47-1 -> 0.021723274 | M47: 0.091749379 | N47: -0.010124813 | O47: 1.2312939 | P47: 0.74671816 | Q47: 0.59474396 | R47: =C47/$C$48 -> 0.032762704 | S47: =E47/$E$48 -> 0.033931648 | T47: 0.04 | U47: 0.037570466 | V47: 0.018592927 | W47: 0.013608749 | X47: 0.0082574619
B48: TOTAL | C48: =SUM(C42:C47) -> 1.1832075e+08 | D48: =SUM(D42:D47) -> 111325110 | E48: 1.0397656e+08 | F48: 93087990 | G48: 86894132 | H48: 78692343 | I48: 61551581 | J48: 63609190 | K48: =C48/D48-1 -> 0.062839692 | L48: =D48/E48-1 -> 0.070675024 | M48: 0.11697077 | N48: 0.071280512 | O48: 0.10422601 | P48: 0.27847801 | Q48: -0.032347663 | R48: =C48/$C$48 -> 1 | S48: =E48/$E$48 -> 1 | T48: 1 | U48: 1 | V48: 1 | W48: 1 | X48: 1
B50: Vývoj Programmatic display | C50: 1HY 2026 | D50: 1HY 2025 | E50: 1HY 2024 | F50: 1HY 2023 | G50: 1HY 2022 | H50: 1HY 2021 | I50: 1HY 2020 | J50: 1HY 2019 | K50: 2026/2025 | L50: 2025/2024 | M50: 2024/2023 | N50: 2023/2022 | O50: 2022/2021 | P50: 2021/2020 | Q50: 2020/2019 | R50: PODIEL 1HY 2025 | S50: PODIEL 1HY 2024 | T50: PODIEL 1HY 2023 | U50: PODIEL 1HY 2022 | V50: PODIEL 1HY 2021 | W50: PODIEL 1HY 2020 | X50: PODIEL 1HY 2019
B51: Non-programmatic display | C51: =C22 -> 15382567 | D51: 12982218 | E51: 11928120 | F51: 10928918 | G51: 8895012 | H51: 10406201 | I51: 8882048.5 | J51: 9893204.7 | K51: =C51/D51-1 -> 0.18489516 | L51: =D51/E51-1 -> 0.088370796 | M51: 0.09142734 | N51: 0.22865695 | O51: -0.14522005 | P51: 0.17159921 | Q51: -0.10220715 | R51: =C51/C53 -> 0.22535102 | S51: =E51/E53 -> 0.21214259 | T51: 0.2131106 | U51: 0.18512812 | V51: 0.22483403 | W51: 0.24440603 | X51: 0.2691898
B52: Programmatic display | C52: =C23 -> 52877904 | D52: 49517540 | E52: 44298780 | F52: 40353929 | G52: 39152860 | H52: 35877723 | I52: 27459315 | J52: 26858577 | K52: =C52/D52-1 -> 0.067862091 | L52: =D52/E52-1 -> 0.11780823 | M52: 0.097756296 | N52: 0.030676405 | O52: 0.091286089 | P52: 0.30657748 | Q52: 0.022366717 | R52: =C52/C53 -> 0.77464898 | S52: =E52/E53 -> 0.78785741 | T52: 0.7868894 | U52: 0.81487188 | V52: 0.77516597 | W52: 0.75559397 | X52: 0.7308102
B53: TOTAL | C53: =SUM(C51:C52) -> 68260471 | D53: =SUM(D51:D52) -> 62499758 | E53: 56226900 | F53: 51282847 | G53: 48047872 | H53: 46283924 | I53: 36341364 | J53: 36751782 | K53: =C53/D53-1 -> 0.092171765 | L53: =D53/E53-1 -> 0.11156329 | M53: 0.096407528 | N53: 0.06732817 | O53: 0.038111462 | P53: 0.27358798 | Q53: -0.011167298 | R53: =SUM(R51:R52) -> 1 | S53: =SUM(S51:S52) -> 1 | T53: 1 | U53: 1 | V53: 1 | W53: 1 | X53: 1
B56: Vývoj Video display | C56: 1HY 2026 | D56: 1HY 2025 | E56: 1HY 2024 | F56: 1 HY 2023 | G56: 1HY 2022 | H56: 1HY 2021 | I56: 1HY 2020 | J56: 1HY 2019 | K56: 2026/2025 | L56: 2025/2024 | M56: 2024/2023 | N56: 2023/2022 | O56: 2022/2021 | P56: 2021/2020 | Q56: 2020/2019 | R56: PODIEL 1HY 2025 | S56: PODIEL 1HY 2024 | T56: PODIEL 1HY 2023 | U56: PODIEL 1HY 2022 | V56: PODIEL 1HY 2021 | W56: PODIEL 1HY 2020 | X56: PODIEL 1HY 2019
B57: Non-video display | C57: =C34 -> 41471278 | D57: 38532495 | E57: 36371102 | F57: 32747701 | G57: 31331893 | H57: 30256737 | I57: 24053985 | J57: 26122052 | K57: =C57/D57-1 -> 0.076267647 | L57: =D57/E57-1 -> 0.059426102 | M57: 0.11064597 | N57: 0.045187441 | O57: 0.035534433 | P57: 0.25786796 | Q57: -0.079169386 | R57: 0.61622848 | S57: =E57/E59 -> 0.64686302 | T57: 0.63857026 | U57: 0.65209741 | V57: 0.65372022 | W57: 0.66188999 | X57: 0.71076967
B58: Video display | C58: =C35 -> 26789193 | D58: 23967263 | E58: 19855798 | F58: 18535146 | G58: 16715979 | H58: 16027187 | I58: 12287379 | J58: 10629730 | K58: =C58/D58-1 -> 0.11774103 | L58: =D58/E58-1 -> 0.20706624 | M58: 0.071251201 | N58: 0.10882804 | O58: 0.042976475 | P58: 0.30436176 | Q58: 0.15594457 | R58: 0.38377152 | S58: =E58/E59 -> 0.35313698 | T58: 0.36142974 | U58: 0.34790259 | V58: 0.34627978 | W58: 0.33811001 | X58: 0.28923033
B59: TOTAL | C59: =SUM(C57:C58) -> 68260471 | D59: =SUM(D57:D58) -> 62499758 | E59: 56226900 | F59: 51282847 | G59: 48047872 | H59: 46283924 | I59: 36341364 | J59: 36751782 | K59: =C59/D59-1 -> 0.092171765 | L59: =D59/E59-1 -> 0.11156329 | M59: 0.096407528 | N59: 0.06732817 | O59: 0.038111462 | P59: 0.27358798 | Q59: -0.011167298 | R59: 1 | S59: =SUM(S57:S58) -> 1 | T59: 1 | U59: 1 | V59: 1 | W59: 1 | X59: 1
G102: Digitálna audio reklama | H102: =E14 -> 0.18229458
G103: Video display | H103: =E9 -> 0.11774103
G104: Non video display | H104: =E7 -> 0.076267647
G105: Paid for search | H105: =E8 -> 0.04999999
G106: Native | H106: =E11 -> -0.015509396
G107: Affiliate reklama | H107: =E13 -> -0.019999741
G108: Classifieds and directories | H108: =E10 -> -0.0051634598

Sheet Výdavky_2025_full_year
B2: VÝDAVKY DO INTERNETOVEJ REKLAMY ZA ROK 2025
B4: 2025 - výdavky podľa FORMÁTU
B6: FORMÁT REKLAMY | C6: 1HY 2025 | D6: 2HY 2025 | E6: TOTAL | F6: % PODIEL
B7: Non video display | C7: 38532495 | D7: 50093278 | E7: =C7+D7 -> 88625773 | F7: =E7/$E$15 -> 0.35063222
B8: Paid for search | C8: 22967021 | D8: 28620387 | E8: =C8+D8 -> 51587408 | F8: =E8/$E$15 -> 0.20409647
B9: Video display | C9: 23967263 | D9: 33063606 | E9: =C9+D9 -> 57030869 | F9: =E9/$E$15 -> 0.22563256
B10: Classifieds and directories | C10: 15459402 | D10: 15039023 | E10: =C10+D10 -> 30498425 | F10: =E10/$E$15 -> 0.12066163
B11: Native | C11: 6794191 | D11: 9656119.2 | E11: =C11+D11 -> 16450310 | F11: =E11/$E$15 -> 0.065082747
B12: Other | C12: 3604738 | D12: 4962399.8 | E12: =C12+D12 -> 8567137.8 | F12: =E12/$E$15 -> 0.033894368
B13: - z toho affiliate reklama | C13: 1510886 | D13: 2324648.2 | E13: =C13+D13 -> 3835534.2 | F13: =E13/$E$15 -> 0.015174614
B14: - z toho digitálna audio reklama | C14: 1552479 | D14: 2270844 | E14: =C14+D14 -> 3823323 | F14: =E14/$E$15 -> 0.015126302
B15: TOTAL | C15: =SUM(C7:C12) -> 111325110 | D15: =D7+D8+D9+D10+D11+D12 -> 1.4143481e+08 | E15: =SUM(E7:E12) -> 2.5275992e+08 | F15: =E15/$E$15 -> 1
B17: Poznámka: Na začiatku roka 2022 sme v IAB Slovakia začali monitorovať affiliate reklamu ako separátny formát.
B19: 2025 - PODIEL PROGRAMMATIC DISPLAY NA CELKOVOM DISPLAY
B21: DISPLAY | C21: 1HY 2025 | D21: 2HY 2025 | E21: TOTAL | F21: % PODIEL
B22: Non-programmatic display | C22: 12982218 | D22: =D24-D23 -> 18838263 | E22: =SUM(C22:D22) -> 31820481 | F22: =E22/$E$24 -> 0.21846227
B23: Programmatic display | C23: 49517540 | D23: 64318621 | E23: =SUM(C23:D23) -> 1.1383616e+08 | F23: =E23/$E$24 -> 0.78153773
B24: DISPLAY SPOLU vrátane Video | C24: =SUM(C22:C23) -> 62499758 | D24: =D7+D9 -> 83156884 | E24: =SUM(C24:D24) -> 1.4565664e+08 | F24: =E24/$E$24 -> 1
B26: Poznámka: Na začiatku roka 2021 došlo k zmene metodiky v prípade programmatic reklamy a to v súlade so štandardmi medzinárodného združenie IAB Europe. Definícia programmatic display reklamy bola rozšírená a zahŕňa všetku reklamu, ktorá bola nakupovaná akýmkoľvek automatizovaným spôsobom. Čiže do programmatic výdavkov sú zahrnuté investície zrealizované cez DSP platformy, cez reklamné nástroje Google Ads, DV360 a Facebook Ads.
B31: 2025 - PODIEL VIDEO DISPLAY NA CELKOVOM DISPLAY
B33: Display | C33: 1HY 2025 | D33: 2HY 2025 | E33: TOTAL | F33: % PODIEL
B34: Non-video display | C34: 38532495 | D34: =D7 -> 50093278 | E34: =SUM(C34:D34) -> 88625773 | F34: =E34/$E$24 -> 0.60845679
B35: Video display | C35: 23967263 | D35: =D9 -> 33063606 | E35: =SUM(C35:D35) -> 57030869 | F35: =E35/$E$24 -> 0.39154321
B36: DISPLAY SPOLU vrátane Video | C36: =C7+C9 -> 62499758 | D36: =SUM(D34:D35) -> 83156884 | E36: =SUM(C36:D36) -> 1.4565664e+08 | F36: =E36/$E$24 -> 1
B39: VÝVOJ VÝDAVKOV DO INTERNETOVEJ REKLAMY MEDZIROČNÉ POROVNANIE 2024/2023
B41: REKLAMNÝ FORMÁT | C41: 2025 | D41: 2024 | E41: 2025/2024 | F41: 2023 | G41: 2022 | H41: 2021 | I41: 2020 | J41: 2019 | K41: 2018 | L41: 2017 | M41: 2024/2023 | N41: 2023/2022 | O41: 2022/2021 | P41: 2021/2020 | Q41: 2020/2019 | R41: 2019/2018 | S41: 2018/2017 | T41: PODIEL 2024 | U41: PODIEL 2023 | V41: PODIEL 2O22 | W41: PODIEL 2021 | X41: PODIEL 2020 | Y41: PODIEL 2019 | Z41: PODIEL 2018 | AA41: PODIEL 2017
B42: Non video display | C42: =E7 -> 88625773 | D42: 82761556 | E42: =C42/D42-1 -> 0.070856769 | F42: =Výdavky_2023_full_year!C51 -> 72079678 | G42: =Výdavky_2022_full_year!C51 -> 68209725 | H42: 69962777 | I42: 55211440 | J42: 55741283 | K42: 54536270 | L42: 53440908 | M42: =D42/F42-1 -> 0.14819542 | N42: =F42/G42-1 -> 0.056736089 | O42: =G42/H42-1 -> -0.025056924 | P42: 0.26717899 | Q42: -0.0095053958 | R42: 0.02209562 | S42: 0.020496703 | T42: =D42/$D$50 -> 0.35473993 | U42: =F42/$F$50 -> 0.35207284 | V42: =G42/$G$50 -> 0.36082365 | W42: 0.37936396 | X42: 0.39418877 | Y42: 0.40736399 | Z42: 0.42534798 | AA42: 0.45377397
B43: Paid for search | C43: =E8 -> 51587408 | D43: 46398437 | E43: =C43/D43-1 -> 0.11183503 | F43: =Výdavky_2023_full_year!C52 -> 42510023 | G43: =Výdavky_2022_full_year!C52 -> 41037339 | H43: 40187709 | I43: 30268702 | J43: 30128735 | K43: 29023726 | L43: 26786329 | M43: =D43/F43-1 -> 0.091470528 | N43: =F43/G43-1 -> 0.03588644 | O43: =G43/H43-1 -> 0.021141539 | P43: 0.32769847 | Q43: 0.004645621 | R43: 0.038072597 | S43: 0.08352759 | T43: =D43/$D$50 -> 0.1988771 | U43: =F43/$F$50 -> 0.20764 | V43: =G43/$G$50 -> 0.21708403 | W43: 0.21791257 | X43: 0.21610706 | Y43: 0.22018441 | Z43: 0.22636648 | AA43: 0.22744634
B44: Video display | C44: =E9 -> 57030869 | D44: 49495938 | E44: =C44/D44-1 -> 0.15223333 | F44: =Výdavky_2023_full_year!C53 -> 42706170 | G44: =Výdavky_2022_full_year!C53 -> 39393836 | H44: 39759061 | I44: 28887354 | J44: 25175706 | K44: 22225424 | L44: 19625070 | M44: =D44/F44-1 -> 0.15898797 | N44: =F44/G44-1 -> 0.084082552 | O44: =G44/H44-1 -> -0.0091859564 | P44: 0.37634831 | Q44: 0.14742975 | R44: 0.13274357 | S44: 0.13250162 | T44: =D44/$D$50 -> 0.21215388 | U44: =F44/$F$50 -> 0.20859808 | V44: =G44/$G$50 -> 0.20839004 | W44: 0.21558828 | X44: 0.20624476 | Y44: 0.18398708 | Z44: 0.17334407 | AA44: 0.16663912
B45: Classifieds and directories | C45: =E10 -> 30498425 | D45: 31843076 | E45: =C45/D45-1 -> -0.04222744 | F45: =Výdavky_2023_full_year!C54 -> 26710574 | G45: =Výdavky_2022_full_year!C54 -> 22961871 | H45: 20526521 | I45: 16495648 | J45: 18078714 | K45: 16074435 | L45: 13187804 | M45: =D45/F45-1 -> 0.19215243 | N45: =F45/G45-1 -> 0.16325775 | O45: =G45/H45-1 -> 0.11864407 | P45: 0.24435979 | Q45: -0.087565189 | R45: 0.12468739 | S45: 0.21888639 | T45: =D45/$D$50 -> 0.13648862 | U45: =F45/$F$50 -> 0.13046767 | V45: =G45/$G$50 -> 0.12146635 | W45: 0.11130236 | X45: 0.11777268 | Y45: 0.13212141 | Z45: 0.1253703 | AA45: 0.11197942
B46: Native | C46: =E11 -> 16450310 | D46: 14833697 | E46: =C46/D46-1 -> 0.10898248 | F46: =Výdavky_2023_full_year!C55 -> 13028809 | G46: =Výdavky_2022_full_year!C55 -> 10158251 | H46: 10283778 | I46: 6963053 | J46: 6202853 | K46: 4163961.4 | L46: 3017230.5 | M46: =D46/F46-1 -> 0.13853052 | N46: =F46/G46-1 -> 0.28258392 | O46: =G46/H46-1 -> -0.012206312 | P46: 0.47690647 | Q46: 0.12255651 | R46: 0.4896519 | S46: 0.38006077 | T46: =D46/$D$50 -> 0.06358151 | U46: =F46/$F$50 -> 0.063639156 | V46: =G46/$G$50 -> 0.053736284 | W46: 0.055762435 | X46: 0.049713561 | Y46: 0.045331194 | Z46: 0.032476232 | AA46: 0.025619712
B47: Other | C47: =E12 -> 8567137.8 | D47: 7969354.2 | E47: =C47/D47-1 -> 0.075010289 | F47: =Výdavky_2023_full_year!C56 -> 7694193 | G47: =Výdavky_2022_full_year!C56 -> 7277933 | H47: 3701406 | I47: 2237257 | J47: 1506805 | K47: 2191838 | L47: 1712542.7 | M47: =D47/F47-1 -> 0.035762191 | N47: =F47/G47-1 -> 0.057194811 | O47: =G47/H47-1 -> 0.96626174 | P47: 0.65443934 | Q47: 0.48476877 | R47: -0.31253814 | S47: 0.27987349 | T47: =D47/$D$50 -> 0.034158954 | U47: =F47/$F$50 -> 0.037582249 | V47: =G47/$G$50 -> 0.038499647 | W47: 0.020070388 | X47: 0.015973167 | Y47: 0.011011912 | Z47: 0.017094933 | AA47: 0.014541431
B48: - z toho affiliate reklama | C48: 3835534.2 | D48: 3945930 | E48: =C48/D48-1 -> -0.027977131 | F48: =Výdavky_2023_full_year!C57 -> 3948500 | G48: =Výdavky_2022_full_year!C57 -> 4250128 | H48: n/a | M48: =D48/F48-1 -> -0.00065088008 | N48: =F48/G48-1 -> -0.070969157 | O48: n/a | T48: =D48/$D$50 -> 0.016913396 | U48: =F48/$F$50 -> 0.019286429 | V48: =G48/$G$50 -> 0.022482816
B49: - z toho digitálna audio reklama | C49: 3823323 | D49: 3199023 | E49: =C49/D49-1 -> 0.19515333 | F49: =Výdavky_2023_full_year!C58 -> 2334865.3 | G49: =Výdavky_2022_full_year!C58 -> 1688755.3 | H49: 1153066 | M49: =D49/F49-1 -> 0.37011032 | N49: =F49/G49-1 -> 0.38259537 | O49: =G49/H49-1 -> 0.46457818 | T49: =D49/$D$50 -> 0.013711936 | U49: =F49/$F$50 -> 0.011404638 | V49: =G49/$G$50 -> 0.008933372
B50: TOTAL | C50: =SUM(C42:C47) -> 2.5275992e+08 | D50: =SUM(D42:D47) -> 2.3330206e+08 | E50: =C50/D50-1 -> 0.083402023 | F50: =SUM(F42:F47) -> 2.0472945e+08 | G50: =SUM(G42:G47) -> 189038955 | H50: 184421252 | I50: 1.4006345e+08 | J50: 136834096 | K50: 1.2821565e+08 | L50: 1.1776988e+08 | M50: =D50/F50-1 -> 0.13956278 | N50: =F50/G50-1 -> 0.083001375 | O50: =G50/H50-1 -> 0.025038888 | P50: 0.31669788 | Q50: 0.023600534 | R50: 0.067218324 | S50: 0.088696448 | T50: =D50/$D$50 -> 1 | U50: =F50/$F$50 -> 1 | V50: 1 | W50: 1 | X50: 1 | Y50: 1 | Z50: 1
B53: Vývoj Programmatic display | C53: 2025 | D53: 2024 | E53: 2025/2024 | F53: 2023 | G53: 2022 | H53: 2021 | I53: 2020 | J53: 2024/2023 | K53: 2023/2022 | L53: 2022/2021 | M53: 2021/2020 | N53: PODIEL 2024 | O53: PODIEL 2023 | P53: PODIEL 2022 | Q53: PODIEL 2021 | R53: PODIEL 2020
B54: Non-programmatic display | C54: =E22 -> 31820481 | D54: 29738791 | E54: =C54/D54-1 -> 0.06999913 | F54: =Výdavky_2023_full_year!C68 -> 24189561 | G54: =Výdavky_2022_full_year!C68 -> 21193696 | H54: =H56-H55 -> 25388912 | I54: =I56-I55 -> 20111926 | J54: =D54/F54-1 -> 0.22940598 | K54: =F54/G54-1 -> 0.14135646 | L54: =G54/H54-1 -> -0.16523814 | M54: =H54/I54-1 -> 0.26238093 | N54: =D54/$D$56 -> 0.22485525 | O54: =F54/$F$56 -> 0.21073644 | P54: =G54/G$56 -> 0.19696091 | Q54: =H54/H$56 -> 0.23139343 | R54: =I54/I$56 -> 0.23914643
B55: Programmatic display | C55: =E23 -> 1.1383616e+08 | D55: 1.025187e+08 | E55: =C55/D55-1 -> 0.11039409 | F55: =Výdavky_2023_full_year!C69 -> 90596287 | G55: =Výdavky_2022_full_year!C69 -> 86409865 | H55: 84332926 | I55: 63986868 | J55: =D55/F55-1 -> 0.13159938 | K55: =F55/G55-1 -> 0.048448421 | L55: =G55/H55-1 -> 0.02462786 | M55: =H55/I55-1 -> 0.3179724 | N55: =D55/$D$56 -> 0.77514475 | O55: =F55/$F$56 -> 0.78926356 | P55: =G55/G$56 -> 0.80303909 | Q55: =H55/H$56 -> 0.76860657 | R55: =I55/I$56 -> 0.76085357
B56: TOTAL | C56: =SUM(C54:C55) -> 1.4565664e+08 | D56: =SUM(D54:D55) -> 1.3225749e+08 | E56: =C56/D56-1 -> 0.10131107 | F56: =SUM(F54:F55) -> 1.1478585e+08 | G56: =SUM(G54:G55) -> 107603561 | H56: =Výdavky_2021!E7+Výdavky_2021!E9 -> 109721838 | I56: =Výdavky_2020!E8+Výdavky_2020!E10 -> 84098794 | J56: =D56/F56-1 -> 0.1522108 | K56: =F56/G56-1 -> 0.066747673 | L56: =G56/H56-1 -> -0.019305883 | M56: =H56/I56-1 -> 0.3046779 | N56: =D56/$D$56 -> 1 | O56: =F56/$F$56 -> 1 | P56: =SUM(P54:P55) -> 1 | Q56: =SUM(Q54:Q55) -> 1 | R56: =SUM(R54:R55) -> 1
B57: Poznámka: pre možnosť porovnania boli hodnoty z roka 2020 prepočítané novou metodikou pre programmatic reklamu.
B59: Vývoj Video display | C59: 2025 | D59: 2024 | E59: 2025/2024 | F59: 2023 | G59: 2022 | H59: 2021 | I59: 2020 | J59: 2024 | K59: 2024/2023 | L59: 2023/2022 | M59: 2022/2021 | N59: 2021/2020 | O59: PODIEL 2024 | P59: PODIEL 2023 | Q59: PODIEL 2022 | R59: PODIEL 2021 | S59: PODIEL 2020
B60: Non-video display | C60: =E34 -> 88625773 | D60: 82761556 | E60: =C60/D60-1 -> 0.070856769 | F60: =Výdavky_2023_full_year!C74 -> 72079678 | G60: =Výdavky_2022_full_year!C74 -> 68209725 | H60: 69962777 | I60: 55211440 | J60: =D60/F60-1 -> 0.14819542 | K60: =D60/F60-1 -> 0.14819542 | L60: =F60/G60-1 -> 0.056736089 | M60: =G60/H60-1 -> -0.025056924 | N60: =H60/I60-1 -> 0.26717899 | O60: =D60/$D$62 -> 0.62576081 | P60: =F60/$F$62 -> 0.62794917 | Q60: =G60/$G$62 -> 0.6338984 | R60: =H60/$H$62 -> 0.63763767 | S60: =I60/$I$62 -> 0.65650692
B61: Video display | C61: =E35 -> 57030869 | D61: 49495938 | E61: =C61/D61-1 -> 0.15223333 | F61: =Výdavky_2023_full_year!C75 -> 42706170 | G61: =Výdavky_2022_full_year!C75 -> 39393836 | H61: 39759061 | I61: 28887354 | J61: =D61/F61-1 -> 0.15898797 | K61: =D61/F61-1 -> 0.15898797 | L61: =F61/G61-1 -> 0.084082552 | M61: =G61/H61-1 -> -0.0091859564 | N61: =H61/I61-1 -> 0.37634831 | O61: =D61/$D$62 -> 0.37423919 | P61: =F61/$F$62 -> 0.37205083 | Q61: =G61/$G$62 -> 0.3661016 | R61: =H61/$H$62 -> 0.36236233 | S61: =I61/$I$62 -> 0.34349308
B62: TOTAL | C62: =SUM(C60:C61) -> 1.4565664e+08 | D62: =SUM(D60:D61) -> 1.3225749e+08 | E62: =C62/D62-1 -> 0.10131107 | F62: =Výdavky_2023_full_year!C76 -> 1.1478585e+08 | G62: =SUM(G60:G61) -> 107603561 | H62: 109721838 | I62: 84098794 | J62: =D62/F62-1 -> 0.1522108 | K62: =D62/F62-1 -> 0.1522108 | L62: =F62/G62-1 -> 0.066747673 | M62: =G62/H62-1 -> -0.019305883 | N62: =H62/I62-1 -> 0.3046779 | O62: =D62/$D$62 -> 1 | P62: =F62/$F$62 -> 1 | Q62: =G62/$G$62 -> 1 | R62: =H62/$H$62 -> 1 | S62: =I62/$I$62 -> 1
B65: LINK NA INFOGRAFIKU
B68: VÝVOJ A MEDZIROČNÉ POROVNANIE VÝDAVKOV ZA DRUHÝ POLROK 2025
B72: FORMÁT REKLAMY | C72: 2HY 2025 | D72: 2HY 2024 | E72: % ZMENA
B73: Non video display | C73: 50093278 | D73: 46390454 | E73: =C73/D73-1 -> 0.079818646
B74: Paid for search | C74: 28620387 | D74: 25327776 | E74: =C74/D74-1 -> 0.13
B75: Video display | C75: 33063606 | D75: 29640140 | E75: =C75/D75-1 -> 0.11550102
B76: Classifieds and directories | C76: 15039023 | D76: 15326363 | E76: =C76/D76-1 -> -0.018748088
B77: Native | C77: 9656119.2 | D77: 8199504.2 | E77: =C77/D77-1 -> 0.17764672
B78: Other | C78: 4962399.8 | D78: 4441258 | E78: =C78/D78-1 -> 0.11734102
B79: - z toho affiliate reklama | C79: 2324648.2 | D79: 2372090 | E79: =C79/D79-1 -> -0.02
B80: - z toho digitálna audio reklama | C80: 2270844 | D80: 1754273 | E80: =C80/D80-1 -> 0.29446443
B81: TOTAL | C81: =SUM(C73:C78) -> 1.4143481e+08 | D81: =SUM(D73:D78) -> 1.293255e+08 | E81: =C81/D81-1 -> 0.093634417
B85: VÝVOJ PROGRAMMATIC DISPLAY
B87: Display | C87: 2HY 2025 | D87: 2HY 2024 | E87: % ZMENA
B88: Non programmatic display | C88: =D22 -> 18838263 | D88: 17810671 | E88: =C88/D88-1 -> 0.0576953
B89: Programmatic display | C89: 64318621 | D89: 58219924 | E89: =C89/D89-1 -> 0.10475275
B90: DISPLAY SPOLU vrátane Video | C90: =D7+D9 -> 83156884 | D90: =SUM(D88:D89) -> 76030595 | E90: =C90/D90-1 -> 0.093729234
B92: VÝVOJ VIDEO A NON VIDEO DISPLAY
B94: Display | C94: 2HY 2024 | D94: 2HY 2024 | E94: % ZMENA
B95: Non video display | C95: =D34 -> 50093278 | D95: 46390454 | E95: =C95/D95-1 -> 0.079818654
B96: Video display | C96: =D35 -> 33063606 | D96: 29640140 | E96: =C96/D96-1 -> 0.11550102
B97: DISPLAY SPOLU vrátane Video | C97: =D36 -> 83156884 | D97: =SUM(D95:D96) -> 76030594 | E97: =C97/D97-1 -> 0.093729241
G136: Digitálna audio reklama | H136: =E49 -> 0.19515333
G137: Video display | H137: 0.15
G138: Search | H138: 0.11
G139: Native | H139: 0.11
G140: Other | H140: 0.08
G141: Mon-video display | H141: 0.07
G142: Affiliate reklama | H142: -0.03
G143: Classifieds | H143: -0.04

Sheet Výdavky_2025_1HY
B2: VÝDAVKY DO INTERNETOVEJ REKLAMY V PRVOM POLROKU 2025
B4: 1HY 2025 - výdavky podľa FORMÁTU
B6: FORMÁT REKLAMY | C6: 1HY 2025 | D6: 1HY 2024 | E6: ZMENA | F6: % PODIEL
B7: Non video display | C7: 38532495 | D7: 36371102 | E7: =C7/D7-1 -> 0.059426102 | F7: =C7/$C$15 -> 0.34612582
B8: Paid for search | C8: 22967021 | D8: 21070661 | E8: =C8/D8-1 -> 0.09000001 | F8: =C8/$C$15 -> 0.20630585
B9: Video display | C9: 23967263 | D9: 19855798 | E9: =C9/D9-1 -> 0.20706624 | F9: =C9/$C$15 -> 0.21529072
B10: Classifieds and directories | C10: 15459402 | D10: 16516714 | E10: =C10/D10-1 -> -0.064014648 | F10: =C10/$C$15 -> 0.13886716
B11: Native | C11: 6794191 | D11: 6634193 | E11: =C11/D11-1 -> 0.024117184 | F11: =C11/$C$15 -> 0.061030175
B12: Other | C12: 3604738 | D12: 3528096.2 | E12: =C12/D12-1 -> 0.021723274 | F12: =C12/$C$15 -> 0.032380278
B13: - z toho affiliate reklama | C13: 1510886 | D13: 1573840 | E13: =C13/D13-1 -> -0.040000254 | F13: =C13/$C$15 -> 0.013571835
B14: - z toho digitálna audio reklama | C14: 1552479 | D14: 1444750 | E14: =C14/D14-1 -> 0.074565842 | F14: =C14/$C$15 -> 0.013945452
B15: TOTAL | C15: =SUM(C7:C12) -> 111325110 | D15: =D7+D8+D9+D10+D11+D12 -> 1.0397656e+08 | E15: =C15/D15-1 -> 0.070675024 | F15: =C15/$C$15 -> 1
B19: 1HY 2025 - PODIEL PROGRAMMATIC DISPLAY NA CELKOVOM DISPLAY
B21: DISPLAY | C21: 1HY 2025 | D21: 1HY 2024 | E21: ZMENA | F21: % PODIEL
B22: Non-programmatic display | C22: =(C7+C9)-C23 -> 12982218 | D22: 11928120 | E22: =C22/D22-1 -> 0.088370796 | F22: =C22/$C$24 -> 0.20771629
B23: Programmatic display | C23: 49517540 | D23: 44298780 | E23: =C23/D23-1 -> 0.11780823 | F23: =C23/$C$24 -> 0.79228371
B24: DISPLAY SPOLU vrátane Video | C24: =SUM(C22:C23) -> 62499758 | D24: =D7+D9 -> 56226900 | E24: =C24/D24-1 -> 0.11156329 | F24: =C24/$C$24 -> 1
B26: Poznámka: Na začiatku roka 2021 došlo k zmene metodiky v prípade programmatic reklamy a to v súlade so štandardmi medzinárodného združenie IAB Europe. Definícia programmatic display reklamy bola rozšírená a zahŕňa všetku reklamu, ktorá bola nakupovaná akýmkoľvek automatizovaným spôsobom. Čiže do programmatic výdavkov sú zahrnuté investície zrealizované cez DSP platformy, cez reklamné nástroje Google Ads, DV360 a Facebook Ads.
B31: 1HY 2025 - PODIEL VIDEO DISPLAY NA CELKOVOM DISPLAY
B33: Display | C33: 1HY 2025 | D33: 1HY 2024 | E33: ZMENA | F33: % PODIEL
B34: Non-video display | C34: =C7 -> 38532495 | D34: 36371102 | E34: =C34/D34-1 -> 0.059426102 | F34: =C34/C36 -> 0.61652231
B35: Video display | C35: =C9 -> 23967263 | D35: 19855798 | E35: =C35/D35-1 -> 0.20706624 | F35: =C35/C36 -> 0.38347769
B36: DISPLAY SPOLU vrátane Video | C36: =C7+C9 -> 62499758 | D36: =SUM(D34:D35) -> 56226900 | E36: =C36/D36-1 -> 0.11156329 | F36: =SUM(F34:F35) -> 1
B39: VÝVOJ VÝDAVKOV DO INTERNETOVEJ REKLAMY MEDZIROČNÉ POROVNANIE PRVÉ POLROKY
B41: REKLAMNÝ FORMÁT | C41: 1HY 2025 | D41: 1HY 2024 | E41: 1HY 2023 | F41: 1HY 2022 | G41: 1HY 2021 | H41: 1HY 2020 | I41: 1HY 2019 | J41: 2025/2024 | K41: 2024/2023 | L41: 2023/2022 | M41: 2022/2021 | N41: 2021/2020 | O41: 2020/2019 | P41: PODIEL 1HY 2025 | Q41: PODIEL 1HY 2024 | R41: PODIEL 1HY 2023 | S41: PODIEL 1HY 2022 | T41: PODIEL 1HY 2021 | U41: PODIEL 1HY 2020 | V41: PODIEL 1HY 2019
B42: Non video display | C42: =C7 -> 38532495 | D42: 36371102 | E42: 32747701 | F42: 31331893 | G42: 30256737 | H42: 24053985 | I42: 26122052 | J42: =C42/D42-1 -> 0.059426102 | K42: 0.11064597 | L42: 0.045187441 | M42: 0.035534433 | N42: 0.25786796 | O42: -0.079169386 | P42: =C42/$C$48 -> 0.34612582 | Q42: =D42/$D$48 -> 0.34980096 | R42: 0.35 | S42: 0.36057548 | T42: 0.38449404 | U42: 0.39079394 | V42: 0.41066475
B43: Paid for search | C43: =C8 -> 22967021 | D43: 21070661 | E43: 19692207 | F43: 19306085 | G43: 17550986 | H43: 13500759 | I43: 14602862 | J43: =C43/D43-1 -> 0.09000001 | K43: 0.069999989 | L43: 0.020000016 | M43: 0.10000002 | N43: 0.29999997 | O43: -0.075471712 | P43: =C43/$C$48 -> 0.20630585 | Q43: =D43/$D$48 -> 0.20264818 | R43: 0.21 | S43: 0.22217939 | T43: 0.22303296 | U43: 0.21934057 | V43: 0.22957157
B44: Video display | C44: =C9 -> 23967263 | D44: 19855798 | E44: 18535146 | F44: 16715979 | G44: 16027187 | H44: 12287379 | I44: 10629730 | J44: =C44/D44-1 -> 0.20706624 | K44: 0.071251201 | L44: 0.10882804 | M44: 0.042976475 | N44: 0.30436176 | O44: 0.15594457 | P44: =C44/$C$48 -> 0.21529072 | Q44: =D44/$D$48 -> 0.19096416 | R44: 0.2 | S44: 0.19237178 | T44: 0.20366895 | U44: 0.19962735 | V44: 0.16710998
B45: Classifieds and directories | C45: =C10 -> 15459402 | D45: 16516714 | E45: 13267414 | F45: 11706740 | G45: 9290618 | H45: 8272290.4 | I45: 9130513.8 | J45: =C45/D45-1 -> -0.064014648 | K45: 0.24490833 | L45: 0.1333141 | M45: 0.26006042 | N45: 0.12310105 | O45: -0.093995082 | P45: =C45/$C$48 -> 0.13886716 | Q45: =D45/$D$48 -> 0.15885035 | R45: 0.14 | S45: 0.13472417 | T45: 0.11806254 | U45: 0.13439607 | V45: 0.1435408
B46: Native | C46: =C11 -> 6794191 | D46: 6634193 | E46: 5613923.4 | F46: 4568782 | G46: 4103694 | H46: 2599528.1 | I46: 2598781.8 | J46: =C46/D46-1 -> 0.024117184 | K46: 0.18173914 | L46: 0.22875711 | M46: 0.11333399 | N46: 0.57863037 | O46: 0.00028716955 | P46: =C46/$C$48 -> 0.061030175 | Q46: =D46/$D$48 -> 0.063804695 | R46: 0.06 | S46: 0.052578717 | T46: 0.052148581 | U46: 0.042233328 | V46: 0.040855446
B47: Other | C47: =C12 -> 3604738 | D47: 3528096.2 | E47: 3231599 | F47: 3264653 | G47: 1463121 | H47: 837640 | I47: 525250.46 | J47: =C47/D47-1 -> 0.021723274 | K47: 0.091749379 | L47: -0.010124813 | M47: 1.2312939 | N47: 0.74671816 | O47: 0.59474396 | P47: =C47/$C$48 -> 0.032380278 | Q47: =D47/$D$48 -> 0.033931648 | R47: 0.04 | S47: 0.037570466 | T47: 0.018592927 | U47: 0.013608749 | V47: 0.0082574619
B48: TOTAL | C48: =SUM(C42:C47) -> 111325110 | D48: 1.0397656e+08 | E48: 93087990 | F48: 86894132 | G48: 78692343 | H48: 61551581 | I48: 63609190 | J48: =C48/D48-1 -> 0.070675024 | K48: 0.11697077 | L48: 0.071280512 | M48: 0.10422601 | N48: 0.27847801 | O48: -0.032347663 | P48: =C48/$C$48 -> 1 | Q48: =D48/$D$48 -> 1 | R48: 1 | S48: 1 | T48: 1 | U48: 1 | V48: 1
B50: Vývoj Programmatic display | C50: 1HY 2025 | D50: 1HY 2024 | E50: 1HY 2023 | F50: 1HY 2022 | G50: 1HY 2021 | H50: 1HY 2020 | I50: 1HY 2019 | J50: 2025/2024 | K50: 2024/2023 | L50: 2023/2022 | M50: 2022/2021 | N50: 2021/2020 | O50: 2020/2019 | P50: PODIEL 1HY 2025 | Q50: PODIEL 1HY 2024 | R50: PODIEL 1HY 2023 | S50: PODIEL 1HY 2022 | T50: PODIEL 1HY 2021 | U50: PODIEL 1HY 2020 | V50: PODIEL 1HY 2019
B51: Non-programmatic display | C51: =C22 -> 12982218 | D51: 11928120 | E51: 10928918 | F51: 8895012 | G51: 10406201 | H51: 8882048.5 | I51: 9893204.7 | J51: =C51/D51-1 -> 0.088370796 | K51: 0.09142734 | L51: 0.22865695 | M51: -0.14522005 | N51: 0.17159921 | O51: -0.10220715 | P51: =C51/C53 -> 0.20771629 | Q51: =D51/D53 -> 0.21214259 | R51: 0.2131106 | S51: 0.18512812 | T51: 0.22483403 | U51: 0.24440603 | V51: 0.2691898
B52: Programmatic display | C52: =C23 -> 49517540 | D52: 44298780 | E52: 40353929 | F52: 39152860 | G52: 35877723 | H52: 27459315 | I52: 26858577 | J52: =C52/D52-1 -> 0.11780823 | K52: 0.097756296 | L52: 0.030676405 | M52: 0.091286089 | N52: 0.30657748 | O52: 0.022366717 | P52: =C52/C53 -> 0.79228371 | Q52: =D52/D53 -> 0.78785741 | R52: 0.7868894 | S52: 0.81487188 | T52: 0.77516597 | U52: 0.75559397 | V52: 0.7308102
B53: TOTAL | C53: =SUM(C51:C52) -> 62499758 | D53: 56226900 | E53: 51282847 | F53: 48047872 | G53: 46283924 | H53: 36341364 | I53: 36751782 | J53: =C53/D53-1 -> 0.11156329 | K53: 0.096407528 | L53: 0.06732817 | M53: 0.038111462 | N53: 0.27358798 | O53: -0.011167298 | P53: =SUM(P51:P52) -> 1 | Q53: =SUM(Q51:Q52) -> 1 | R53: 1 | S53: 1 | T53: 1 | U53: 1 | V53: 1
B54: Poznámka: pre možnosť porovnania boli hodnoty z roka 2020 a 2019 prepočítané novou metodikou pre programmatic reklamu.
B56: Vývoj Video display | C56: 1HY 2025 | D56: 1HY 2024 | E56: 1 HY 2023 | F56: 1HY 2022 | G56: 1HY 2021 | H56: 1HY 2020 | I56: 1HY 2019 | J56: 2025/2024 | K56: 2024/2023 | L56: 2023/2022 | M56: 2022/2021 | N56: 2021/2020 | O56: 2020/2019 | P56: PODIEL 1HY 2025 | Q56: PODIEL 1HY 2024 | R56: PODIEL 1HY 2023 | S56: PODIEL 1HY 2022 | T56: PODIEL 1HY 2021 | U56: PODIEL 1HY 2020 | V56: PODIEL 1HY 2019
B57: Non-video display | C57: =C34 -> 38532495 | D57: 36371102 | E57: 32747701 | F57: 31331893 | G57: 30256737 | H57: 24053985 | I57: 26122052 | J57: =C57/D57-1 -> 0.059426102 | K57: 0.11064597 | L57: 0.045187441 | M57: 0.035534433 | N57: 0.25786796 | O57: -0.079169386 | P57: 0.61622848 | Q57: =D57/D59 -> 0.64686302 | R57: 0.63857026 | S57: 0.65209741 | T57: 0.65372022 | U57: 0.66188999 | V57: 0.71076967
B58: Video display | C58: =C35 -> 23967263 | D58: 19855798 | E58: 18535146 | F58: 16715979 | G58: 16027187 | H58: 12287379 | I58: 10629730 | J58: =C58/D58-1 -> 0.20706624 | K58: 0.071251201 | L58: 0.10882804 | M58: 0.042976475 | N58: 0.30436176 | O58: 0.15594457 | P58: 0.38377152 | Q58: =D58/D59 -> 0.35313698 | R58: 0.36142974 | S58: 0.34790259 | T58: 0.34627978 | U58: 0.33811001 | V58: 0.28923033
B59: TOTAL | C59: =SUM(C57:C58) -> 62499758 | D59: 56226900 | E59: 51282847 | F59: 48047872 | G59: 46283924 | H59: 36341364 | I59: 36751782 | J59: =C59/D59-1 -> 0.11156329 | K59: 0.096407528 | L59: 0.06732817 | M59: 0.038111462 | N59: 0.27358798 | O59: -0.011167298 | P59: 1 | Q59: =SUM(Q57:Q58) -> 1 | R59: 1 | S59: 1 | T59: 1 | U59: 1 | V59: 1
G101: Video display | H101: 0.21
G102: Paid for search | H102: 0.09
G103: Digitálna audio reklama | H103: 0.07
G104: Non video display | H104: 0.06
G105: Native | H105: 0.02
G106: Classifieds and directories | H106: -0.06
G107: Affiliate reklama | H107: -0.04

Sheet Výdavky_2024_full_year
B2: VÝDAVKY DO INTERNETOVEJ REKLAMY ZA ROK 2024
B4: 2024 - výdavky podľa FORMÁTU
B6: FORMÁT REKLAMY | C6: 1HY 2024 | D6: 2HY 2024 | E6: TOTAL | F6: % PODIEL
B7: Non video display | C7: 36371102 | D7: 46390454 | E7: =C7+D7 -> 82761556 | F7: =E7/$E$15 -> 0.35473993
B8: Paid for search | C8: 21070661 | D8: 25327776 | E8: =C8+D8 -> 46398437 | F8: =E8/$E$15 -> 0.1988771
B9: Video display | C9: 19855798 | D9: 29640140 | E9: =C9+D9 -> 49495938 | F9: =E9/$E$15 -> 0.21215388
B10: Classifieds and directories | C10: 16516714 | D10: 15326363 | E10: =C10+D10 -> 31843076 | F10: =E10/$E$15 -> 0.13648862
B11: Native | C11: 6634193 | D11: 8199504.2 | E11: =C11+D11 -> 14833697 | F11: =E11/$E$15 -> 0.06358151
B12: Other | C12: 3528096.2 | D12: 4441258 | E12: =C12+D12 -> 7969354.2 | F12: =E12/$E$15 -> 0.034158954
B13: - z toho affiliate reklama | C13: 1573840 | D13: 2372090 | E13: =C13+D13 -> 3945930 | F13: =E13/$E$15 -> 0.016913396
B14: - z toho digitálna audio reklama | C14: 1444750 | D14: 1754273 | E14: =C14+D14 -> 3199023 | F14: =E14/$E$15 -> 0.013711936
B15: TOTAL | C15: =SUM(C7:C12) -> 1.0397656e+08 | D15: =D7+D8+D9+D10+D11+D12 -> 1.2932549e+08 | E15: =SUM(E7:E12) -> 2.3330206e+08 | F15: =E15/$E$15 -> 1
B17: Poznámka: Na začiatku roka 2022 sme v IAB Slovakia začali monitorovať affiliate reklamu ako separátny formát.
B19: 2024 - PODIEL PROGRAMMATIC DISPLAY NA CELKOVOM DISPLAY
B21: DISPLAY | C21: 1HY 2024 | D21: 2HY 2024 | E21: TOTAL | F21: % PODIEL
B22: Non-programmatic display | C22: 11928120 | D22: =D24-D23 -> 17810671 | E22: =SUM(C22:D22) -> 29738791 | F22: =E22/$E$24 -> 0.22485525
B23: Programmatic display | C23: 44298780 | D23: 58219923 | E23: =SUM(C23:D23) -> 1.025187e+08 | F23: =E23/$E$24 -> 0.77514475
B24: DISPLAY SPOLU vrátane Video | C24: =SUM(C22:C23) -> 56226900 | D24: =D7+D9 -> 76030594 | E24: =SUM(C24:D24) -> 1.3225749e+08 | F24: =E24/$E$24 -> 1
B26: Poznámka: Na začiatku roka 2021 došlo k zmene metodiky v prípade programmatic reklamy a to v súlade so štandardmi medzinárodného združenie IAB Europe. Definícia programmatic display reklamy bola rozšírená a zahŕňa všetku reklamu, ktorá bola nakupovaná akýmkoľvek automatizovaným spôsobom. Čiže do programmatic výdavkov sú zahrnuté investície zrealizované cez DSP platformy, cez reklamné nástroje Google Ads, DV360 a Facebook Ads.
B31: 2024 - PODIEL VIDEO DISPLAY NA CELKOVOM DISPLAY
B33: Display | C33: 1HY 2024 | D33: 2HY 2024 | E33: TOTAL | F33: % PODIEL
B34: Non-video display | C34: =C7 -> 36371102 | D34: =D7 -> 46390454 | E34: =SUM(C34:D34) -> 82761556 | F34: =E34/$E$24 -> 0.62576081
B35: Video display | C35: =C9 -> 19855798 | D35: =D9 -> 29640140 | E35: =SUM(C35:D35) -> 49495938 | F35: =E35/$E$24 -> 0.37423919
B36: DISPLAY SPOLU vrátane Video | C36: =C7+C9 -> 56226900 | D36: =SUM(D34:D35) -> 76030594 | E36: =SUM(C36:D36) -> 1.3225749e+08 | F36: =E36/$E$24 -> 1
B39: VÝVOJ VÝDAVKOV DO INTERNETOVEJ REKLAMY MEDZIROČNÉ POROVNANIE 2024/2023
B41: REKLAMNÝ FORMÁT | C41: 2024 | D41: 2023 | E41: 2022 | F41: 2021 | G41: 2020 | H41: 2019 | I41: 2018 | J41: 2017 | K41: 2024/2023 | L41: 2023/2022 | M41: 2022/2021 | N41: 2021/2020 | O41: 2020/2019 | P41: 2019/2018 | Q41: 2018/2017 | R41: PODIEL 2024 | S41: PODIEL 2023 | T41: PODIEL 2O22 | U41: PODIEL 2021 | V41: PODIEL 2020 | W41: PODIEL 2019 | X41: PODIEL 2018 | Y41: PODIEL 2017
B42: Non video display | C42: =C7+D7 -> 82761556 | D42: =Výdavky_2023_full_year!C51 -> 72079678 | E42: =Výdavky_2022_full_year!C51 -> 68209725 | F42: 69962777 | G42: 55211440 | H42: 55741283 | I42: 54536270 | J42: 53440908 | K42: =C42/D42-1 -> 0.14819542 | L42: =D42/E42-1 -> 0.056736089 | M42: =E42/F42-1 -> -0.025056924 | N42: 0.26717899 | O42: -0.0095053958 | P42: 0.02209562 | Q42: 0.020496703 | R42: =C42/$C$50 -> 0.35473993 | S42: =D42/$D$50 -> 0.35207284 | T42: =E42/$E$50 -> 0.36082365 | U42: 0.37936396 | V42: 0.39418877 | W42: 0.40736399 | X42: 0.42534798 | Y42: 0.45377397
B43: Paid for search | C43: =C8+D8 -> 46398437 | D43: =Výdavky_2023_full_year!C52 -> 42510023 | E43: =Výdavky_2022_full_year!C52 -> 41037339 | F43: 40187709 | G43: 30268702 | H43: 30128735 | I43: 29023726 | J43: 26786329 | K43: =C43/D43-1 -> 0.091470528 | L43: =D43/E43-1 -> 0.03588644 | M43: =E43/F43-1 -> 0.021141539 | N43: 0.32769847 | O43: 0.004645621 | P43: 0.038072597 | Q43: 0.08352759 | R43: =C43/$C$50 -> 0.1988771 | S43: =D43/$D$50 -> 0.20764 | T43: =E43/$E$50 -> 0.21708403 | U43: 0.21791257 | V43: 0.21610706 | W43: 0.22018441 | X43: 0.22636648 | Y43: 0.22744634
B44: Video display | C44: =C9+D9 -> 49495938 | D44: =Výdavky_2023_full_year!C53 -> 42706170 | E44: =Výdavky_2022_full_year!C53 -> 39393836 | F44: 39759061 | G44: 28887354 | H44: 25175706 | I44: 22225424 | J44: 19625070 | K44: =C44/D44-1 -> 0.15898797 | L44: =D44/E44-1 -> 0.084082552 | M44: =E44/F44-1 -> -0.0091859564 | N44: 0.37634831 | O44: 0.14742975 | P44: 0.13274357 | Q44: 0.13250162 | R44: =C44/$C$50 -> 0.21215388 | S44: =D44/$D$50 -> 0.20859808 | T44: =E44/$E$50 -> 0.20839004 | U44: 0.21558828 | V44: 0.20624476 | W44: 0.18398708 | X44: 0.17334407 | Y44: 0.16663912
B45: Classifieds and directories | C45: =C10+D10 -> 31843076 | D45: =Výdavky_2023_full_year!C54 -> 26710574 | E45: =Výdavky_2022_full_year!C54 -> 22961871 | F45: 20526521 | G45: 16495648 | H45: 18078714 | I45: 16074435 | J45: 13187804 | K45: =C45/D45-1 -> 0.19215243 | L45: =D45/E45-1 -> 0.16325775 | M45: =E45/F45-1 -> 0.11864407 | N45: 0.24435979 | O45: -0.087565189 | P45: 0.12468739 | Q45: 0.21888639 | R45: =C45/$C$50 -> 0.13648862 | S45: =D45/$D$50 -> 0.13046767 | T45: =E45/$E$50 -> 0.12146635 | U45: 0.11130236 | V45: 0.11777268 | W45: 0.13212141 | X45: 0.1253703 | Y45: 0.11197942
B46: Native | C46: =C11+D11 -> 14833697 | D46: =Výdavky_2023_full_year!C55 -> 13028809 | E46: =Výdavky_2022_full_year!C55 -> 10158251 | F46: 10283778 | G46: 6963053 | H46: 6202853 | I46: 4163961.4 | J46: 3017230.5 | K46: =C46/D46-1 -> 0.13853052 | L46: =D46/E46-1 -> 0.28258392 | M46: =E46/F46-1 -> -0.012206312 | N46: 0.47690647 | O46: 0.12255651 | P46: 0.4896519 | Q46: 0.38006077 | R46: =C46/$C$50 -> 0.06358151 | S46: =D46/$D$50 -> 0.063639156 | T46: =E46/$E$50 -> 0.053736284 | U46: 0.055762435 | V46: 0.049713561 | W46: 0.045331194 | X46: 0.032476232 | Y46: 0.025619712
B47: Other | C47: =C12+D12 -> 7969354.2 | D47: =Výdavky_2023_full_year!C56 -> 7694193 | E47: =Výdavky_2022_full_year!C56 -> 7277933 | F47: 3701406 | G47: 2237257 | H47: 1506805 | I47: 2191838 | J47: 1712542.7 | K47: =C47/D47-1 -> 0.035762191 | L47: =D47/E47-1 -> 0.057194811 | M47: =E47/F47-1 -> 0.96626174 | N47: 0.65443934 | O47: 0.48476877 | P47: -0.31253814 | Q47: 0.27987349 | R47: =C47/$C$50 -> 0.034158954 | S47: =D47/$D$50 -> 0.037582249 | T47: =E47/$E$50 -> 0.038499647 | U47: 0.020070388 | V47: 0.015973167 | W47: 0.011011912 | X47: 0.017094933 | Y47: 0.014541431
B48: - z toho affiliate reklama | C48: =C13+D13 -> 3945930 | D48: =Výdavky_2023_full_year!C57 -> 3948500 | E48: =Výdavky_2022_full_year!C57 -> 4250128 | F48: n/a | K48: =C48/D48-1 -> -0.00065088008 | L48: =D48/E48-1 -> -0.070969157 | M48: n/a | R48: =C48/$C$50 -> 0.016913396 | S48: =D48/$D$50 -> 0.019286429 | T48: =E48/$E$50 -> 0.022482816
B49: - z toho digitálna audio reklama | C49: =C14+D14 -> 3199023 | D49: =Výdavky_2023_full_year!C58 -> 2334865.3 | E49: =Výdavky_2022_full_year!C58 -> 1688755.3 | F49: 1153066 | K49: =C49/D49-1 -> 0.37011032 | L49: =D49/E49-1 -> 0.38259537 | M49: =E49/F49-1 -> 0.46457818 | R49: =C49/$C$50 -> 0.013711936 | S49: =D49/$D$50 -> 0.011404638 | T49: =E49/$E$50 -> 0.008933372
B50: TOTAL | C50: =SUM(C42:C47) -> 2.3330206e+08 | D50: =SUM(D42:D47) -> 2.0472945e+08 | E50: =SUM(E42:E47) -> 189038955 | F50: 184421252 | G50: 1.4006345e+08 | H50: 136834096 | I50: 1.2821565e+08 | J50: 1.1776988e+08 | K50: =C50/D50-1 -> 0.13956278 | L50: =D50/E50-1 -> 0.083001375 | M50: =E50/F50-1 -> 0.025038888 | N50: 0.31669788 | O50: 0.023600534 | P50: 0.067218324 | Q50: 0.088696448 | R50: =C50/$C$50 -> 1 | S50: =D50/$D$50 -> 1 | T50: 1 | U50: 1 | V50: 1 | W50: 1 | X50: 1
B53: Vývoj Programmatic display | C53: 2024 | D53: 2023 | E53: 2022 | F53: 2021 | G53: 2020 | H53: 2024/2023 | I53: 2023/2022 | J53: 2022/2021 | K53: 2021/2020 | L53: PODIEL 2024 | M53: PODIEL 2023 | N53: PODIEL 2022 | O53: PODIEL 2021 | P53: PODIEL 2020
B54: Non-programmatic display | C54: =C22+D22 -> 29738791 | D54: =Výdavky_2023_full_year!C68 -> 24189561 | E54: =Výdavky_2022_full_year!C68 -> 21193696 | F54: =F56-F55 -> 25388912 | G54: =G56-G55 -> 20111926 | H54: =C54/D54-1 -> 0.22940598 | I54: =D54/E54-1 -> 0.14135646 | J54: =E54/F54-1 -> -0.16523814 | K54: =F54/G54-1 -> 0.26238093 | L54: =C54/$C$56 -> 0.22485525 | M54: =D54/$D$56 -> 0.21073644 | N54: =E54/E$56 -> 0.19696091 | O54: =F54/F$56 -> 0.23139343 | P54: =G54/G$56 -> 0.23914643
B55: Programmatic display | C55: =C23+D23 -> 1.025187e+08 | D55: =Výdavky_2023_full_year!C69 -> 90596287 | E55: =Výdavky_2022_full_year!C69 -> 86409865 | F55: 84332926 | G55: 63986868 | H55: =C55/D55-1 -> 0.13159938 | I55: =D55/E55-1 -> 0.048448421 | J55: =E55/F55-1 -> 0.02462786 | K55: =F55/G55-1 -> 0.3179724 | L55: =C55/$C$56 -> 0.77514475 | M55: =D55/$D$56 -> 0.78926356 | N55: =E55/E$56 -> 0.80303909 | O55: =F55/F$56 -> 0.76860657 | P55: =G55/G$56 -> 0.76085357
B56: TOTAL | C56: =SUM(C54:C55) -> 1.3225749e+08 | D56: =SUM(D54:D55) -> 1.1478585e+08 | E56: =SUM(E54:E55) -> 107603561 | F56: =Výdavky_2021!E7+Výdavky_2021!E9 -> 109721838 | G56: =Výdavky_2020!E8+Výdavky_2020!E10 -> 84098794 | H56: =C56/D56-1 -> 0.1522108 | I56: =D56/E56-1 -> 0.066747673 | J56: =E56/F56-1 -> -0.019305883 | K56: =F56/G56-1 -> 0.3046779 | L56: =C56/$C$56 -> 1 | M56: =D56/$D$56 -> 1 | N56: =SUM(N54:N55) -> 1 | O56: =SUM(O54:O55) -> 1 | P56: =SUM(P54:P55) -> 1
B57: Poznámka: pre možnosť porovnania boli hodnoty z roka 2020 prepočítané novou metodikou pre programmatic reklamu.
B59: Vývoj Video display | C59: 2024 | D59: 2023 | E59: 2022 | F59: 2021 | G59: 2020 | H59: 2024 | I59: 2023/2022 | J59: 2022/2021 | K59: 2021/2020 | L59: PODIEL 2024 | M59: PODIEL 2023 | N59: PODIEL 2022 | O59: PODIEL 2021 | P59: PODIEL 2020
B60: Non-video display | C60: =C34+D34 -> 82761556 | D60: =Výdavky_2023_full_year!C74 -> 72079678 | E60: =Výdavky_2022_full_year!C74 -> 68209725 | F60: 69962777 | G60: 55211440 | H60: =C60/D60-1 -> 0.14819542 | I60: =D60/E60-1 -> 0.056736089 | J60: =E60/F60-1 -> -0.025056924 | K60: =F60/G60-1 -> 0.26717899 | L60: =C60/$C$62 -> 0.62576081 | M60: =D60/$D$62 -> 0.62794917 | N60: =E60/$E$62 -> 0.6338984 | O60: =F60/$F$62 -> 0.63763767 | P60: =G60/$G$62 -> 0.65650692
B61: Video display | C61: =C35+D35 -> 49495938 | D61: =Výdavky_2023_full_year!C75 -> 42706170 | E61: =Výdavky_2022_full_year!C75 -> 39393836 | F61: 39759061 | G61: 28887354 | H61: =C61/D61-1 -> 0.15898797 | I61: =D61/E61-1 -> 0.084082552 | J61: =E61/F61-1 -> -0.0091859564 | K61: =F61/G61-1 -> 0.37634831 | L61: =C61/$C$62 -> 0.37423919 | M61: =D61/$D$62 -> 0.37205083 | N61: =E61/$E$62 -> 0.3661016 | O61: =F61/$F$62 -> 0.36236233 | P61: =G61/$G$62 -> 0.34349308
B62: TOTAL | C62: =SUM(C60:C61) -> 1.3225749e+08 | D62: =Výdavky_2023_full_year!C76 -> 1.1478585e+08 | E62: =SUM(E60:E61) -> 107603561 | F62: 109721838 | G62: 84098794 | H62: =C62/D62-1 -> 0.1522108 | I62: =D62/E62-1 -> 0.066747673 | J62: =E62/F62-1 -> -0.019305883 | K62: =F62/G62-1 -> 0.3046779 | L62: =C62/$C$62 -> 1 | M62: =D62/$D$62 -> 1 | N62: =E62/$E$62 -> 1 | O62: =F62/$F$62 -> 1 | P62: =G62/$G$62 -> 1
B65: LINK NA INFOGRAFIKU
B68: VÝVOJ A MEDZIROČNÉ POROVNANIE VÝDAVKOV ZA DRUHÝ POLROK 2024
B72: FORMÁT REKLAMY | C72: 2HY 2024 | D72: 2HY 2023 | E72: % ZMENA
B73: Non video display | C73: 46390454 | D73: 39331977 | E73: =C73/D73-1 -> 0.17945899
B74: Paid for search | C74: 25327776 | D74: 22817816 | E74: =C74/D74-1 -> 0.11
B75: Video display | C75: 29640140 | D75: 24171024 | E75: =C75/D75-1 -> 0.22626743
B76: Classifieds and directories | C76: 15326363 | D76: 13443160 | E76: =C76/D76-1 -> 0.14008628
B77: Native | C77: 8199504.2 | D77: 7414885.9 | E77: =C77/D77-1 -> 0.10581664
B78: Other | C78: 4441258 | D78: 4462594.1 | E78: =C78/D78-1 -> -0.0047810891
B79: - z toho affiliate reklama | C79: 2372090 | D79: 2420500 | E79: =C79/D79-1 -> -0.02
B80: - z toho digitálna audio reklama | C80: 1754273 | D80: 1425853.3 | E80: =C80/D80-1 -> 0.23033207
B81: TOTAL | C81: =SUM(C73:C78) -> 1.293255e+08 | D81: =SUM(D73:D78) -> 1.1164146e+08 | E81: =C81/D81-1 -> 0.15840027
B85: VÝVOJ PROGRAMMATIC DISPLAY
B87: Display | C87: 2HY 2024 | D87: 2HY 2023 | E87: % ZMENA
B88: Non programmatic display | C88: =D22 -> 17810671 | D88: =Výdavky_2023_full_year!C108 -> 13260643 | E88: =C88/D88-1 -> 0.34312273
B89: Programmatic display | C89: 58219924 | D89: 50242358 | E89: =C89/D89-1 -> 0.15878166
B90: DISPLAY SPOLU vrátane Video | C90: =D7+D9 -> 76030594 | D90: =SUM(D88:D89) -> 63503001 | E90: =C90/D90-1 -> 0.1972756
B92: VÝVOJ VIDEO A NON VIDEO DISPLAY
B94: Display | C94: 2HY 2024 | D94: 2HY 2023 | E94: % ZMENA
B95: Non video display | C95: =D34 -> 46390454 | D95: =Výdavky_2023_full_year!C115 -> 39331977 | E95: =C95/D95-1 -> 0.17945899
B96: Video display | C96: =D35 -> 29640140 | D96: =Výdavky_2023_full_year!C116 -> 24171024 | E96: =C96/D96-1 -> 0.22626745
B97: DISPLAY SPOLU vrátane Video | C97: =D36 -> 76030594 | D97: =Výdavky_2023_full_year!C117 -> 63503001 | E97: =C97/D97-1 -> 0.19727561
G136: Digitálna audio reklama | H136: 0.37011032
G137: Classifieds and directories | H137: 0.19215243
G138: Video display | H138: 0.15898797
G139: Non video display | H139: 0.14819542
G140: Native | H140: 0.13853052
G141: Paid for search | H141: 0.091470528
G142: Affiliate reklama | H142: -0.00065088008

Sheet Výdavky_2024_1HY
B2: VÝDAVKY DO INTERNETOVEJ REKLAMY ZA PRVÝ POLROK 2024
B4: 1HY 2024 - výdavky podľa FORMÁTU
B6: FORMÁT REKLAMY | C6: 1HY 2024 | D6: 1HY 2023 | E6: % ZMENA | F6: % PODIEL
B7: Non video display | C7: 36371102 | D7: 32747701 | E7: =C7/D7-1 -> 0.11064597 | F7: =C7/$C$15 -> 0.34980096
B8: Paid for search | C8: 21070661 | D8: 19692207 | E8: =C8/D8-1 -> 0.069999989 | F8: =C8/$C$15 -> 0.20264818
B9: Video display | C9: 19855798 | D9: 18535146 | E9: =C9/D9-1 -> 0.071251201 | F9: =C9/$C$15 -> 0.19096416
B10: Classifieds and directories | C10: 16516714 | D10: 13267414 | E10: =C10/D10-1 -> 0.24490833 | F10: =C10/$C$15 -> 0.15885035
B11: Native | C11: 6634193 | D11: 5613923.4 | E11: =C11/D11-1 -> 0.18173914 | F11: =C11/$C$15 -> 0.063804695
B12: Other | C12: 3528096.2 | D12: 3231599 | E12: =C12/D12-1 -> 0.091749379 | F12: =C12/$C$15 -> 0.033931648
B13: - z toho affiliate reklama | C13: 1573840 | D13: 1528000 | E13: =C13/D13-1 -> 0.03 | F13: =C13/$C$15 -> 0.015136488
B14: - z toho digitálna audio reklama | C14: 1444750 | D14: 909012 | E14: =C14/D14-1 -> 0.58936296 | F14: =C14/$C$15 -> 0.013894958
B15: TOTAL | C15: =SUM(C7:C12) -> 1.0397656e+08 | D15: =D7+D8+D9+D10+D11+D12 -> 93087990 | E15: =C15/D15-1 -> 0.11697077 | F15: =C15/$C$15 -> 1
B18: 1HY 2024 - PODIEL PROGRAMMATIC DISPLAY NA CELKOVOM DISPLAY
B20: DISPLAY | C20: 1HY 2024 | D20: 1HY 2023 | E20: % ZMENA | F20: % PODIEL
B21: Non-programmatic display | C21: =C23-C22 -> 11928120 | D21: =D23-D22 -> 10928918 | E21: =C21/D21-1 -> 0.09142734 | F21: =C21/$C$23 -> 0.21214259
B22: Programmatic display | C22: 44298780 | D22: 40353929 | E22: =C22/D22-1 -> 0.097756296 | F22: =C22/$C$23 -> 0.78785741
B23: DISPLAY SPOLU vrátane Video | C23: =C7+C9 -> 56226900 | D23: =D7+D9 -> 51282847 | E23: =C23/D23-1 -> 0.096407528 | F23: =C23/$C$23 -> 1
B25: Poznámka: Programmatic display reklama zahŕňa všetku reklamu, ktorá bola nakupovaná akýmkoľvek automatizovaným spôsobom. Čiže do programmatic výdavkov sú zahrnuté investície zrealizované cez DSP platformy, cez reklamné nástroje Google Ads, DV360 a Facebook Ads.
B29: 1HY 2024 - PODIEL VIDEO DISPLAY NA CELKOVOM DISPLAY
B31: Display | C31: 1HY 2024 | D31: 1HY 2023 | E31: % ZMENA | F31: % PODIEL
B32: Non-video display | C32: =C7 -> 36371102 | D32: =D7 -> 32747701 | E32: =C32/D32-1 -> 0.11064597 | F32: =C32/$C$34 -> 0.64686302
B33: Video display | C33: =C9 -> 19855798 | D33: =D9 -> 18535146 | E33: =C33/D33-1 -> 0.071251201 | F33: =C33/$C$34 -> 0.35313698
B34: DISPLAY SPOLU vrátane Video | C34: =SUM(C32:C33) -> 56226900 | D34: =D7+D9 -> 51282847 | E34: =C34/D34-1 -> 0.096407528 | F34: =C34/$C$34 -> 1
B37: VÝVOJ VÝDAVKOV DO INTERNETOVEJ REKLAMY MEDZIROČNÉ POROVNANIE PRVÉ POLROKY
B39: REKLAMNÝ FORMÁT | C39: 1HY 2024 | D39: 1HY 2023 | E39: 1HY 2022 | F39: 1HY 2021 | G39: 1HY 2020 | H39: 1HY 2019 | I39: 2024/2023 | J39: 2023/2022 | K39: 2022/2021 | L39: 2021/2020 | M39: 2020/2019 | N39: PODIEL 1HY 2023 | O39: PODIEL 1HY 2022 | P39: PODIEL 1HY 2021 | Q39: PODIEL 1HY 2020 | R39: PODIEL 1HY 2019
B40: Non video display | C40: =C7 -> 36371102 | D40: =D7 -> 32747701 | E40: =Výdavky_2022_1HY!C51 -> 31331893 | F40: 30256737 | G40: 24053985 | H40: 26122052 | I40: =C40/D40-1 -> 0.11064597 | J40: =D40/E40-1 -> 0.045187441 | K40: =E40/F40-1 -> 0.035534433 | L40: =F40/G40-1 -> 0.25786796 | M40: =G40/H40-1 -> -0.079169386 | N40: 0.35 | O40: =E40/E$46 -> 0.36057548 | P40: =F40/F$46 -> 0.38449404 | Q40: =G40/G$46 -> 0.39079394 | R40: =H40/H$46 -> 0.41066475
B41: Paid for search | C41: =C8 -> 21070661 | D41: =D8 -> 19692207 | E41: =Výdavky_2022_1HY!C52 -> 19306085 | F41: 17550986 | G41: 13500759 | H41: 14602862 | I41: =C41/D41-1 -> 0.069999989 | J41: =D41/E41-1 -> 0.020000016 | K41: =E41/F41-1 -> 0.10000002 | L41: =F41/G41-1 -> 0.29999997 | M41: =G41/H41-1 -> -0.075471712 | N41: 0.21 | O41: =E41/E$46 -> 0.22217939 | P41: =F41/F$46 -> 0.22303296 | Q41: =G41/G$46 -> 0.21934057 | R41: =H41/H$46 -> 0.22957157
B42: Video display | C42: =C9 -> 19855798 | D42: =D9 -> 18535146 | E42: =Výdavky_2022_1HY!C53 -> 16715979 | F42: 16027187 | G42: 12287379 | H42: 10629730 | I42: =C42/D42-1 -> 0.071251201 | J42: =D42/E42-1 -> 0.10882804 | K42: =E42/F42-1 -> 0.042976475 | L42: =F42/G42-1 -> 0.30436176 | M42: =G42/H42-1 -> 0.15594457 | N42: 0.2 | O42: =E42/E$46 -> 0.19237178 | P42: =F42/F$46 -> 0.20366895 | Q42: =G42/G$46 -> 0.19962735 | R42: =H42/H$46 -> 0.16710998
B43: Classifieds and directories | C43: =C10 -> 16516714 | D43: =D10 -> 13267414 | E43: =Výdavky_2022_1HY!C54 -> 11706740 | F43: 9290618 | G43: 8272290.4 | H43: 9130513.8 | I43: =C43/D43-1 -> 0.24490833 | J43: =D43/E43-1 -> 0.1333141 | K43: =E43/F43-1 -> 0.26006042 | L43: =F43/G43-1 -> 0.12310105 | M43: =G43/H43-1 -> -0.093995082 | N43: 0.14 | O43: =E43/E$46 -> 0.13472417 | P43: =F43/F$46 -> 0.11806254 | Q43: =G43/G$46 -> 0.13439607 | R43: =H43/H$46 -> 0.1435408
B44: Native | C44: =C11 -> 6634193 | D44: =D11 -> 5613923.4 | E44: =Výdavky_2022_1HY!C55 -> 4568782 | F44: 4103694 | G44: 2599528.1 | H44: 2598781.8 | I44: =C44/D44-1 -> 0.18173914 | J44: =D44/E44-1 -> 0.22875711 | K44: =E44/F44-1 -> 0.11333399 | L44: =F44/G44-1 -> 0.57863037 | M44: =G44/H44-1 -> 0.00028716955 | N44: 0.06 | O44: =E44/E$46 -> 0.052578717 | P44: =F44/F$46 -> 0.052148581 | Q44: =G44/G$46 -> 0.042233328 | R44: =H44/H$46 -> 0.040855446
B45: Other | C45: =C12 -> 3528096.2 | D45: =D12 -> 3231599 | E45: =Výdavky_2022_1HY!C56 -> 3264653 | F45: 1463121 | G45: 837640 | H45: 525250.46 | I45: =C45/D45-1 -> 0.091749379 | J45: =D45/E45-1 -> -0.010124813 | K45: =E45/F45-1 -> 1.2312939 | L45: =F45/G45-1 -> 0.74671816 | M45: =G45/H45-1 -> 0.59474396 | N45: 0.04 | O45: =E45/E$46 -> 0.037570466 | P45: =F45/F$46 -> 0.018592927 | Q45: =G45/G$46 -> 0.013608749 | R45: =H45/H$46 -> 0.0082574619
B46: TOTAL | C46: =SUM(C40:C45) -> 1.0397656e+08 | D46: =SUM(D40:D45) -> 93087990 | E46: =SUM(E40:E45) -> 86894132 | F46: =SUM(F40:F45) -> 78692343 | G46: =SUM(G40:G45) -> 61551581 | H46: =SUM(H40:H45) -> 63609190 | I46: =C46/D46-1 -> 0.11697077 | J46: =D46/E46-1 -> 0.071280512 | K46: =E46/F46-1 -> 0.10422601 | L46: =F46/G46-1 -> 0.27847801 | M46: =G46/H46-1 -> -0.032347663 | N46: =D46/$D$46 -> 1 | O46: =SUM(O40:O45) -> 1 | P46: =F15 -> 1 | Q46: =SUM(Q40:Q45) -> 1 | R46: =SUM(R40:R45) -> 1
B48: Vývoj Programmatic display | C48: 1HY 2024 | D48: 1HY 2023 | E48: 1HY 2022 | F48: 1HY 2021 | G48: 1HY 2020 | H48: 1HY 2019 | I48: 2024/2023 | J48: 2023/2022 | K48: 2022/2021 | L48: 2021/2020 | M48: 2020/2019 | N48: PODIEL 1HY 2023 | O48: PODIEL 1HY 2022 | P48: PODIEL 1HY 2021 | Q48: PODIEL 1HY 2020 | R48: PODIEL 1HY 2019
B49: Non-programmatic display | C49: =C21 -> 11928120 | D49: =D21 -> 10928918 | E49: =Výdavky_2022_1HY!C66 -> 8895012 | F49: 10406201 | G49: 8882048.5 | H49: 9893204.7 | I49: =C49/D49-1 -> 0.09142734 | J49: =D49/E49-1 -> 0.22865695 | K49: =E49/F49-1 -> -0.14522005 | L49: =F49/G49-1 -> 0.17159921 | M49: =G49/H49-1 -> -0.10220715 | N49: =D49/D51 -> 0.2131106 | O49: =E49/E$51 -> 0.18512812 | P49: =F49/F$51 -> 0.22483403 | Q49: =G49/G$51 -> 0.24440603 | R49: =H49/H$51 -> 0.2691898
B50: Programmatic display | C50: =C22 -> 44298780 | D50: =D22 -> 40353929 | E50: =Výdavky_2022_1HY!C67 -> 39152860 | F50: 35877723 | G50: 27459315 | H50: 26858577 | I50: =C50/D50-1 -> 0.097756296 | J50: =D50/E50-1 -> 0.030676405 | K50: =E50/F50-1 -> 0.091286089 | L50: =F50/G50-1 -> 0.30657748 | M50: =G50/H50-1 -> 0.022366717 | N50: =D50/D51 -> 0.7868894 | O50: =E50/E$51 -> 0.81487188 | P50: =F50/F$51 -> 0.77516597 | Q50: =G50/G$51 -> 0.75559397 | R50: =H50/H$51 -> 0.7308102
B51: TOTAL | C51: =C23 -> 56226900 | D51: =SUM(D49:D50) -> 51282847 | E51: =SUM(E49:E50) -> 48047872 | F51: =SUM(F49:F50) -> 46283924 | G51: =SUM(G49:G50) -> 36341364 | H51: =SUM(H49:H50) -> 36751782 | I51: =C51/D51-1 -> 0.096407528 | J51: =D51/E51-1 -> 0.06732817 | K51: =E51/F51-1 -> 0.038111462 | L51: =F51/G51-1 -> 0.27358798 | M51: =G51/H51-1 -> -0.011167298 | N51: =SUM(N49:N50) -> 1 | O51: =SUM(O49:O50) -> 1 | P51: =SUM(P49:P50) -> 1 | Q51: =SUM(Q49:Q50) -> 1 | R51: =SUM(R49:R50) -> 1
B52: Poznámka: pre možnosť porovnania boli hodnoty z roka 2020 a 2019 prepočítané novou metodikou pre programmatic reklamu.
B54: Vývoj Video display | C54: 1HY 2024 | D54: 1 HY 2023 | E54: 1HY 2022 | F54: 1HY 2021 | G54: 1HY 2020 | H54: 1HY 2019 | I54: 2024/2022 | J54: 2023/2022 | K54: 2022/2021 | L54: 2021/2020 | M54: 2020/2019 | N54: PODIEL 1HY 2023 | O54: PODIEL 1HY 2022 | P54: PODIEL 1HY 2021 | Q54: PODIEL 1HY 2020 | R54: PODIEL 1HY 2019
B55: Non-video display | C55: =C32 -> 36371102 | D55: =D32 -> 32747701 | E55: =Výdavky_2022_1HY!C72 -> 31331893 | F55: 30256737 | G55: 24053985 | H55: 26122052 | I55: =C55/D55-1 -> 0.11064597 | J55: =D55/E55-1 -> 0.045187441 | K55: =E55/F55-1 -> 0.035534433 | L55: =F55/G55-1 -> 0.25786796 | M55: =G55/H55-1 -> -0.079169386 | N55: =D55/D57 -> 0.63857026 | O55: =E55/E$51 -> 0.65209741 | P55: =F55/F$51 -> 0.65372022 | Q55: =G55/G$51 -> 0.66188999 | R55: =H55/H$51 -> 0.71076967
B56: Video display | C56: =C33 -> 19855798 | D56: =D33 -> 18535146 | E56: =Výdavky_2022_1HY!C73 -> 16715979 | F56: 16027187 | G56: 12287379 | H56: 10629730 | I56: =C56/D56-1 -> 0.071251201 | J56: =D56/E56-1 -> 0.10882804 | K56: =E56/F56-1 -> 0.042976475 | L56: =F56/G56-1 -> 0.30436176 | M56: =G56/H56-1 -> 0.15594457 | N56: =D56/D57 -> 0.36142974 | O56: =E56/E$51 -> 0.34790259 | P56: =F56/F$51 -> 0.34627978 | Q56: =G56/G$51 -> 0.33811001 | R56: =H56/H$51 -> 0.28923033
B57: TOTAL | C57: =C34 -> 56226900 | D57: =SUM(D55:D56) -> 51282847 | E57: =SUM(E55:E56) -> 48047872 | F57: =SUM(F55:F56) -> 46283924 | G57: =SUM(G55:G56) -> 36341364 | H57: =SUM(H55:H56) -> 36751782 | I57: =C57/D57-1 -> 0.096407528 | J57: =D57/E57-1 -> 0.06732817 | K57: =E57/F57-1 -> 0.038111462 | L57: =F57/G57-1 -> 0.27358798 | M57: =G57/H57-1 -> -0.011167298 | N57: =SUM(N55:N56) -> 1 | O57: =SUM(O55:O56) -> 1 | P57: =SUM(P55:P56) -> 1 | Q57: =SUM(Q55:Q56) -> 1 | R57: =SUM(R55:R56) -> 1
B59: LINK NA TLAČOVÚ SPRÁVU
B61: PLATFORMA | C61: 1HY 2023 | D61: 1HY 2022 | E61: 1HY 2021 | F61: 1HY 2020 | G61: 1HY 2019 | H61: 2023/2022 | I61: 2022/2021 | J61: 2021/2020 | K61: 2020/2019 | L61: PODIEL 1HY 2023 | M61: PODIEL 1HY 2022 | N61: PODIEL 1HY 2021 | O61: PODIEL 1HY 2020 | P61: PODIEL 1HY 2019
B62: Desktop | C62: =Výdavky_2023_1HY!C60 -> 42883388 | D62: =Výdavky_2022_1HY!C60 -> 40794384 | E62: 37426843 | F62: 32310142 | G62: 36986897 | H62: =C62/D62-1 -> 0.051208127 | I62: =D62/E62-1 -> 0.089976625 | J62: =E62/F62-1 -> 0.15836207 | K62: =F62/G62-1 -> -0.12644357 | L62: =C62/C64 -> 0.46067584 | M62: =D62/D64 -> 0.46947225 | N62: =E62/E64 -> 0.47560972 | O62: =F62/F64 -> 0.5249279 | P62: =G62/G64 -> 0.58147097
B63: Mobil | C63: =Výdavky_2023_1HY!C61 -> 50204602 | D63: =Výdavky_2022_1HY!C61 -> 46099748 | E63: 41265500 | F63: 29241439 | G63: 26622292 | H63: =C63/D63-1 -> 0.089042873 | I63: =D63/E63-1 -> 0.11714987 | J63: =E63/F63-1 -> 0.41119938 | K63: =F63/G63-1 -> 0.098381696 | L63: =C63/C64 -> 0.53932416 | M63: =D63/D64 -> 0.53052775 | N63: =E63/E64 -> 0.52439028 | O63: =F63/F64 -> 0.4750721 | P63: =G63/G64 -> 0.41852903
B64: TOTAL | C64: =SUM(C62:C63) -> 93087990 | D64: =SUM(D62:D63) -> 86894132 | E64: =SUM(E62:E63) -> 78692343 | F64: =SUM(F62:F63) -> 61551581 | G64: =SUM(G62:G63) -> 63609190 | H64: =C64/D64-1 -> 0.071280509 | I64: =D64/E64-1 -> 0.10422601 | J64: =E64/F64-1 -> 0.27847802 | K64: =F64/G64-1 -> -0.032347668 | L64: =SUM(L62:L63) -> 1 | M64: =SUM(M62:M63) -> 1 | N64: =SUM(N62:N63) -> 1 | O64: =SUM(O62:O63) -> 1 | P64: =SUM(P62:P63) -> 1
B65: Poznámka: od roku 2024 nie je rozdelenie v rámci platforiem k dispozícii

Sheet Výdavky_2023_full_year
B2: VÝDAVKY DO INTERNETOVEJ REKLAMY ZA ROK 2023
B4: 2023 - výdavky podľa FORMÁTU
B6: FORMÁT REKLAMY | C6: 1HY 2023 | D6: 2HY 2023 | E6: TOTAL | F6: % PODIEL
B7: Non video display | C7: =Výdavky_2023_1HY!C7 -> 32747701 | D7: 39331977 | E7: =C7+D7 -> 72079678 | F7: =E7/$E$15 -> 0.35207284
B8: Paid for search | C8: =Výdavky_2023_1HY!C8 -> 19692207 | D8: 22817816 | E8: =C8+D8 -> 42510023 | F8: =E8/$E$15 -> 0.20764
B9: Video display | C9: =Výdavky_2023_1HY!C9 -> 18535146 | D9: 24171024 | E9: =C9+D9 -> 42706170 | F9: =E9/$E$15 -> 0.20859808
B10: Classifieds and directories | C10: =Výdavky_2023_1HY!C10 -> 13267414 | D10: 13443161 | E10: =C10+D10 -> 26710574 | F10: =E10/$E$15 -> 0.13046767
B11: Native | C11: =Výdavky_2023_1HY!C11 -> 5613923.4 | D11: 7414886 | E11: =C11+D11 -> 13028809 | F11: =E11/$E$15 -> 0.063639156
B12: Other | C12: =Výdavky_2023_1HY!C12 -> 3231599 | D12: 4462594 | E12: =C12+D12 -> 7694193 | F12: =E12/$E$15 -> 0.037582249
B13: - z toho affiliate reklama | C13: =Výdavky_2023_1HY!C13 -> 1528000 | D13: 2420500 | E13: =C13+D13 -> 3948500 | F13: =E13/$E$15 -> 0.019286429
B14: - z toho digitálna audio reklama | C14: =Výdavky_2023_1HY!C14 -> 909012 | D14: ='[1]2HY_2023'!$B$163 -> 1425853.3 | E14: =C14+D14 -> 2334865.3 | F14: =E14/$E$15 -> 0.011404638
B15: TOTAL | C15: =SUM(C7:C12) -> 93087990 | D15: =D7+D8+D9+D10+D11+D12 -> 111641458 | E15: =SUM(E7:E12) -> 2.0472945e+08 | F15: =E15/$E$15 -> 1
B17: Poznámka: Na začiatku roka 2022 sme v IAB Slovakia začali monitorovať affiliate reklamu ako separátny formát.
B20: 2023 - výdavky podľa PLATFORMY
B22: PLATFORMA | C22: 1HY 2023 | D22: 2HY 2023 | E22: TOTAL | F22: % PODIEL
B23: Desktop | C23: =Výdavky_2023_1HY!C23 -> 42883388 | D23: 50169621 | E23: =SUM(C23:D23) -> 93053009 | F23: =E23/$E$25 -> 0.45451697
B24: Mobil | C24: =Výdavky_2023_1HY!C24 -> 50204602 | D24: 61471837 | E24: =SUM(C24:D24) -> 111676439 | F24: =E24/$E$25 -> 0.54548303
B25: TOTAL | C25: =SUM(C23:C24) -> 93087990 | D25: =SUM(D23:D24) -> 111641458 | E25: =SUM(C25:D25) -> 204729448 | F25: =E25/$E$25 -> 1
B28: 2023 - PODIEL PROGRAMMATIC DISPLAY NA CELKOVOM DISPLAY
B30: DISPLAY | C30: 1HY 2023 | D30: 2HY 2023 | E30: TOTAL | F30: % PODIEL
B31: Non-programmatic display | C31: =Výdavky_2023_1HY!C31 -> 10928918 | D31: 13260643 | E31: =SUM(C31:D31) -> 24189561 | F31: =E31/$E$33 -> 0.21073644
B32: Programmatic display | C32: =Výdavky_2023_1HY!C32 -> 40353929 | D32: 50242358 | E32: =SUM(C32:D32) -> 90596287 | F32: =E32/$E$33 -> 0.78926356
B33: DISPLAY SPOLU vrátane Video | C33: =Výdavky_2023_1HY!C33 -> 51282847 | D33: =D7+D9 -> 63503001 | E33: =SUM(C33:D33) -> 1.1478585e+08 | F33: =E33/$E$33 -> 1
B35: Poznámka: Na začiatku roka 2021 došlo k zmene metodiky v prípade programmatic reklamy a to v súlade so štandardmi medzinárodného združenie IAB Europe. Definícia programmatic display reklamy bola rozšírená a zahŕňa všetku reklamu, ktorá bola nakupovaná akýmkoľvek automatizovaným spôsobom. Čiže do programmatic výdavkov sú zahrnuté investície zrealizované cez DSP platformy, cez reklamné nástroje Google Ads, DV360 a Facebook Ads.
B40: 2023 - PODIEL VIDEO DISPLAY NA CELKOVOM DISPLAY
B42: Display | C42: 1HY 2023 | D42: 2HY 2023 | E42: TOTAL | F42: % PODIEL
B43: Non-video display | C43: =C7 -> 32747701 | D43: =D7 -> 39331977 | E43: =SUM(C43:D43) -> 72079678 | F43: =E43/$E$33 -> 0.62794917
B44: Video display | C44: =C9 -> 18535146 | D44: =D9 -> 24171024 | E44: =SUM(C44:D44) -> 42706170 | F44: =E44/$E$33 -> 0.37205083
B45: DISPLAY SPOLU vrátane Video | C45: =SUM(C43:C44) -> 51282847 | D45: =SUM(D43:D44) -> 63503001 | E45: =SUM(C45:D45) -> 1.1478585e+08 | F45: =E45/$E$33 -> 1
B48: VÝVOJ VÝDAVKOV DO INTERNETOVEJ REKLAMY MEDZIROČNÉ POROVNANIE 2023/2022
B50: REKLAMNÝ FORMÁT | C50: 2023 | D50: 2022 | E50: 2021 | F50: 2020 | G50: 2019 | H50: 2018 | I50: 2017 | J50: 2023/2022 | K50: 2022/2021 | L50: 2021/2020 | M50: 2020/2019 | N50: 2019/2018 | O50: 2018/2017 | P50: PODIEL 2023 | Q50: PODIEL 2O22 | R50: PODIEL 2021 | S50: PODIEL 2020 | T50: PODIEL 2019 | U50: PODIEL 2018 | V50: PODIEL 2017
B51: Non video display | C51: =E7 -> 72079678 | D51: =Výdavky_2022_full_year!C51 -> 68209725 | E51: 69962777 | F51: 55211440 | G51: 55741283 | H51: 54536270 | I51: 53440908 | J51: =C51/D51-1 -> 0.056736089 | K51: =D51/E51-1 -> -0.025056924 | L51: 0.26717899 | M51: -0.0095053958 | N51: 0.02209562 | O51: 0.020496703 | P51: =C51/$C$59 -> 0.35207284 | Q51: =D51/$D$59 -> 0.36082365 | R51: 0.37936396 | S51: 0.39418877 | T51: 0.40736399 | U51: 0.42534798 | V51: 0.45377397
B52: Paid for search | C52: =E8 -> 42510023 | D52: =Výdavky_2022_full_year!C52 -> 41037339 | E52: 40187709 | F52: 30268702 | G52: 30128735 | H52: 29023726 | I52: 26786329 | J52: =C52/D52-1 -> 0.03588644 | K52: =D52/E52-1 -> 0.021141539 | L52: 0.32769847 | M52: 0.004645621 | N52: 0.038072597 | O52: 0.08352759 | P52: =C52/$C$59 -> 0.20764 | Q52: =D52/$D$59 -> 0.21708403 | R52: 0.21791257 | S52: 0.21610706 | T52: 0.22018441 | U52: 0.22636648 | V52: 0.22744634
B53: Video display | C53: =E9 -> 42706170 | D53: =Výdavky_2022_full_year!C53 -> 39393836 | E53: 39759061 | F53: 28887354 | G53: 25175706 | H53: 22225424 | I53: 19625070 | J53: =C53/D53-1 -> 0.084082552 | K53: =D53/E53-1 -> -0.0091859564 | L53: 0.37634831 | M53: 0.14742975 | N53: 0.13274357 | O53: 0.13250162 | P53: =C53/$C$59 -> 0.20859808 | Q53: =D53/$D$59 -> 0.20839004 | R53: 0.21558828 | S53: 0.20624476 | T53: 0.18398708 | U53: 0.17334407 | V53: 0.16663912
B54: Classifieds and directories | C54: =E10 -> 26710574 | D54: =Výdavky_2022_full_year!C54 -> 22961871 | E54: 20526521 | F54: 16495648 | G54: 18078714 | H54: 16074435 | I54: 13187804 | J54: =C54/D54-1 -> 0.16325775 | K54: =D54/E54-1 -> 0.11864407 | L54: 0.24435979 | M54: -0.087565189 | N54: 0.12468739 | O54: 0.21888639 | P54: =C54/$C$59 -> 0.13046767 | Q54: =D54/$D$59 -> 0.12146635 | R54: 0.11130236 | S54: 0.11777268 | T54: 0.13212141 | U54: 0.1253703 | V54: 0.11197942
B55: Native | C55: =E11 -> 13028809 | D55: =Výdavky_2022_full_year!C55 -> 10158251 | E55: 10283778 | F55: 6963053 | G55: 6202853 | H55: 4163961.4 | I55: 3017230.5 | J55: =C55/D55-1 -> 0.28258392 | K55: =D55/E55-1 -> -0.012206312 | L55: 0.47690647 | M55: 0.12255651 | N55: 0.4896519 | O55: 0.38006077 | P55: =C55/$C$59 -> 0.063639156 | Q55: =D55/$D$59 -> 0.053736284 | R55: 0.055762435 | S55: 0.049713561 | T55: 0.045331194 | U55: 0.032476232 | V55: 0.025619712
B56: Other | C56: =E12 -> 7694193 | D56: =Výdavky_2022_full_year!C56 -> 7277933 | E56: 3701406 | F56: 2237257 | G56: 1506805 | H56: 2191838 | I56: 1712542.7 | J56: =C56/D56-1 -> 0.057194811 | K56: =D56/E56-1 -> 0.96626174 | L56: 0.65443934 | M56: 0.48476877 | N56: -0.31253814 | O56: 0.27987349 | P56: =C56/$C$59 -> 0.037582249 | Q56: =D56/$D$59 -> 0.038499647 | R56: 0.020070388 | S56: 0.015973167 | T56: 0.011011912 | U56: 0.017094933 | V56: 0.014541431
B57: - z toho affiliate reklama | C57: =E13 -> 3948500 | D57: =Výdavky_2022_full_year!C57 -> 4250128 | E57: n/a | J57: =C57/D57-1 -> -0.070969157 | K57: n/a | P57: =C57/$C$59 -> 0.019286429 | Q57: =D57/$D$59 -> 0.022482816
B58: - z toho digitálna audio reklama | C58: =E14 -> 2334865.3 | D58: =Výdavky_2022_full_year!C58 -> 1688755.3 | E58: 1153066 | J58: =C58/D58-1 -> 0.38259537 | K58: =D58/E58-1 -> 0.46457818 | P58: =C58/$C$59 -> 0.011404638 | Q58: =D58/$D$59 -> 0.008933372
B59: TOTAL | C59: =SUM(C51:C56) -> 2.0472945e+08 | D59: =SUM(D51:D56) -> 189038955 | E59: 184421252 | F59: 1.4006345e+08 | G59: 136834096 | H59: 1.2821565e+08 | I59: 1.1776988e+08 | J59: =C59/D59-1 -> 0.083001375 | K59: =D59/E59-1 -> 0.025038888 | L59: 0.31669788 | M59: 0.023600534 | N59: 0.067218324 | O59: 0.088696448 | P59: =C59/$C$59 -> 1 | Q59: 1 | R59: 1 | S59: 1 | T59: 1 | U59: 1
B61: PLATFORMA | C61: 2023 | D61: 2022 | E61: 2021 | F61: 2020 | G61: 2019 | H61: 2018 | I61: 2017 | J61: 2023/2022 | K61: 2022/2021 | L61: 2021/2020 | M61: 2020/2019 | N61: 2019/2018 | O61: 2018/2017 | P61: PODIEL 2023 | Q61: PODIEL 2022 | R61: PODIEL 2021 | S61: PODIEL 2020 | T61: PODIEL 2019 | U61: PODIEL 2018 | V61: PODIEL 2017
B62: Desktop | C62: =E23 -> 93053009 | D62: =Výdavky_2022_full_year!C62 -> 86688838 | E62: 85280496 | F62: 69898949 | G62: 75465193 | H62: 78184330 | I62: 74748945 | J62: =C62/D62-1 -> 0.073413963 | K62: =D62/E62-1 -> 0.016514231 | L62: 0.22005405 | M62: -0.07375909 | N62: -0.034778536 | O62: 0.04595897 | P62: =C62/C64 -> 0.45451697 | Q62: =D62/$D$64 -> 0.45857658 | R62: 0.46242228 | S62: 0.49905202 | T62: 0.55150869 | U62: 0.6097877 | V62: 0.63470339
B63: Mobil | C63: =E24 -> 111676439 | D63: =Výdavky_2022_full_year!C63 -> 1.0235012e+08 | E63: 99140756 | F63: 70164505 | G63: 61368903 | H63: 50031325 | I63: 43020939 | J63: =C63/D63-1 -> 0.091121751 | K63: =D63/E63-1 -> 0.032371764 | L63: 0.41297592 | M63: 0.14332344 | N63: 0.22660959 | O63: 0.16295288 | P63: =C63/C64 -> 0.54548303 | Q63: =D63/$D$64 -> 0.54142342 | R63: 0.53757772 | S63: 0.50094798 | T63: 0.44849131 | U63: 0.39021229 | V63: 0.36529661
B64: TOTAL | C64: =SUM(C62:C63) -> 204729448 | D64: =SUM(D62:D63) -> 1.8903895e+08 | E64: 184421252 | F64: 140063454 | G64: 136834096 | H64: 128215655 | I64: 1.1776988e+08 | J64: =C64/D64-1 -> 0.083001374 | K64: =D64/E64-1 -> 0.025038888 | L64: 0.31669787 | M64: 0.023600536 | N64: 0.067218321 | O64: 0.088696452 | P64: =SUM(P62:P63) -> 1 | Q64: =D64/$D$64 -> 1 | R64: 1 | S64: 1 | T64: 1 | U64: 1 | V64: 1
B67: Vývoj Programmatic display | C67: 2023 | D67: 2022 | E67: 2021 | F67: 2020 | G67: 2023/2022 | H67: 2022/2021 | I67: 2021/2020 | J67: PODIEL 2023 | K67: PODIEL 2022 | L67: PODIEL 2021 | M67: PODIEL 2020
B68: Non-programmatic display | C68: =E31 -> 24189561 | D68: =Výdavky_2022_full_year!C68 -> 21193696 | E68: =E70-E69 -> 25388912 | F68: =F70-F69 -> 20111926 | G68: =C68/D68-1 -> 0.14135646 | H68: =D68/E68-1 -> -0.16523814 | I68: =E68/F68-1 -> 0.26238093 | J68: =C68/$C$70 -> 0.21073644 | K68: =D68/D$70 -> 0.19696091 | L68: =E68/E$70 -> 0.23139343 | M68: =F68/F$70 -> 0.23914643
B69: Programmatic display | C69: =E32 -> 90596287 | D69: =Výdavky_2022_full_year!C69 -> 86409865 | E69: 84332926 | F69: 63986868 | G69: =C69/D69-1 -> 0.048448421 | H69: =D69/E69-1 -> 0.02462786 | I69: =E69/F69-1 -> 0.3179724 | J69: =C69/$C$70 -> 0.78926356 | K69: =D69/D$70 -> 0.80303909 | L69: =E69/E$70 -> 0.76860657 | M69: =F69/F$70 -> 0.76085357
B70: TOTAL | C70: =SUM(C68:C69) -> 1.1478585e+08 | D70: =SUM(D68:D69) -> 107603561 | E70: =Výdavky_2021!E7+Výdavky_2021!E9 -> 109721838 | F70: =Výdavky_2020!E8+Výdavky_2020!E10 -> 84098794 | G70: =C70/D70-1 -> 0.066747673 | H70: =D70/E70-1 -> -0.019305883 | I70: =E70/F70-1 -> 0.3046779 | J70: =C70/$C$70 -> 1 | K70: =SUM(K68:K69) -> 1 | L70: =SUM(L68:L69) -> 1 | M70: =SUM(M68:M69) -> 1
B71: Poznámka: pre možnosť porovnania boli hodnoty z roka 2020 prepočítané novou metodikou pre programmatic reklamu.
B73: Vývoj Video display | C73: 2023 | D73: 2022 | E73: 2021 | F73: 2020 | G73: 2023/2022 | H73: 2022/2021 | I73: 2021/2020 | J73: PODIEL 2022 | K73: PODIEL 2021 | L73: PODIEL 2020
B74: Non-video display | C74: =E43 -> 72079678 | D74: =Výdavky_2022_full_year!C74 -> 68209725 | E74: 69962777 | F74: 55211440 | G74: =C74/D74-1 -> 0.056736089 | H74: =D74/E74-1 -> -0.025056924 | I74: =E74/F74-1 -> 0.26717899 | J74: =D74/$D$76 -> 0.6338984 | K74: =E74/$E$76 -> 0.63763767 | L74: =F74/$F$76 -> 0.65650692
B75: Video display | C75: =E44 -> 42706170 | D75: =Výdavky_2022_full_year!C75 -> 39393836 | E75: 39759061 | F75: 28887354 | G75: =C75/D75-1 -> 0.084082552 | H75: =D75/E75-1 -> -0.0091859564 | I75: =E75/F75-1 -> 0.37634831 | J75: =D75/$D$76 -> 0.3661016 | K75: =E75/$E$76 -> 0.36236233 | L75: =F75/$F$76 -> 0.34349308
B76: TOTAL | C76: =SUM(C74:C75) -> 1.1478585e+08 | D76: =SUM(D74:D75) -> 107603561 | E76: 109721838 | F76: 84098794 | G76: =C76/D76-1 -> 0.066747673 | H76: =D76/E76-1 -> -0.019305883 | I76: =E76/F76-1 -> 0.3046779 | J76: =D76/$D$76 -> 1 | K76: =E76/$E$76 -> 1 | L76: =F76/$F$76 -> 1
B78: LINK NA TLAČOVÚ SPRÁVU
B79: LINK NA INFOGRAFIKU
B84: VÝVOJ A MEDZIROČNÉ POROVNANIE VÝDAVKOV ZA DRUHÝ POLROK 2022
B88: FORMÁT REKLAMY | C88: 2HY 2023 | D88: 2HY 2022 | E88: % ZMENA
B89: Non video display | C89: =D7 -> 39331977 | D89: =Výdavky_2022_full_year!C89 -> 36877832 | E89: =C89/D89-1 -> 0.066547974
B90: Paid for search | C90: =D8 -> 22817816 | D90: =Výdavky_2022_full_year!C90 -> 21731254 | E90: =C90/D90-1 -> 0.049999968
B91: Video display | C91: =D9 -> 24171024 | D91: =Výdavky_2022_full_year!C91 -> 22677857 | E91: =C91/D91-1 -> 0.065842509
B92: Classifieds and directories | C92: =D10 -> 13443161 | D92: =Výdavky_2022_full_year!C92 -> 11255131 | E92: =C92/D92-1 -> 0.19440289
B93: Native | C93: =D11 -> 7414886 | D93: =Výdavky_2022_full_year!C93 -> 5589469 | E93: =C93/D93-1 -> 0.32658147
B94: Other | C94: =D12 -> 4462594 | D94: =Výdavky_2022_full_year!C94 -> 4013280 | E94: =C94/D94-1 -> 0.1119568
B95: - z toho affiliate reklama | C95: =D13 -> 2420500 | D95: =Výdavky_2022_full_year!C95 -> 2350000 | E95: =C95/D95-1 -> 0.03
B96: - z toho digitálna audio reklama | C96: =D14 -> 1425853.3 | D96: =Výdavky_2022_full_year!C96 -> 944274.3 | E96: =C96/D96-1 -> 0.50999901
B97: TOTAL | C97: =SUM(C89:C94) -> 111641458 | D97: =SUM(D89:D94) -> 102144823 | E97: =C97/D97-1 -> 0.09297226
B100: Platforma | C100: 2HY 2023 | D100: 2HY 2022 | E100: % ZMENA
B101: Desktop | C101: =D23 -> 50169621 | D101: =Výdavky_2022_full_year!C101 -> 45894454 | E101: =C101/D101-1 -> 0.093152153
B102: Mobil | C102: =D24 -> 61471837 | D102: =Výdavky_2022_full_year!C102 -> 56250369 | E102: =C102/D102-1 -> 0.092825486
B103: TOTAL | C103: =SUM(C101:C102) -> 111641458 | D103: =SUM(D101:D102) -> 1.0214482e+08 | E103: =C103/D103-1 -> 0.09297226
B105: VÝVOJ PROGRAMMATIC DISPLAY
B107: Display | C107: 2HY 2023 | D107: 2HY 2022 | E107: % ZMENA
B108: Non programmatic display | C108: =C110-C109 -> 13260643 | D108: =Výdavky_2022_full_year!C108 -> 12298684 | E108: =C108/D108-1 -> 0.078216459
B109: Programmatic display | C109: =D32 -> 50242358 | D109: =Výdavky_2022_full_year!C109 -> 47257005 | E109: =C109/D109-1 -> 0.063172698
B110: DISPLAY SPOLU vrátane Video | C110: =D7+D9 -> 63503001 | D110: =SUM(D108:D109) -> 59555689 | E110: =C110/D110-1 -> 0.066279344
B112: VÝVOJ VIDEO A NON VIDEO DISPLAY
B114: Display | C114: 2HY 2023 | D114: 2HY 2022 | E114: % ZMENA
B115: Non video display | C115: =C117-C116 -> 39331977 | D115: =Výdavky_2022_full_year!C115 -> 36877832 | E115: =C115/D115-1 -> 0.066547974
B116: Video display | C116: =D9 -> 24171024 | D116: =Výdavky_2022_full_year!C116 -> 22677857 | E116: =C116/D116-1 -> 0.065842509
B117: DISPLAY SPOLU vrátane Video | C117: =D7+D9 -> 63503001 | D117: =SUM(D115:D116) -> 59555689 | E117: =C117/D117-1 -> 0.066279344
F176: Digitálna audio reklama | G176: 0.38
F177: Native | G177: 0.28
F178: Classifieds and directories | G178: 0.16
F179: Video display | G179: =J53 -> 0.084082552
F180: Non video display | G180: =J51 -> 0.056736089
F181: Paid for search | G181: =J52 -> 0.03588644
F182: Affiliate | G182: =J57 -> -0.070969157

Sheet Výdavky_2023_1HY
B2: VÝDAVKY DO INTERNETOVEJ REKLAMY ZA PRVÝ POLROK 2023
B4: 1HY 2023 - výdavky podľa FORMÁTU
B6: FORMÁT REKLAMY | C6: 1HY 2023 | D6: 1HY 2022 | E6: % ZMENA | F6: % PODIEL
B7: Non video display | C7: 32747701 | D7: 31331893 | E7: =C7/D7-1 -> 0.045187441 | F7: 0.35
B8: Paid for search | C8: 19692207 | D8: 19306085 | E8: =C8/D8-1 -> 0.020000016 | F8: 0.21
B9: Video display | C9: 18535146 | D9: 16715979 | E9: =C9/D9-1 -> 0.10882804 | F9: 0.2
B10: Classifieds and directories | C10: 13267414 | D10: 11706740 | E10: =C10/D10-1 -> 0.1333141 | F10: 0.14
B11: Native | C11: 5613923.4 | D11: 4568782 | E11: =C11/D11-1 -> 0.22875711 | F11: 0.06
B12: Other | C12: 3231599 | D12: 3264653 | E12: =C12/D12-1 -> -0.010124813 | F12: 0.04
B13: - z toho affiliate reklama | C13: 1528000 | D13: 1900128 | E13: =C13/D13-1 -> -0.19584365 | F13: =C13/$C$15 -> 0.016414577
B14: - z toho digitálna audio reklama | C14: 909012 | D14: 744481 | E14: =C14/D14-1 -> 0.22100094 | F14: =C14/$C$15 -> 0.0097650835
B15: TOTAL | C15: =C7+C8+C9+C10+C11+C12 -> 93087990 | D15: =SUM(D7:D12) -> 86894132 | E15: =C15/D15-1 -> 0.071280512 | F15: =F7+F8+F9+F10+F11+F12 -> 1
B17: Poznámka: Na začiatku roka 2022 sme v IAB Slovakia začali monitorovať affiliate reklamu ako separátny formát.
B20: 1HY 2023 - výdavky podľa PLATFORMY
B22: PLATFORMA | C22: 1HY 2023 | D22: 1HY 2022 | E22: % ZMENA | F22: % PODIEL
B23: Desktop | C23: 42883388 | D23: 40794384 | E23: =C23/D23-1 -> 0.051208127 | F23: =C23/C25 -> 0.46067584
B24: Mobil | C24: 50204602 | D24: 46099748 | E24: =C24/D24-1 -> 0.089042873 | F24: =C24/C25 -> 0.53932416
B25: TOTAL | C25: =SUM(C23:C24) -> 93087990 | D25: =SUM(D23:D24) -> 86894132 | E25: =C25/D25-1 -> 0.071280509 | F25: =SUM(F23:F24) -> 1
B28: 1HY 2023 - PODIEL PROGRAMMATIC DISPLAY NA CELKOVOM DISPLAY
B30: DISPLAY | C30: 1HY 2023 | D30: 1HY 2022 | E30: % ZMENA | F30: % PODIEL
B31: Non-programmatic display | C31: =C33-C32 -> 10928918 | D31: =(D7+D9)-D32 -> 8895012 | E31: =C31/D31-1 -> 0.22865695 | F31: =C31/C33 -> 0.2131106
B32: Programmatic display | C32: 40353929 | D32: 39152860 | E32: =C32/D32-1 -> 0.030676405 | F32: =C32/C33 -> 0.7868894
B33: DISPLAY SPOLU vrátane Video | C33: =C7+C9 -> 51282847 | D33: =SUM(D31:D32) -> 48047872 | E33: =C33/D33-1 -> 0.06732817 | F33: =SUM(F31:F32) -> 1
B35: Poznámka: Na začiatku roka 2021 došlo k zmene metodiky v prípade programmatic reklamy a to v súlade so štandardmi medzinárodného združenie IAB Europe. Definícia programmatic display reklamy bola rozšírená a zahŕňa všetku reklamu, ktorá bola nakupovaná akýmkoľvek automatizovaným spôsobom. Čiže do programmatic výdavkov sú zahrnuté investície zrealizované cez DSP platformy, cez reklamné nástroje Google Ads, DV360 a Facebook Ads.
B40: 1HY 2023 - PODIEL VIDEO DISPLAY NA CELKOVOM DISPLAY
B42: Display | C42: 1HY 2023 | D42: 1HY 2022 | E42: % ZMENA | F42: % PODIEL
B43: Non-video display | C43: =C7 -> 32747701 | D43: =D7 -> 31331893 | E43: =C43/D43-1 -> 0.045187441 | F43: =C43/C45 -> 0.63857026
B44: Video display | C44: =C9 -> 18535146 | D44: =D9 -> 16715979 | E44: =C44/D44-1 -> 0.10882804 | F44: =C44/C45 -> 0.36142974
B45: DISPLAY SPOLU vrátane Video | C45: =C7+C9 -> 51282847 | D45: =SUM(D43:D44) -> 48047872 | E45: =C45/D45-1 -> 0.06732817 | F45: =E45/$E$45 -> 1
B48: VÝVOJ VÝDAVKOV DO INTERNETOVEJ REKLAMY MEDZIROČNÉ POROVNANIE PRVÉ POLROKY
B50: REKLAMNÝ FORMÁT | C50: 1HY 2023 | D50: 1HY 2022 | E50: 1HY 2021 | F50: 1HY 2020 | G50: 1HY 2019 | H50: 2023/2022 | I50: 2022/2021 | J50: 2021/2020 | K50: 2020/2019 | L50: PODIEL 1HY 2023 | M50: PODIEL 1HY 2022 | N50: PODIEL 1HY 2021 | O50: PODIEL 1HY 2020 | P50: PODIEL 1HY 2019
B51: Non video display | C51: =C7 -> 32747701 | D51: =D7 -> 31331893 | E51: 30256737 | F51: 24053985 | G51: 26122052 | H51: =C51/D51-1 -> 0.045187441 | I51: =D51/E51-1 -> 0.035534433 | J51: =E51/F51-1 -> 0.25786796 | K51: =F51/G51-1 -> -0.079169386 | L51: 0.35 | M51: =D51/D$57 -> 0.36057548 | N51: =E51/E$57 -> 0.38449404 | O51: =F51/F$57 -> 0.39079394 | P51: =G51/G$57 -> 0.41066475
B52: Paid for search | C52: =C8 -> 19692207 | D52: =D8 -> 19306085 | E52: 17550986 | F52: 13500759 | G52: 14602862 | H52: =C52/D52-1 -> 0.020000016 | I52: =D52/E52-1 -> 0.10000002 | J52: =E52/F52-1 -> 0.29999997 | K52: =F52/G52-1 -> -0.075471712 | L52: 0.21 | M52: =D52/D$57 -> 0.22217939 | N52: =E52/E$57 -> 0.22303296 | O52: =F52/F$57 -> 0.21934057 | P52: =G52/G$57 -> 0.22957157
B53: Video display | C53: =C9 -> 18535146 | D53: =D9 -> 16715979 | E53: 16027187 | F53: 12287379 | G53: 10629730 | H53: =C53/D53-1 -> 0.10882804 | I53: =D53/E53-1 -> 0.042976475 | J53: =E53/F53-1 -> 0.30436176 | K53: =F53/G53-1 -> 0.15594457 | L53: 0.2 | M53: =D53/D$57 -> 0.19237178 | N53: =E53/E$57 -> 0.20366895 | O53: =F53/F$57 -> 0.19962735 | P53: =G53/G$57 -> 0.16710998
B54: Classifieds and directories | C54: =C10 -> 13267414 | D54: =D10 -> 11706740 | E54: 9290618 | F54: 8272290.4 | G54: 9130513.8 | H54: =C54/D54-1 -> 0.1333141 | I54: =D54/E54-1 -> 0.26006042 | J54: =E54/F54-1 -> 0.12310105 | K54: =F54/G54-1 -> -0.093995082 | L54: 0.14 | M54: =D54/D$57 -> 0.13472417 | N54: =E54/E$57 -> 0.11806254 | O54: =F54/F$57 -> 0.13439607 | P54: =G54/G$57 -> 0.1435408
B55: Native | C55: =C11 -> 5613923.4 | D55: =D11 -> 4568782 | E55: 4103694 | F55: 2599528.1 | G55: 2598781.8 | H55: =C55/D55-1 -> 0.22875711 | I55: =D55/E55-1 -> 0.11333399 | J55: =E55/F55-1 -> 0.57863037 | K55: =F55/G55-1 -> 0.00028716955 | L55: 0.06 | M55: =D55/D$57 -> 0.052578717 | N55: =E55/E$57 -> 0.052148581 | O55: =F55/F$57 -> 0.042233328 | P55: =G55/G$57 -> 0.040855446
B56: Other | C56: =C12 -> 3231599 | D56: =D12 -> 3264653 | E56: 1463121 | F56: 837640 | G56: 525250.46 | H56: =C56/D56-1 -> -0.010124813 | I56: =D56/E56-1 -> 1.2312939 | J56: =E56/F56-1 -> 0.74671816 | K56: =F56/G56-1 -> 0.59474396 | L56: 0.04 | M56: =D56/D$57 -> 0.037570466 | N56: =E56/E$57 -> 0.018592927 | O56: =F56/F$57 -> 0.013608749 | P56: =G56/G$57 -> 0.0082574619
B57: TOTAL | C57: =SUM(C51:C56) -> 93087990 | D57: =SUM(D51:D56) -> 86894132 | E57: =SUM(E51:E56) -> 78692343 | F57: =SUM(F51:F56) -> 61551581 | G57: =SUM(G51:G56) -> 63609190 | H57: =C57/D57-1 -> 0.071280512 | I57: =D57/E57-1 -> 0.10422601 | J57: =E57/F57-1 -> 0.27847801 | K57: =F57/G57-1 -> -0.032347663 | L57: =C57/$C$57 -> 1 | M57: =SUM(M51:M56) -> 1 | N57: =F15 -> 1 | O57: =SUM(O51:O56) -> 1 | P57: =SUM(P51:P56) -> 1
B59: PLATFORMA | C59: 1HY 2023 | D59: 1HY 2022 | E59: 1HY 2021 | F59: 1HY 2020 | G59: 1HY 2019 | H59: 2023/2022 | I59: 2022/2021 | J59: 2021/2020 | K59: 2020/2019 | L59: PODIEL 1HY 2023 | M59: PODIEL 1HY 2022 | N59: PODIEL 1HY 2021 | O59: PODIEL 1HY 2020 | P59: PODIEL 1HY 2019
B60: Desktop | C60: =C23 -> 42883388 | D60: =D23 -> 40794384 | E60: 37426843 | F60: 32310142 | G60: 36986897 | H60: =C60/D60-1 -> 0.051208127 | I60: =D60/E60-1 -> 0.089976625 | J60: =E60/F60-1 -> 0.15836207 | K60: =F60/G60-1 -> -0.12644357 | L60: =C60/C62 -> 0.46067584 | M60: =D60/D62 -> 0.46947225 | N60: =E60/E62 -> 0.47560972 | O60: =F60/F62 -> 0.5249279 | P60: =G60/G62 -> 0.58147097
B61: Mobil | C61: =C24 -> 50204602 | D61: =D24 -> 46099748 | E61: 41265500 | F61: 29241439 | G61: 26622292 | H61: =C61/D61-1 -> 0.089042873 | I61: =D61/E61-1 -> 0.11714987 | J61: =E61/F61-1 -> 0.41119938 | K61: =F61/G61-1 -> 0.098381696 | L61: =C61/C62 -> 0.53932416 | M61: =D61/D62 -> 0.53052775 | N61: =E61/E62 -> 0.52439028 | O61: =F61/F62 -> 0.4750721 | P61: =G61/G62 -> 0.41852903
B62: TOTAL | C62: =SUM(C60:C61) -> 93087990 | D62: =SUM(D60:D61) -> 86894132 | E62: =SUM(E60:E61) -> 78692343 | F62: =SUM(F60:F61) -> 61551581 | G62: =SUM(G60:G61) -> 63609190 | H62: =C62/D62-1 -> 0.071280509 | I62: =D62/E62-1 -> 0.10422601 | J62: =E62/F62-1 -> 0.27847802 | K62: =F62/G62-1 -> -0.032347668 | L62: =SUM(L60:L61) -> 1 | M62: =SUM(M60:M61) -> 1 | N62: =SUM(N60:N61) -> 1 | O62: =SUM(O60:O61) -> 1 | P62: =SUM(P60:P61) -> 1
B65: Vývoj Programmatic display | C65: 1HY 2023 | D65: 1HY 2022 | E65: 1HY 2021 | F65: 1HY 2020 | G65: 1HY 2019 | H65: 2023/2022 | I65: 2022/2021 | J65: 2021/2020 | K65: 2020/2019 | L65: PODIEL 1HY 2023 | M65: PODIEL 1HY 2022 | N65: PODIEL 1HY 2021 | O65: PODIEL 1HY 2020 | P65: PODIEL 1HY 2019
B66: Non-programmatic display | C66: =C31 -> 10928918 | D66: =D31 -> 8895012 | E66: 10406201 | F66: 8882048.5 | G66: 9893204.7 | H66: =C66/D66-1 -> 0.22865695 | I66: =D66/E66-1 -> -0.14522005 | J66: =E66/F66-1 -> 0.17159921 | K66: =F66/G66-1 -> -0.10220715 | L66: =C66/C68 -> 0.2131106 | M66: =D66/D$68 -> 0.18512812 | N66: =E66/E$68 -> 0.22483403 | O66: =F66/F$68 -> 0.24440603 | P66: =G66/G$68 -> 0.2691898
B67: Programmatic display | C67: =C32 -> 40353929 | D67: =D32 -> 39152860 | E67: 35877723 | F67: 27459315 | G67: 26858577 | H67: =C67/D67-1 -> 0.030676405 | I67: =D67/E67-1 -> 0.091286089 | J67: =E67/F67-1 -> 0.30657748 | K67: =F67/G67-1 -> 0.022366717 | L67: =C67/C68 -> 0.7868894 | M67: =D67/D$68 -> 0.81487188 | N67: =E67/E$68 -> 0.77516597 | O67: =F67/F$68 -> 0.75559397 | P67: =G67/G$68 -> 0.7308102
B68: TOTAL | C68: =SUM(C66:C67) -> 51282847 | D68: =SUM(D66:D67) -> 48047872 | E68: =SUM(E66:E67) -> 46283924 | F68: =SUM(F66:F67) -> 36341364 | G68: =SUM(G66:G67) -> 36751782 | H68: =C68/D68-1 -> 0.06732817 | I68: =D68/E68-1 -> 0.038111462 | J68: =E68/F68-1 -> 0.27358798 | K68: =F68/G68-1 -> -0.011167298 | L68: =SUM(L66:L67) -> 1 | M68: =SUM(M66:M67) -> 1 | N68: =SUM(N66:N67) -> 1 | O68: =SUM(O66:O67) -> 1 | P68: =SUM(P66:P67) -> 1
B69: Poznámka: pre možnosť porovnania boli hodnoty z roka 2020 a 2019 prepočítané novou metodikou pre programmatic reklamu.
B71: Vývoj Video display | C71: 1 HY 2023 | D71: 1HY 2022 | E71: 1HY 2021 | F71: 1HY 2020 | G71: 1HY 2019 | H71: 2023/2022 | I71: 2022/2021 | J71: 2021/2020 | K71: 2020/2019 | L71: PODIEL 1HY 2023 | M71: PODIEL 1HY 2022 | N71: PODIEL 1HY 2021 | O71: PODIEL 1HY 2020 | P71: PODIEL 1HY 2019
B72: Non-video display | C72: =C43 -> 32747701 | D72: =D43 -> 31331893 | E72: 30256737 | F72: 24053985 | G72: 26122052 | H72: =C72/D72-1 -> 0.045187441 | I72: =D72/E72-1 -> 0.035534433 | J72: =E72/F72-1 -> 0.25786796 | K72: =F72/G72-1 -> -0.079169386 | L72: =C72/C74 -> 0.63857026 | M72: =D72/D$68 -> 0.65209741 | N72: =E72/E$68 -> 0.65372022 | O72: =F72/F$68 -> 0.66188999 | P72: =G72/G$68 -> 0.71076967
B73: Video display | C73: =C44 -> 18535146 | D73: =D44 -> 16715979 | E73: 16027187 | F73: 12287379 | G73: 10629730 | H73: =C73/D73-1 -> 0.10882804 | I73: =D73/E73-1 -> 0.042976475 | J73: =E73/F73-1 -> 0.30436176 | K73: =F73/G73-1 -> 0.15594457 | L73: =C73/C74 -> 0.36142974 | M73: =D73/D$68 -> 0.34790259 | N73: =E73/E$68 -> 0.34627978 | O73: =F73/F$68 -> 0.33811001 | P73: =G73/G$68 -> 0.28923033
B74: TOTAL | C74: =SUM(C72:C73) -> 51282847 | D74: =SUM(D72:D73) -> 48047872 | E74: =SUM(E72:E73) -> 46283924 | F74: =SUM(F72:F73) -> 36341364 | G74: =SUM(G72:G73) -> 36751782 | H74: =C74/D74-1 -> 0.06732817 | I74: =D74/E74-1 -> 0.038111462 | J74: =E74/F74-1 -> 0.27358798 | K74: =F74/G74-1 -> -0.011167298 | L74: =SUM(L72:L73) -> 1 | M74: =SUM(M72:M73) -> 1 | N74: =SUM(N72:N73) -> 1 | O74: =SUM(O72:O73) -> 1 | P74: =SUM(P72:P73) -> 1
B76: LINK NA TLAČOVÚ SPRÁVU

Sheet Výdavky_2022_full_year
B2: VÝDAVKY DO INTERNETOVEJ REKLAMY ZA ROK 2022
B4: 2022 - výdavky podľa FORMÁTU
B6: FORMÁT REKLAMY | C6: 1HY 2022 | D6: 2HY 2022 | E6: TOTAL | F6: % PODIEL
B7: Non video display | C7: 31331893 | D7: 36877832 | E7: =C7+D7 -> 68209725 | F7: =E7/$E$15 -> 0.36082365
B8: Paid for search | C8: 19306085 | D8: 21731254 | E8: =C8+D8 -> 41037339 | F8: =E8/$E$15 -> 0.21708403
B9: Video display | C9: 16715979 | D9: 22677857 | E9: =C9+D9 -> 39393836 | F9: =E9/$E$15 -> 0.20839004
B10: Classifieds and directories | C10: 11706740 | D10: 11255131 | E10: =C10+D10 -> 22961871 | F10: =E10/$E$15 -> 0.12146635
B11: Native | C11: 4568782 | D11: 5589469 | E11: =C11+D11 -> 10158251 | F11: =E11/$E$15 -> 0.053736284
B12: Other | C12: 3264653 | D12: 4013280 | E12: =C12+D12 -> 7277933 | F12: =E12/$E$15 -> 0.038499647
B13: - z toho affiliate reklama | C13: 1900128 | D13: 2350000 | E13: =C13+D13 -> 4250128 | F13: =E13/$E$15 -> 0.022482816
B14: - z toho digitálna audio reklama | C14: 744481 | D14: 944274.3 | E14: =C14+D14 -> 1688755.3 | F14: =E14/$E$15 -> 0.008933372
B15: TOTAL | C15: =SUM(C7:C12) -> 86894132 | D15: =SUM(D7:D12) -> 102144823 | E15: =SUM(E7:E12) -> 189038955 | F15: =E15/$E$15 -> 1
B17: Poznámka: Na začiatku roka 2022 sme v IAB Slovakia začali monitorovať affiliate reklamu ako separátny formát.
B20: 2022 - výdavky podľa PLATFORMY
B22: PLATFORMA | C22: 1HY 2022 | D22: 2HY 2022 | E22: TOTAL | F22: % PODIEL
B23: Desktop | C23: 40794384 | D23: 45894454 | E23: =SUM(C23:D23) -> 86688838 | F23: =E23/$E$25 -> 0.45857658
B24: Mobil | C24: 46099748 | D24: 56250369 | E24: =SUM(C24:D24) -> 1.0235012e+08 | F24: =E24/$E$25 -> 0.54142342
B25: TOTAL | C25: =SUM(C23:C24) -> 86894132 | D25: =SUM(D23:D24) -> 1.0214482e+08 | E25: =SUM(C25:D25) -> 1.8903895e+08 | F25: =E25/$E$25 -> 1
B28: 2022 - PODIEL PROGRAMMATIC DISPLAY NA CELKOVOM DISPLAY
B30: DISPLAY | C30: 1HY 2022 | D30: 2HY 2022 | E30: TOTAL | F30: % PODIEL
B31: Non-programmatic display | C31: =(C7+C9)-C32 -> 8895012 | D31: =(D7+D9)-D32 -> 12298684 | E31: =SUM(C31:D31) -> 21193696 | F31: =E31/$E$33 -> 0.19696091
B32: Programmatic display | C32: 39152860 | D32: 47257005 | E32: =SUM(C32:D32) -> 86409865 | F32: =E32/$E$33 -> 0.80303909
B33: DISPLAY SPOLU vrátane Video | C33: =SUM(C31:C32) -> 48047872 | D33: =SUM(D31:D32) -> 59555689 | E33: =SUM(C33:D33) -> 107603561 | F33: =E33/$E$33 -> 1
B35: Poznámka: Na začiatku roka 2021 došlo k zmene metodiky v prípade programmatic reklamy a to v súlade so štandardmi medzinárodného združenie IAB Europe. Definícia programmatic display reklamy bola rozšírená a zahŕňa všetku reklamu, ktorá bola nakupovaná akýmkoľvek automatizovaným spôsobom. Čiže do programmatic výdavkov sú zahrnuté investície zrealizované cez DSP platformy, cez reklamné nástroje Google Ads, DV360 a Facebook Ads.
B40: 2022 - PODIEL VIDEO DISPLAY NA CELKOVOM DISPLAY
B42: Display | C42: 1HY 2022 | D42: 2HY 2021 | E42: TOTAL | F42: % PODIEL
B43: Non-video display | C43: =C7 -> 31331893 | D43: =D7 -> 36877832 | E43: =SUM(C43:D43) -> 68209725 | F43: =E43/$E$33 -> 0.6338984
B44: Video display | C44: =C9 -> 16715979 | D44: =D9 -> 22677857 | E44: =SUM(C44:D44) -> 39393836 | F44: =E44/$E$33 -> 0.3661016
B45: DISPLAY SPOLU vrátane Video | C45: =SUM(C43:C44) -> 48047872 | D45: =SUM(D43:D44) -> 59555689 | E45: =SUM(C45:D45) -> 107603561 | F45: =E45/$E$33 -> 1
B48: VÝVOJ VÝDAVKOV DO INTERNETOVEJ REKLAMY MEDZIROČNÉ POROVNANIE 2022/2021
B50: REKLAMNÝ FORMÁT | C50: 2022 | D50: 2021 | E50: 2020 | F50: 2019 | G50: 2018 | H50: 2017 | I50: 2022/2021 | J50: 2021/2020 | K50: 2020/2019 | L50: 2019/2018 | M50: 2018/2017 | N50: PODIEL 2O22 | O50: PODIEL 2021 | P50: PODIEL 2020 | Q50: PODIEL 2019 | R50: PODIEL 2018 | S50: PODIEL 2017
B51: Non video display | C51: =E7 -> 68209725 | D51: 69962777 | E51: 55211440 | F51: 55741283 | G51: 54536270 | H51: 53440908 | I51: =C51/D51-1 -> -0.025056924 | J51: 0.26717899 | K51: -0.0095053958 | L51: 0.02209562 | M51: 0.020496703 | N51: =C51/$C$59 -> 0.36082365 | O51: 0.37936396 | P51: 0.39418877 | Q51: 0.40736399 | R51: 0.42534798 | S51: 0.45377397
B52: Paid for search | C52: =E8 -> 41037339 | D52: 40187709 | E52: 30268702 | F52: 30128735 | G52: 29023726 | H52: 26786329 | I52: =C52/D52-1 -> 0.021141539 | J52: 0.32769847 | K52: 0.004645621 | L52: 0.038072597 | M52: 0.08352759 | N52: =C52/$C$59 -> 0.21708403 | O52: 0.21791257 | P52: 0.21610706 | Q52: 0.22018441 | R52: 0.22636648 | S52: 0.22744634
B53: Video display | C53: =E9 -> 39393836 | D53: 39759061 | E53: 28887354 | F53: 25175706 | G53: 22225424 | H53: 19625070 | I53: =C53/D53-1 -> -0.0091859564 | J53: 0.37634831 | K53: 0.14742975 | L53: 0.13274357 | M53: 0.13250162 | N53: =C53/$C$59 -> 0.20839004 | O53: 0.21558828 | P53: 0.20624476 | Q53: 0.18398708 | R53: 0.17334407 | S53: 0.16663912
B54: Classifieds and directories | C54: =E10 -> 22961871 | D54: 20526521 | E54: 16495648 | F54: 18078714 | G54: 16074435 | H54: 13187804 | I54: =C54/D54-1 -> 0.11864407 | J54: 0.24435979 | K54: -0.087565189 | L54: 0.12468739 | M54: 0.21888639 | N54: =C54/$C$59 -> 0.12146635 | O54: 0.11130236 | P54: 0.11777268 | Q54: 0.13212141 | R54: 0.1253703 | S54: 0.11197942
B55: Native | C55: =E11 -> 10158251 | D55: 10283778 | E55: 6963053 | F55: 6202853 | G55: 4163961.4 | H55: 3017230.5 | I55: =C55/D55-1 -> -0.012206312 | J55: 0.47690647 | K55: 0.12255651 | L55: 0.4896519 | M55: 0.38006077 | N55: =C55/$C$59 -> 0.053736284 | O55: 0.055762435 | P55: 0.049713561 | Q55: 0.045331194 | R55: 0.032476232 | S55: 0.025619712
B56: Other | C56: =E12 -> 7277933 | D56: 3701406 | E56: 2237257 | F56: 1506805 | G56: 2191838 | H56: 1712542.7 | I56: =C56/D56-1 -> 0.96626174 | J56: 0.65443934 | K56: 0.48476877 | L56: -0.31253814 | M56: 0.27987349 | N56: =C56/$C$59 -> 0.038499647 | O56: 0.020070388 | P56: 0.015973167 | Q56: 0.011011912 | R56: 0.017094933 | S56: 0.014541431
B57: - z toho affiliate reklama | C57: 4250128 | D57: n/a | I57: n/a | N57: =C57/$C$59 -> 0.022482816
B58: - z toho digitálna audio reklama | C58: 1688755.3 | D58: 1153066 | I58: =C58/D58-1 -> 0.46457818 | N58: =C58/$C$59 -> 0.008933372
B59: TOTAL | C59: =SUM(C51:C56) -> 189038955 | D59: 184421252 | E59: 1.4006345e+08 | F59: 136834096 | G59: 1.2821565e+08 | H59: 1.1776988e+08 | I59: =C59/D59-1 -> 0.025038888 | J59: 0.31669788 | K59: 0.023600534 | L59: 0.067218324 | M59: 0.088696448 | N59: 1 | O59: 1 | P59: 1 | Q59: 1 | R59: 1
B61: PLATFORMA | C61: 2022 | D61: 2021 | E61: 2020 | F61: 2019 | G61: 2018 | H61: 2017 | I61: 2022/2021 | J61: 2021/2020 | K61: 2020/2019 | L61: 2019/2018 | M61: 2018/2017 | N61: PODIEL 2022 | O61: PODIEL 2021 | P61: PODIEL 2020 | Q61: PODIEL 2019 | R61: PODIEL 2018 | S61: PODIEL 2017
B62: Desktop | C62: =E23 -> 86688838 | D62: 85280496 | E62: 69898949 | F62: 75465193 | G62: 78184330 | H62: 74748945 | I62: =C62/D62-1 -> 0.016514231 | J62: 0.22005405 | K62: -0.07375909 | L62: -0.034778536 | M62: 0.04595897 | N62: =C62/$C$64 -> 0.45857658 | O62: 0.46242228 | P62: 0.49905202 | Q62: 0.55150869 | R62: 0.6097877 | S62: 0.63470339
B63: Mobil | C63: =E24 -> 1.0235012e+08 | D63: 99140756 | E63: 70164505 | F63: 61368903 | G63: 50031325 | H63: 43020939 | I63: =C63/D63-1 -> 0.032371764 | J63: 0.41297592 | K63: 0.14332344 | L63: 0.22660959 | M63: 0.16295288 | N63: =C63/$C$64 -> 0.54142342 | O63: 0.53757772 | P63: 0.50094798 | Q63: 0.44849131 | R63: 0.39021229 | S63: 0.36529661
B64: TOTAL | C64: =SUM(C62:C63) -> 1.8903895e+08 | D64: 184421252 | E64: 140063454 | F64: 136834096 | G64: 128215655 | H64: 1.1776988e+08 | I64: =C64/D64-1 -> 0.025038888 | J64: 0.31669787 | K64: 0.023600536 | L64: 0.067218321 | M64: 0.088696452 | N64: =C64/$C$64 -> 1 | O64: 1 | P64: 1 | Q64: 1 | R64: 1 | S64: 1
B67: Vývoj Programmatic display | C67: 2022 | D67: 2021 | E67: 2020 | F67: 2022/2021 | G67: 2021/2020 | H67: PODIEL 2022 | I67: PODIEL 2021 | J67: PODIEL 2020
B68: Non-programmatic display | C68: =C70-C69 -> 21193696 | D68: =D70-D69 -> 25388912 | E68: =E70-E69 -> 20111926 | F68: =C68/D68-1 -> -0.16523814 | G68: =D68/E68-1 -> 0.26238093 | H68: =C68/C$70 -> 0.19696091 | I68: =D68/D$70 -> 0.23139343 | J68: =E68/E$70 -> 0.23914643
B69: Programmatic display | C69: =E32 -> 86409865 | D69: 84332926 | E69: 63986868 | F69: =C69/D69-1 -> 0.02462786 | G69: =D69/E69-1 -> 0.3179724 | H69: =C69/C$70 -> 0.80303909 | I69: =D69/D$70 -> 0.76860657 | J69: =E69/E$70 -> 0.76085357
B70: TOTAL | C70: =E7+E9 -> 107603561 | D70: =Výdavky_2021!E7+Výdavky_2021!E9 -> 109721838 | E70: =Výdavky_2020!E8+Výdavky_2020!E10 -> 84098794 | F70: =C70/D70-1 -> -0.019305883 | G70: =D70/E70-1 -> 0.3046779 | H70: =SUM(H68:H69) -> 1 | I70: =SUM(I68:I69) -> 1 | J70: =SUM(J68:J69) -> 1
B71: Poznámka: pre možnosť porovnania boli hodnoty z roka 2020 prepočítané novou metodikou pre programmatic reklamu.
B73: Vývoj Video display | C73: 2022 | D73: 2021 | E73: 2020 | F73: 2022/2021 | G73: 2021/2020 | H73: PODIEL 2022 | I73: PODIEL 2021 | J73: PODIEL 2020
B74: Non-video display | C74: =E7 -> 68209725 | D74: 69962777 | E74: 55211440 | F74: =C74/D74-1 -> -0.025056924 | G74: =D74/E74-1 -> 0.26717899 | H74: =C74/$C$76 -> 0.6338984 | I74: =D74/$D$76 -> 0.63763767 | J74: =E74/$E$76 -> 0.65650692
B75: Video display | C75: =E9 -> 39393836 | D75: 39759061 | E75: 28887354 | F75: =C75/D75-1 -> -0.0091859564 | G75: =D75/E75-1 -> 0.37634831 | H75: =C75/$C$76 -> 0.3661016 | I75: =D75/$D$76 -> 0.36236233 | J75: =E75/$E$76 -> 0.34349308
B76: TOTAL | C76: =SUM(C74:C75) -> 107603561 | D76: 109721838 | E76: 84098794 | F76: =C76/D76-1 -> -0.019305883 | G76: =D76/E76-1 -> 0.3046779 | H76: =C76/$C$76 -> 1 | I76: =D76/$D$76 -> 1 | J76: =E76/$E$76 -> 1
B78: LINK NA TLAČOVÚ SPRÁVU
B79: LINK NA INFOGRAFIKU
B84: VÝVOJ A MEDZIROČNÉ POROVNANIE VÝDAVKOV ZA DRUHÝ POLROK 2022
B88: FORMÁT REKLAMY | C88: 2HY 2022 | D88: 2HY 2021 | E88: % ZMENA
B89: Non video display | C89: =D7 -> 36877832 | D89: 39706040 | E89: =C89/D89-1 -> -0.071228659
B90: Paid for search | C90: =D8 -> 21731254 | D90: 22636723 | E90: =C90/D90-1 -> -0.040000004
B91: Video display | C91: =D9 -> 22677857 | D91: 23731874 | E91: =C91/D91-1 -> -0.04441356
B92: Classifieds and directories | C92: =D10 -> 11255131 | D92: 11235903 | E92: =C92/D92-1 -> 0.0017112999
B93: Native | C93: =D11 -> 5589469 | D93: 6180084 | E93: =C93/D93-1 -> -0.095567471
B94: Other | C94: =D12 -> 4013280 | D94: 2238285 | E94: =C94/D94-1 -> 0.79301563
B95: - z toho affiliate reklama | C95: =D13 -> 2350000 | D95: n/a | E95: n/a
B96: - z toho digitálna audio reklama | C96: =D14 -> 944274.3 | D96: 727783 | E96: =C96/D96-1 -> 0.29746683
B97: TOTAL | C97: =SUM(C89:C94) -> 102144823 | D97: 105728909 | E97: =C97/D97-1 -> -0.033898827
B100: Platforma | C100: 2HY 2022 | D100: 2HY 2021 | E100: % ZMENA
B101: Desktop | C101: =D23 -> 45894454 | D101: =Výdavky_2021!C81 -> 47853653 | E101: =C101/D101-1 -> -0.040941476
B102: Mobil | C102: =D24 -> 56250369 | D102: =Výdavky_2021!C82 -> 57875256 | E102: =C102/D102-1 -> -0.028075674
B103: TOTAL | C103: =SUM(C101:C102) -> 1.0214482e+08 | D103: =SUM(D101:D102) -> 105728909 | E103: =C103/D103-1 -> -0.033898827
B105: VÝVOJ PROGRAMMATIC DISPLAY
B107: Display | C107: 2HY 2022 | D107: 2HY 2021 | E107: % ZMENA
B108: Non programmatic display | C108: =C110-C109 -> 12298684 | D108: =Výdavky_2021!C88 -> 14982711 | E108: =C108/D108-1 -> -0.17914164
B109: Programmatic display | C109: =D32 -> 47257005 | D109: =Výdavky_2021!C89 -> 48455203 | E109: =C109/D109-1 -> -0.024727944
B110: DISPLAY SPOLU vrátane Video | C110: =D7+D9 -> 59555689 | D110: =Výdavky_2021!C90 -> 63437914 | E110: =C110/D110-1 -> -0.061197236
B112: VÝVOJ VIDEO A NON VIDEO DISPLAY
B114: Display | C114: 2HY 2022 | D114: 2HY 2021 | E114: % ZMENA
B115: Non video display | C115: =C117-C116 -> 36877832 | D115: =Výdavky_2021!C95 -> 39706040 | E115: =C115/D115-1 -> -0.071228659
B116: Video display | C116: =D9 -> 22677857 | D116: =Výdavky_2021!C96 -> 23731874 | E116: =C116/D116-1 -> -0.04441356
B117: DISPLAY SPOLU vrátane Video | C117: =D7+D9 -> 59555689 | D117: =Výdavky_2021!C97 -> 63437914 | E117: =C117/D117-1 -> -0.061197236
F174: Non video display | G174: -0.025056924
F175: Paid for search | G175: 0.021141539
F176: Video display | G176: -0.0091859564
F177: Classifieds and directories | G177: 0.11864407
F178: Native | G178: -0.012206312
F179: Digitálna audio reklama | G179: 0.46457818

Sheet Výdavky_2022_1HY
B2: VÝDAVKY DO INTERNETOVEJ REKLAMY ZA PRVÝ POLROK 2022
B4: 1HY 2022 - výdavky podľa FORMÁTU
B6: FORMÁT REKLAMY | C6: 1HY 2022 | D6: 1HY 2021 | E6: % ZMENA | F6: % PODIEL
B7: Non video display | C7: 31331893 | D7: 30256737 | E7: =C7/D7-1 -> 0.035534433 | F7: =C7/C15 -> 0.36057548
B8: Paid for search | C8: 19306085 | D8: 17550986 | E8: =C8/D8-1 -> 0.10000002 | F8: =C8/C15 -> 0.22217939
B9: Video display | C9: 16715979 | D9: 16027187 | E9: =C9/D9-1 -> 0.042976475 | F9: =C9/C15 -> 0.19237178
B10: Classifieds and directories | C10: 11706740 | D10: 9290618 | E10: =C10/D10-1 -> 0.26006042 | F10: =C10/C15 -> 0.13472417
B11: Native | C11: 4568782 | D11: 4103694 | E11: =C11/D11-1 -> 0.11333399 | F11: =C11/C15 -> 0.052578717
B12: Other | C12: 3264653 | D12: 1463121 | E12: =C12/D12-1 -> 1.2312939 | F12: =C12/C15 -> 0.037570466
B13: - z toho affiliate reklama | C13: 1900128 | D13: N/A | E13: N/A | F13: =C13/C15 -> 0.021867161
B14: - z toho digitálna audio reklama | C14: 744481 | D14: 425283 | E14: =C14/D14-1 -> 0.75055434 | F14: =C14/C15 -> 0.0085676787
B15: TOTAL | C15: =SUM(C7:C12) -> 86894132 | D15: 78692343 | E15: =C15/D15-1 -> 0.10422601 | F15: =F7+F8+F9+F10+F11+F12 -> 1
B17: Poznámka: Na začiatku roka 2022 sme v IAB Slovakia začali monitorovať affiliate reklamu ako separátny formát.
B20: 1HY 2022 - výdavky podľa PLATFORMY
B22: PLATFORMA | C22: 1HY 2022 | D22: 1HY 2021 | E22: % ZMENA | F22: % PODIEL
B23: Desktop | C23: 40794384 | D23: 37426843 | E23: =C23/D23-1 -> 0.089976625 | F23: =C23/C25 -> 0.46947225
B24: Mobil | C24: 46099748 | D24: 41265500 | E24: =C24/D24-1 -> 0.11714987 | F24: =C24/C25 -> 0.53052775
B25: TOTAL | C25: =SUM(C23:C24) -> 86894132 | D25: 78692343 | E25: =C25/D25-1 -> 0.10422601 | F25: =E25/$E$25 -> 1
B28: 1HY 2022 - PODIEL PROGRAMMATIC DISPLAY NA CELKOVOM DISPLAY
B30: DISPLAY | C30: 1HY 2022 | D30: 1HY 2021 | E30: % ZMENA | F30: % PODIEL
B31: Non-programmatic display | C31: =(C7+C9)-C32 -> 8895012 | D31: 10406201 | E31: =C31/D31-1 -> -0.14522005 | F31: =C31/C33 -> 0.18512812
B32: Programmatic display | C32: 39152860 | D32: 35877723 | E32: =C32/D32-1 -> 0.091286089 | F32: =C32/C33 -> 0.81487188
B33: DISPLAY SPOLU vrátane Video | C33: =SUM(C31:C32) -> 48047872 | D33: 46283924 | E33: =C33/D33-1 -> 0.038111462 | F33: =E33/$E$33 -> 1
B35: Poznámka: Na začiatku roka 2021 došlo k zmene metodiky v prípade programmatic reklamy a to v súlade so štandardmi medzinárodného združenie IAB Europe. Definícia programmatic display reklamy bola rozšírená a zahŕňa všetku reklamu, ktorá bola nakupovaná akýmkoľvek automatizovaným spôsobom. Čiže do programmatic výdavkov sú zahrnuté investície zrealizované cez DSP platformy, cez reklamné nástroje Google Ads, DV360 a Facebook Ads.
B40: 1HY 2022 - PODIEL VIDEO DISPLAY NA CELKOVOM DISPLAY
B42: Display | C42: 1HY 2022 | D42: 1HY 2021 | E42: % ZMENA | F42: % PODIEL
B43: Non-video display | C43: =C7 -> 31331893 | D43: 30256737 | E43: =C43/D43-1 -> 0.035534433 | F43: =C43/C45 -> 0.65209741
B44: Video display | C44: =C9 -> 16715979 | D44: 16027187 | E44: =C44/D44-1 -> 0.042976475 | F44: =C44/C45 -> 0.34790259
B45: DISPLAY SPOLU vrátane Video | C45: =SUM(C43:C44) -> 48047872 | D45: 46283924 | E45: =C45/D45-1 -> 0.038111462 | F45: =E45/$E$45 -> 1
B48: VÝVOJ VÝDAVKOV DO INTERNETOVEJ REKLAMY MEDZIROČNÉ POROVNANIE PRVÉ POLROKY
B50: REKLAMNÝ FORMÁT | C50: 1HY 2022 | D50: 1HY 2021 | E50: 1HY 2020 | F50: 1HY 2019 | G50: 2022/2021 | H50: 2021/2020 | I50: 2020/2019 | J50: PODIEL 1HY 2022 | K50: PODIEL 1HY 2021 | L50: PODIEL 1HY 2020 | M50: PODIEL 1HY 2019
B51: Non video display | C51: =C7 -> 31331893 | D51: 30256737 | E51: 24053985 | F51: 26122052 | G51: =C51/D51-1 -> 0.035534433 | H51: =D51/E51-1 -> 0.25786796 | I51: =E51/F51-1 -> -0.079169386 | J51: =C51/C$57 -> 0.36057548 | K51: =D51/D$57 -> 0.38449404 | L51: =E51/E$57 -> 0.39079394 | M51: =F51/F$57 -> 0.41066475
B52: Paid for search | C52: =C8 -> 19306085 | D52: 17550986 | E52: 13500759 | F52: 14602862 | G52: =C52/D52-1 -> 0.10000002 | H52: =D52/E52-1 -> 0.29999997 | I52: =E52/F52-1 -> -0.075471712 | J52: =C52/C$57 -> 0.22217939 | K52: =D52/D$57 -> 0.22303296 | L52: =E52/E$57 -> 0.21934057 | M52: =F52/F$57 -> 0.22957157
B53: Video display | C53: =C9 -> 16715979 | D53: 16027187 | E53: 12287379 | F53: 10629730 | G53: =C53/D53-1 -> 0.042976475 | H53: =D53/E53-1 -> 0.30436176 | I53: =E53/F53-1 -> 0.15594457 | J53: =C53/C$57 -> 0.19237178 | K53: =D53/D$57 -> 0.20366895 | L53: =E53/E$57 -> 0.19962735 | M53: =F53/F$57 -> 0.16710998
B54: Classifieds and directories | C54: =C10 -> 11706740 | D54: 9290618 | E54: 8272290.4 | F54: 9130513.8 | G54: =C54/D54-1 -> 0.26006042 | H54: =D54/E54-1 -> 0.12310105 | I54: =E54/F54-1 -> -0.093995082 | J54: =C54/C$57 -> 0.13472417 | K54: =D54/D$57 -> 0.11806254 | L54: =E54/E$57 -> 0.13439607 | M54: =F54/F$57 -> 0.1435408
B55: Native | C55: =C11 -> 4568782 | D55: 4103694 | E55: 2599528.1 | F55: 2598781.8 | G55: =C55/D55-1 -> 0.11333399 | H55: =D55/E55-1 -> 0.57863037 | I55: =E55/F55-1 -> 0.00028716955 | J55: =C55/C$57 -> 0.052578717 | K55: =D55/D$57 -> 0.052148581 | L55: =E55/E$57 -> 0.042233328 | M55: =F55/F$57 -> 0.040855446
B56: Other | C56: =C12 -> 3264653 | D56: 1463121 | E56: 837640 | F56: 525250.46 | G56: =C56/D56-1 -> 1.2312939 | H56: =D56/E56-1 -> 0.74671816 | I56: =E56/F56-1 -> 0.59474396 | J56: =C56/C$57 -> 0.037570466 | K56: =D56/D$57 -> 0.018592927 | L56: =E56/E$57 -> 0.013608749 | M56: =F56/F$57 -> 0.0082574619
B57: TOTAL | C57: =SUM(C51:C56) -> 86894132 | D57: =SUM(D51:D56) -> 78692343 | E57: =SUM(E51:E56) -> 61551581 | F57: =SUM(F51:F56) -> 63609190 | G57: =C57/D57-1 -> 0.10422601 | H57: =D57/E57-1 -> 0.27847801 | I57: =E57/F57-1 -> -0.032347663 | J57: =SUM(J51:J56) -> 1 | K57: =F15 -> 1 | L57: =SUM(L51:L56) -> 1 | M57: =SUM(M51:M56) -> 1
B59: PLATFORMA | C59: 1HY 2022 | D59: 1HY 2021 | E59: 1HY 2020 | F59: 1HY 2019 | G59: 2022/2021 | H59: 2021/2020 | I59: 2020/2019 | J59: PODIEL 1HY 2022 | K59: PODIEL 1HY 2021 | L59: PODIEL 1HY 2020 | M59: PODIEL 1HY 2019
B60: Desktop | C60: =C23 -> 40794384 | D60: =D23 -> 37426843 | E60: 32310142 | F60: 36986897 | G60: =C60/D60-1 -> 0.089976625 | H60: =D60/E60-1 -> 0.15836207 | I60: =E60/F60-1 -> -0.12644357 | J60: =C60/C62 -> 0.46947225 | K60: =D60/D62 -> 0.47560972 | L60: =E60/E62 -> 0.5249279 | M60: =F60/F62 -> 0.58147097
B61: Mobil | C61: =C24 -> 46099748 | D61: =D24 -> 41265500 | E61: 29241439 | F61: 26622292 | G61: =C61/D61-1 -> 0.11714987 | H61: =D61/E61-1 -> 0.41119938 | I61: =E61/F61-1 -> 0.098381696 | J61: =C61/C62 -> 0.53052775 | K61: =D61/D62 -> 0.52439028 | L61: =E61/E62 -> 0.4750721 | M61: =F61/F62 -> 0.41852903
B62: TOTAL | C62: =SUM(C60:C61) -> 86894132 | D62: =SUM(D60:D61) -> 78692343 | E62: =SUM(E60:E61) -> 61551581 | F62: =SUM(F60:F61) -> 63609190 | G62: =C62/D62-1 -> 0.10422601 | H62: =D62/E62-1 -> 0.27847802 | I62: =E62/F62-1 -> -0.032347668 | J62: =SUM(J60:J61) -> 1 | K62: =SUM(K60:K61) -> 1 | L62: =SUM(L60:L61) -> 1 | M62: =SUM(M60:M61) -> 1
B65: Vývoj Programmatic display | C65: 1HY 2022 | D65: 1HY 2021 | E65: 1HY 2020 | F65: 1HY 2019 | G65: 2022/2021 | H65: 2021/2020 | I65: 2020/2019 | J65: PODIEL 1HY 2022 | K65: PODIEL 1HY 2021 | L65: PODIEL 1HY 2020 | M65: PODIEL 1HY 2019
B66: Non-programmatic display | C66: =C31 -> 8895012 | D66: =D31 -> 10406201 | E66: 8882048.5 | F66: 9893204.7 | G66: =C66/D66-1 -> -0.14522005 | H66: =D66/E66-1 -> 0.17159921 | I66: =E66/F66-1 -> -0.10220715 | J66: =C66/C$68 -> 0.18512812 | K66: =D66/D$68 -> 0.22483403 | L66: =E66/E$68 -> 0.24440603 | M66: =F66/F$68 -> 0.2691898
B67: Programmatic display | C67: =C32 -> 39152860 | D67: =D32 -> 35877723 | E67: 27459315 | F67: 26858577 | G67: =C67/D67-1 -> 0.091286089 | H67: =D67/E67-1 -> 0.30657748 | I67: =E67/F67-1 -> 0.022366717 | J67: =C67/C$68 -> 0.81487188 | K67: =D67/D$68 -> 0.77516597 | L67: =E67/E$68 -> 0.75559397 | M67: =F67/F$68 -> 0.7308102
B68: TOTAL | C68: =SUM(C66:C67) -> 48047872 | D68: =SUM(D66:D67) -> 46283924 | E68: =SUM(E66:E67) -> 36341364 | F68: =SUM(F66:F67) -> 36751782 | G68: =C68/D68-1 -> 0.038111462 | H68: =D68/E68-1 -> 0.27358798 | I68: =E68/F68-1 -> -0.011167298 | J68: =SUM(J66:J67) -> 1 | K68: =SUM(K66:K67) -> 1 | L68: =SUM(L66:L67) -> 1 | M68: =SUM(M66:M67) -> 1
B69: Poznámka: pre možnosť porovnania boli hodnoty z roka 2020 a 2019 prepočítané novou metodikou pre programmatic reklamu.
B71: Vývoj Video display | C71: 1HY 2022 | D71: 1HY 2021 | E71: 1HY 2020 | F71: 1HY 2019 | G71: 2022/2021 | H71: 2021/2020 | I71: 2020/2019 | J71: PODIEL 1HY 2022 | K71: PODIEL 1HY 2021 | L71: PODIEL 1HY 2020 | M71: PODIEL 1HY 2019
B72: Non-video display | C72: =C43 -> 31331893 | D72: =D43 -> 30256737 | E72: 24053985 | F72: 26122052 | G72: =C72/D72-1 -> 0.035534433 | H72: =D72/E72-1 -> 0.25786796 | I72: =E72/F72-1 -> -0.079169386 | J72: =C72/C$68 -> 0.65209741 | K72: =D72/D$68 -> 0.65372022 | L72: =E72/E$68 -> 0.66188999 | M72: =F72/F$68 -> 0.71076967
B73: Video display | C73: =C44 -> 16715979 | D73: =D44 -> 16027187 | E73: 12287379 | F73: 10629730 | G73: =C73/D73-1 -> 0.042976475 | H73: =D73/E73-1 -> 0.30436176 | I73: =E73/F73-1 -> 0.15594457 | J73: =C73/C$68 -> 0.34790259 | K73: =D73/D$68 -> 0.34627978 | L73: =E73/E$68 -> 0.33811001 | M73: =F73/F$68 -> 0.28923033
B74: TOTAL | C74: =SUM(C72:C73) -> 48047872 | D74: =SUM(D72:D73) -> 46283924 | E74: =SUM(E72:E73) -> 36341364 | F74: =SUM(F72:F73) -> 36751782 | G74: =C74/D74-1 -> 0.038111462 | H74: =D74/E74-1 -> 0.27358798 | I74: =E74/F74-1 -> -0.011167298 | J74: =SUM(J72:J73) -> 1 | K74: =SUM(K72:K73) -> 1 | L74: =SUM(L72:L73) -> 1 | M74: =SUM(M72:M73) -> 1
B76: LINK NA TLAČOVÚ SPRÁVU

Sheet Výdavky_2021
B2: VÝDAVKY DO INTERNETOVEJ REKLAMY ZA ROK 2021
B4: 2021 - výdavky podľa FORMÁTU
B6: FORMÁT REKLAMY | C6: 1HY 2021 | D6: 2HY 2021 | E6: TOTAL | F6: % PODIEL FORMÁTU
B7: Non video display | C7: 30256737 | D7: 39706040 | E7: =SUM(C7:D7) -> 69962777 | F7: =E7/$E$14 -> 0.37936396
B8: Paid for search | C8: 17550986 | D8: 22636723 | E8: =SUM(C8:D8) -> 40187709 | F8: =E8/$E$14 -> 0.21791257
B9: Video | C9: 16027187 | D9: 23731874 | E9: =SUM(C9:D9) -> 39759061 | F9: =E9/$E$14 -> 0.21558828
B10: Classifieds and directories | C10: 9290618 | D10: 11235903 | E10: =SUM(C10:D10) -> 20526521 | F10: =E10/$E$14 -> 0.11130236
B11: Native | C11: 4103694 | D11: 6180084 | E11: =SUM(C11:D11) -> 10283778 | F11: =E11/$E$14 -> 0.055762435
B12: Other | C12: 1463121 | D12: =D13+1510502 -> 2238285 | E12: =SUM(C12:D12) -> 3701406 | F12: =E12/$E$14 -> 0.020070388
B13: - z toho digitálna audio reklama | C13: 425283 | D13: 727783 | E13: =SUM(C13:D13) -> 1153066 | F13: =E13/$E$14 -> 0.0062523488
B14: TOTAL | C14: 78692343 | D14: =SUM(D7:D12) -> 105728909 | E14: =SUM(C14:D14) -> 184421252 | F14: =F7+F8+F9+F10+F11+F12 -> 1
B17: 2021 - výdavky podľa PLATFORMY
B19: PLATFORMA | C19: 1HY 2021 | D19: 2HY 2021 | E19: TOTAL | F19: % PODIEL
B20: Desktop | C20: 37426843 | D20: 47853653 | E20: =SUM(C20:D20) -> 85280496 | F20: =E20/$E$22 -> 0.46242228
B21: Mobil | C21: 41265500 | D21: 57875256 | E21: =SUM(C21:D21) -> 99140756 | F21: =E21/$E$22 -> 0.53757772
B22: TOTAL | C22: 78692343 | D22: =SUM(D20:D21) -> 105728909 | E22: =SUM(C22:D22) -> 184421252 | F22: =E22/$E$22 -> 1
B25: 2021 - PODIEL PROGRAMMATIC DISPLAY NA CELKOVOM DISPLAY
B27: DISPLAY | C27: 1HY 2021 | D27: 2HY 2021 | E27: TOTAL | F27: % PODIEL
B28: Non-programmatic display | C28: 10406201 | D28: =D30-D29 -> 14982711 | E28: =SUM(C28:D28) -> 25388912 | F28: =E28/$E$30 -> 0.23139343
B29: Programmatic display | C29: 35877723 | D29: 48455203 | E29: =SUM(C29:D29) -> 84332926 | F29: =E29/$E$30 -> 0.76860657
B30: DISPLAY SPOLU vrátane Video | C30: 46283924 | D30: =D7+D9 -> 63437914 | E30: =SUM(C30:D30) -> 109721838 | F30: =E30/$E$30 -> 1
B32: Poznámka: Na začiatku roka 2021 došlo k zmene metodiky v prípade programmatic reklamy a to v súlade so štandardmi medzinárodného združenie IAB Europe. Definícia programmatic display reklamy bola rozšírená a zahŕňa všetku reklamu, ktorá bola nakupovaná akýmkoľvek automatizovaným spôsobom. Čiže do programmatic výdavkov sú zahrnuté investície zrealizované cez DSP platformy, cez reklamné nástroje Google Ads, DV360 a Facebook Ads. Pre účel porovnania boli čísla z roka 2020 prepočítané.
B37: 2021 - PODIEL VIDEO DISPLAY NA CELKOVOM DISPLAY
B39: Display | C39: 1HY 2021 | D39: 2HY 2021 | E39: TOTAL | F39: % PODIEL
B40: Non-video display | C40: 30256737 | D40: =D7 -> 39706040 | E40: =SUM(C40:D40) -> 69962777 | F40: =E40/$E$42 -> 0.63763767
B41: Video display | C41: 16027187 | D41: =D9 -> 23731874 | E41: =SUM(C41:D41) -> 39759061 | F41: =E41/$E$42 -> 0.36236233
B42: DISPLAY SPOLU vrátane Video | C42: 46283924 | D42: =SUM(D40:D41) -> 63437914 | E42: =SUM(C42:D42) -> 109721838 | F42: =E42/$E$42 -> 1
B45: VÝVOJ VÝDAVKOV DO INTERNETOVEJ REKLAMY MEDZIROČNÉ POROVNANIE 2021/2020
B47: REKLAMNÝ FORMÁT | C47: 2021 | D47: 2020 | E47: 2019 | F47: 2018 | G47: 2017 | H47: 2021/2020 | I47: 2020/2019 | J47: 2019/2018 | K47: 2018/2017 | L47: PODIEL 2021 | M47: PODIEL 2020 | N47: PODIEL 2019 | O47: PODIEL 2018 | P47: PODIEL 2017
B48: Non video display | C48: =E7 -> 69962777 | D48: 55211440 | E48: 55741283 | F48: 54536270 | G48: 53440908 | H48: =C48/D48-1 -> 0.26717899 | I48: -0.0095053958 | J48: 0.02209562 | K48: 0.020496703 | L48: =F7 -> 0.37936396 | M48: 0.39418877 | N48: 0.40736399 | O48: 0.42534798 | P48: 0.45377397
B49: Paid for search | C49: =E8 -> 40187709 | D49: 30268702 | E49: 30128735 | F49: 29023726 | G49: 26786329 | H49: =C49/D49-1 -> 0.32769847 | I49: 0.004645621 | J49: 0.038072597 | K49: 0.08352759 | L49: =F8 -> 0.21791257 | M49: 0.21610706 | N49: 0.22018441 | O49: 0.22636648 | P49: 0.22744634
B50: Video display | C50: =E9 -> 39759061 | D50: 28887354 | E50: 25175706 | F50: 22225424 | G50: 19625070 | H50: =C50/D50-1 -> 0.37634831 | I50: 0.14742975 | J50: 0.13274357 | K50: 0.13250162 | L50: =F9 -> 0.21558828 | M50: 0.20624476 | N50: 0.18398708 | O50: 0.17334407 | P50: 0.16663912
B51: Classifieds and directories | C51: =E10 -> 20526521 | D51: 16495648 | E51: 18078714 | F51: 16074435 | G51: 13187804 | H51: =C51/D51-1 -> 0.24435979 | I51: -0.087565189 | J51: 0.12468739 | K51: 0.21888639 | L51: =F10 -> 0.11130236 | M51: 0.11777268 | N51: 0.13212141 | O51: 0.1253703 | P51: 0.11197942
B52: Native | C52: =E11 -> 10283778 | D52: 6963053 | E52: 6202853 | F52: 4163961.4 | G52: 3017230.5 | H52: =C52/D52-1 -> 0.47690647 | I52: 0.12255651 | J52: 0.4896519 | K52: 0.38006077 | L52: =F11 -> 0.055762435 | M52: 0.049713561 | N52: 0.045331194 | O52: 0.032476232 | P52: 0.025619712
B53: Other | C53: =E12 -> 3701406 | D53: 2237257 | E53: 1506805 | F53: 2191838 | G53: 1712542.7 | H53: =C53/D53-1 -> 0.65443934 | I53: 0.48476877 | J53: -0.31253814 | K53: 0.27987349 | L53: =F12 -> 0.020070388 | M53: 0.015973167 | N53: 0.011011912 | O53: 0.017094933 | P53: 0.014541431
B54: TOTAL | C54: =SUM(C48:C53) -> 184421252 | D54: 1.4006345e+08 | E54: 136834096 | F54: 1.2821565e+08 | G54: 1.1776988e+08 | H54: =C54/D54-1 -> 0.31669788 | I54: 0.023600534 | J54: 0.067218324 | K54: 0.088696448 | L54: =F14 -> 1 | M54: 1 | N54: 1 | O54: 1 | P54: 1
B56: PLATFORMA | C56: 2021 | D56: 2020 | E56: 2019 | F56: 2018 | G56: 2017 | H56: 2021/2020 | I56: 2020/2019 | J56: 2019/2018 | K56: 2018/2017 | L56: PODIEL 2021 | M56: PODIEL 2020 | N56: PODIEL 2019 | O56: PODIEL 2018 | P56: PODIEL 2017
B57: Desktop | C57: =E20 -> 85280496 | D57: 69898949 | E57: 75465193 | F57: 78184330 | G57: 74748945 | H57: =C57/D57-1 -> 0.22005405 | I57: -0.07375909 | J57: -0.034778536 | K57: 0.04595897 | L57: =F20 -> 0.46242228 | M57: 0.49905202 | N57: 0.55150869 | O57: 0.6097877 | P57: 0.63470339
B58: Mobil | C58: =E21 -> 99140756 | D58: 70164505 | E58: 61368903 | F58: 50031325 | G58: 43020939 | H58: =C58/D58-1 -> 0.41297592 | I58: 0.14332344 | J58: 0.22660959 | K58: 0.16295288 | L58: =F21 -> 0.53757772 | M58: 0.50094798 | N58: 0.44849131 | O58: 0.39021229 | P58: 0.36529661
B59: TOTAL | C59: =SUM(C57:C58) -> 184421252 | D59: 140063454 | E59: 136834096 | F59: 128215655 | G59: 1.1776988e+08 | H59: =C59/D59-1 -> 0.31669787 | I59: 0.023600536 | J59: 0.067218321 | K59: 0.088696452 | L59: =F22 -> 1 | M59: 1 | N59: 1 | O59: 1 | P59: 1
B62: SPÔSOB PREDAJA | C62: 2021 | D62: 2020 | E62: 2021/2020
B63: Programmatic | C63: =E29 -> 84332926 | D63: 63986868 | E63: =C63/D63-1 -> 0.3179724
B65: Poznámka: pre možnosť porovnania boli hodnoty z roka 2020 prepočítané novou metodikou pre programmatic reklamu.
B67: VÝVOJ A MEDZIROČNÉ POROVNANIE VÝDAVKOV ZA DRUHÝ POLROK 2021
B69: FORMÁT REKLAMY | C69: 2HY 2021 | D69: 2HY 2020 | E69: % ZMENA
B70: Non video display | C70: 39706040 | D70: 31157455 | E70: =C70/D70-1 -> 0.27436724
B71: Paid for search | C71: 22636723 | D71: 16767943 | E71: =C71/D71-1 -> 0.35000002
B72: Video display | C72: 23731874 | D72: 16599975 | E72: =C72/D72-1 -> 0.42963312
B73: Classifieds and directories | C73: 11235903 | D73: 8223358 | E73: =C73/D73-1 -> 0.36634
B74: Native | C74: 6180084 | D74: 4363525 | E74: =C74/D74-1 -> 0.4163054
B75: Other | C75: 2238285 | D75: 1399617 | E75: =C75/D75-1 -> 0.5992125
B76: - z toho digitálna audio reklama | C76: 727783 | D76: 479310 | E76: =C76/D76-1 -> 0.51839728
B77: TOTAL | C77: =D14 -> 105728909 | D77: =SUM(D70:D75) -> 78511873 | E77: =C77/D77-1 -> 0.34666141
B80: Platforma | C80: 2HY 2021 | D80: 2HY 2020 | E80: % ZMENA
B81: Desktop | C81: =D20 -> 47853653 | D81: 37588807 | E81: =C81/D81-1 -> 0.27308252
B82: Mobil | C82: =D21 -> 57875256 | D82: 40923066 | E82: =C82/D82-1 -> 0.41424535
B83: TOTAL | C83: =SUM(C81:C82) -> 105728909 | D83: =SUM(D81:D82) -> 78511873 | E83: =C83/D83-1 -> 0.3466614
B85: VÝVOJ PROGRAMMATIC DISPLAY
B87: Display | C87: 2HY 2021 | D87: 2HY 2020 | E87: % ZMENA
B88: Non programmatic display | C88: =C90-C89 -> 14982711 | D88: =D90-D89 -> 11229877 | E88: =C88/D88-1 -> 0.334183
B89: Programmatic display | C89: =D29 -> 48455203 | D89: 36527553 | E89: =C89/D89-1 -> 0.32653844
B90: DISPLAY SPOLU vrátane Video | C90: =D30 -> 63437914 | D90: 47757430 | E90: =C90/D90-1 -> 0.32833601
B92: VÝVOJ VIDEO A NON VIDEO DISPLAY
B94: Display | C94: 2HY 2021 | D94: 2HY 2020 | E94: % ZMENA
B95: Non video display | C95: =D40 -> 39706040 | D95: 31157455 | E95: =C95/D95-1 -> 0.27436724
B96: Video display | C96: =D41 -> 23731874 | D96: 16599975 | E96: =C96/D96-1 -> 0.42963312
B97: DISPLAY SPOLU vrátane Video | C97: =D42 -> 63437914 | D97: 47757430 | E97: =C97/D97-1 -> 0.32833601
B99: LINK NA TLAČOVÚ SPRÁVU
B100: LINK NA INFOGRAFIKU

Sheet Výdavky_1HY_2021
B2: VÝDAVKY DO INTERNETOVEJ REKLAMY ZA PRVÝ POLROK 2021
B5: 1HY 2021 - výdavky podľa FORMÁTU
B7: Formát reklamy | C7: 1HY 2021 | D7: 1HY 2020 | E7: % medziročná zmena | F7: % podiel formátu
B8: Non-video display | C8: 30256737 | D8: 24053985 | E8: =C8/D8-1 -> 0.25786796 | F8: =C8/$C$15 -> 0.38449404
B9: Paid for search | C9: 17550986 | D9: 13500759 | E9: =C9/D9-1 -> 0.29999995 | F9: =C9/$C$15 -> 0.22303296
B10: Video display | C10: 16027187 | D10: 12287379 | E10: =C10/D10-1 -> 0.30436174 | F10: =C10/$C$15 -> 0.20366895
B11: Classifieds and directories | C11: 9290618 | D11: 8272290 | E11: =C11/D11-1 -> 0.1231011 | F11: =C11/$C$15 -> 0.11806254
B12: Native | C12: 4103694 | D12: 2599528 | E12: =C12/D12-1 -> 0.57863043 | F12: =C12/$C$15 -> 0.052148581
B13: Other | C13: 1463121 | D13: 837640 | E13: =C13/D13-1 -> 0.74671816 | F13: =C13/$C$15 -> 0.018592927
B14: - z toho digitálna audio reklama | C14: 425283 | D14: N/A | E14: N/A | F14: N/A
B15: TOTAL | C15: =SUM(C8:C13) -> 78692343 | D15: =SUM(D8:D13) -> 61551581 | E15: =C15/D15-1 -> 0.27847801 | F15: =SUM(F8:F13) -> 1
B17: Poznámka: Digitálnu audio reklamu sme začali v IAB Slovakia monitorovať až v druhom polroku 2020. Pre tento rok ju uvádzame ako súčasť položky "other". Zahŕňa reklamu v podcastoch, online rádiách a streamovacích službách.
B19: 1HY 2021 - výdavky podľa PLATFORMY
B21: Platforma | C21: 1HY 2021 | D21: 1HY 2020 | E21: % medziročná zmena | F21: % podiel formátu
B22: Desktop | C22: 37426843 | D22: 32310142 | E22: =C22/D22-1 -> 0.15836207 | F22: =C22/C24 -> 0.47560972
B23: Mobil | C23: 41265500 | D23: 29241439 | E23: =C23/D23-1 -> 0.41119936 | F23: =C23/C24 -> 0.52439028
B24: TOTAL | C24: =SUM(C22:C23) -> 78692343 | D24: =SUM(D22:D23) -> 61551581 | E24: =C24/D24-1 -> 0.27847801 | F24: =SUM(F22:F23) -> 1
B27: 1HY 2021 - PODIEL PROGRAMMATIC DISPLAY NA CELKOVOM DISPLAY A VÝVOJ - zmena v metodike
B29: Display | C29: 1HY 2021 | D29: 1HY 2020 | E29: % medziročná zmena | F29: % podiel formátu
B30: Non-programmatic display | C30: 10406201 | D30: 8882049 | E30: =C30/D30-1 -> 0.17159914 | F30: =C30/C32 -> 0.22483403
B31: Programmatic display | C31: 35877723 | D31: 27459315 | E31: =C31/D31-1 -> 0.30657749 | F31: =C31/C32 -> 0.77516597
B32: DISPLAY SPOLU vrátane Video | C32: =SUM(C30:C31) -> 46283924 | D32: =SUM(D30:D31) -> 36341364 | E32: =C32/D32-1 -> 0.27358797 | F32: =SUM(F30:F31) -> 1
B34: Poznámka: Od roku 2017 v IAB Slovakia monitorujeme vývoj programmatic reklamy, ktorá bola definovaná ako investície zadávateľov cez DSP platformy. Na poslednom zasadaní komisia AdEx rozhodla o synchronizácii reportingu programmatic reklamy v súlade s reportingom nadnárodného združenia IAB Europe, ktorého je IAB Slovakia členom. Preto v roku 2021 je definícia programmatic display reklamy rozšírená a zahŕňa všetku reklamu, ktorá bola nakupovaná akýmkoľvek automatizovaným spôsobom. Čiže do programmatic výdavkov sú zahrnuté investície zrealizované cez DSP platformy, cez reklamné nástroje Google Ads, DV360 a Facebook Ads. Pre účel porovnania boli čísla z roka 2020 prepočítané.
B37: 1HY 2021 - PODIEL VIDEO DISPLAY NA CELKOVOM DISPLAY A VÝVOJ
B39: Display | C39: 1HY 2021 | D39: 1HY 2020 | E39: % medziročná zmena | F39: % podiel formátu
B40: Non-video display | C40: =C8 -> 30256737 | D40: =D8 -> 24053985 | E40: =C40/D40-1 -> 0.25786796 | F40: =C40/C42 -> 0.65372022
B41: Video display | C41: =C10 -> 16027187 | D41: =D10 -> 12287379 | E41: =C41/D41-1 -> 0.30436174 | F41: =C41/C42 -> 0.34627978
B42: DISPLAY SPOLU vrátane Video | C42: 46283924 | D42: 36341364 | E42: =C42/D42-1 -> 0.27358797 | F42: =SUM(F40:F41) -> 1
B45: Na stiahnutie:
B46: Infografika ku výdavkom do online reklamy za prvý polrok 2021
B47: Tlačová správa ku výdavkom do online reklamy za prvý polrok 2021

Sheet Výdavky_2020
B2: VÝDAVKY DO INTERNETOVEJ REKLAMY ZA ROK 2020
B5: 2020 - výdavky podľa FORMÁTU
B7: Formát reklamy | C7: 1HY 2020 | D7: 2HY 2020 | E7: Total | F7: % Podiel
B8: Non video display | C8: 24053985 | D8: 31157455 | E8: =C8+D8 -> 55211440 | F8: =E8/E15 -> 0.39418877
B9: Paid for search | C9: 13500759 | D9: 16767943 | E9: =C9+D9 -> 30268702 | F9: =E9/E15 -> 0.21610706
B10: Video | C10: 12287379 | D10: 16599975 | E10: =C10+D10 -> 28887354 | F10: =E10/E15 -> 0.20624476
B11: Classifieds and directories | C11: 8272290 | D11: 8223358 | E11: =C11+D11 -> 16495648 | F11: =E11/E15 -> 0.11777268
B12: Native | C12: 2599528 | D12: 4363525 | E12: =C12+D12 -> 6963053 | F12: =E12/E15 -> 0.049713561
B13: Other | C13: 837640 | D13: 1399617 | E13: =C13+D13 -> 2237257 | F13: =E13/E15 -> 0.015973167
B14: - z toho digitálna audio reklama | C14: N/A | D14: 479310 | E14: N/A | F14: N/A
B15: TOTAL | C15: =SUM(C8:C13) -> 61551581 | D15: =SUM(D8:D13) -> 78511873 | E15: =SUM(E8:E13) -> 1.4006345e+08 | F15: =SUM(F8:F13) -> 1
B17: Poznámka: Digitálnu audio reklamu sme začali v IAB Slovakia monitorovať až v druhom polroku 2020. Pre tento rok ju uvádzame ako súčasť položky "other". Zahŕňa reklamu v podcastoch, online rádiách a streamovacích službách.
B19: 2020 - výdavky podľa PLATFORMY
B21: Platforma | C21: 1HY 2020 | D21: 2HY 2020 | E21: Total | F21: %Podiel
B22: Desktop | C22: 32310142 | D22: 37588807 | E22: =C22+D22 -> 69898949 | F22: =E22/E24 -> 0.49905202
B23: Mobil | C23: 29241439 | D23: 40923066 | E23: =D23+C23 -> 70164505 | F23: =E23/E24 -> 0.50094798
B24: TOTAL | C24: =SUM(C22:C23) -> 61551581 | D24: =SUM(D22:D23) -> 78511873 | E24: =SUM(E22:E23) -> 140063454 | F24: =SUM(F22:F23) -> 1
B27: 2020 - PODIEL PROGRAMMATIC DISPLAY NA CELKOVOM DISPLAY A VÝVOJ (DSP platformy)
B29: Display | C29: 1HY 2020 | D29: 2HY 2020 | E29: Total | F29: %Podiel
B30: Non programmatic display | C30: =C32-C31 -> 29170509 | D30: =D32-D31 -> 38887258 | E30: =C30+D30 -> 68057767 | F30: =E30/E32 -> 0.80925973
B31: Programmatic display | C31: 7170855 | D31: 8870172 | E31: =C31+D31 -> 16041027 | F31: =E31/E32 -> 0.19074027
B32: DISPLAY SPOLU vrátane Video | C32: =C8+C10 -> 36341364 | D32: =D8+D10 -> 47757430 | E32: =SUM(E30:E31) -> 84098794 | F32: =SUM(F30:F31) -> 1
B34: Poznámka: Od roku 2017 v IAB Slovakia monitorujeme vývoj programmatic reklamy, ktorá bola definovaná ako investície zadávateľov cez DSP platformy. Na poslednom zasadaní komisia AdEx rozhodla o synchronizácii reportingu programmatic reklamy v súlade s reportingom nadnárodného združenia IAB Europe, ktorého je IAB Slovakia členom. Preto v roku 2021 pribudne ešte rozšírená definícia programmatic display reklamy. Bude zahŕňať všetku display reklamu, ktorá bola nakupvaná akýmkoľvek automatizovaným spôsobom.
B37: 2020 - PODIEL VIDEO DISPLAY NA CELKOVOM DISPLAY A VÝVOJ
B39: Display | C39: 1HY 2020 | D39: 2HY 2020 | E39: Total | F39: %Podiel
B40: Non video display | C40: =C8 -> 24053985 | D40: =D8 -> 31157455 | E40: =C40+D40 -> 55211440 | F40: =E40/E42 -> 0.65650692
B41: Video display | C41: =C10 -> 12287379 | D41: =D10 -> 16599975 | E41: =C41+D41 -> 28887354 | F41: =E41/E42 -> 0.34349308
B42: DISPLAY SPOLU vrátane Video | C42: =SUM(C40:C41) -> 36341364 | D42: =D8+D10 -> 47757430 | E42: =E8+E10 -> 84098794 | F42: =SUM(F40:F41) -> 1
B45: VÝVOJ VÝDAVKOV DO INTERNETOVEJ REKLAMY MEDZIROČNÉ POROVNANIE 2020/2019
B47: PLATFORMA | C47: 2020 | D47: 2019 | E47: 2018 | F47: 2017 | G47: 2020/2019 | H47: 2019/2018 | I47: 2018/2017 | J47: PODIEL 2020 | K47: PODIEL 2019 | L47: PODIEL 2018 | M47: PODIEL 2017
B48: Desktop | C48: =E22 -> 69898949 | D48: 75465193 | E48: 78184330 | F48: 74748945 | G48: =C48/D48-1 -> -0.07375909 | H48: -0.034778536 | I48: 0.04595897 | J48: =C48/C50 -> 0.49905202 | K48: 0.55150869 | L48: 0.6097877 | M48: =F48/F50 -> 0.63470339
B49: Mobil | C49: =E23 -> 70164505 | D49: 61368903 | E49: 50031325 | F49: 43020939 | G49: =C49/D49-1 -> 0.14332344 | H49: 0.22660959 | I49: 0.16295288 | J49: =C49/C50 -> 0.50094798 | K49: 0.44849131 | L49: 0.39021229 | M49: =F49/F50 -> 0.36529661
B50: TOTAL | C50: =SUM(C48:C49) -> 140063454 | D50: 136834096 | E50: 128215655 | F50: 1.1776988e+08 | G50: =C50/D50-1 -> 0.023600536 | H50: 0.067218321 | I50: 0.088696452 | J50: 1 | K50: 1 | L50: 1 | M50: 1
B52: REKLAMNÝ FORMÁT | C52: 2020 | D52: 2019 | E52: 2018 | F52: 2017 | G52: 2020/2019 | H52: 2019/2018 | I52: 2018/2017 | J52: PODIEL 2020 | K52: PODIEL 2019 | L52: PODIEL 2018 | M52: PODIEL 2017
B53: Non video display | C53: =E8 -> 55211440 | D53: 55741283 | E53: 54536270 | F53: 53440908 | G53: =C53/D53-1 -> -0.0095053958 | H53: 0.02209562 | I53: 0.020496703 | J53: =C53/C59 -> 0.39418877 | K53: 0.40736399 | L53: 0.42534798 | M53: =F53/F59 -> 0.45377397
B54: Paid for search | C54: =E9 -> 30268702 | D54: 30128735 | E54: 29023726 | F54: 26786329 | G54: =C54/D54-1 -> 0.004645621 | H54: 0.038072597 | I54: 0.08352759 | J54: =C54/C59 -> 0.21610706 | K54: 0.22018441 | L54: 0.22636648 | M54: =F54/F59 -> 0.22744634
B55: Video display | C55: =E10 -> 28887354 | D55: 25175706 | E55: 22225424 | F55: 19625070 | G55: =C55/D55-1 -> 0.14742975 | H55: 0.13274357 | I55: 0.13250162 | J55: =C55/C59 -> 0.20624476 | K55: 0.18398708 | L55: 0.17334407 | M55: =F55/F59 -> 0.16663912
B56: Classifieds and directories | C56: =E11 -> 16495648 | D56: 18078714 | E56: 16074435 | F56: 13187804 | G56: =C56/D56-1 -> -0.087565189 | H56: 0.12468739 | I56: 0.21888639 | J56: =C56/C59 -> 0.11777268 | K56: 0.13212141 | L56: 0.1253703 | M56: =F56/F59 -> 0.11197942
B57: Native | C57: =E12 -> 6963053 | D57: 6202853 | E57: 4163961.4 | F57: 3017230.5 | G57: =C57/D57-1 -> 0.12255651 | H57: 0.4896519 | I57: 0.38006077 | J57: =C57/C59 -> 0.049713561 | K57: 0.045331194 | L57: 0.032476232 | M57: =F57/F59 -> 0.025619712
B58: Other | C58: =E13 -> 2237257 | D58: 1506805 | E58: 2191838 | F58: 1712542.7 | G58: =C58/D58-1 -> 0.48476877 | H58: -0.31253814 | I58: 0.27987349 | J58: =C58/C59 -> 0.015973167 | K58: 0.011011912 | L58: 0.017094933 | M58: =F58/F59 -> 0.014541431
B59: TOTAL | C59: =SUM(C53:C58) -> 1.4006345e+08 | D59: 136834096 | E59: 1.2821565e+08 | F59: 1.1776988e+08 | G59: =C59/D59-1 -> 0.023600534 | H59: 0.067218324 | I59: 0.088696448 | J59: =SUM(J53:J58) -> 1 | K59: 1 | L59: 1 | M59: 1
B62: SPÔSOB PREDAJA | C62: 2020 | D62: 2019 | E62: 2018 | F62: 2017 | G62: 2020/2019 | H62: 2019/2018 | I62: 2018/2017
B63: Programmatic | C63: =E31 -> 16041027 | D63: 14976556 | E63: 13266287 | F63: 9439474.1 | G63: =C63/D63-1 -> 0.07107582 | H63: 0.12891844 | I63: 0.40540531
B66: VÝVOJ VÝDAVKOV DO INTERNETOVEJ REKLAMY V POLROKOCH 2HY 2020 vs 2HY 2019
B68: Formát reklamy | C68: 2HY 2020 | D68: 2HY 2019 | E68: 2HY2020/2HY2019
B69: Non video display | C69: 31157455 | D69: 29619231 | E69: =C69/D69-1 -> 0.051933288
B70: Paid for search | C70: 16767943 | D70: 15525873 | E70: =C70/D70-1 -> 0.07999999
B71: Video display | C71: 16599975 | D71: 14545976 | E71: =C71/D71-1 -> 0.14120737
B72: Classifieds and directories | C72: 8223358 | D72: 8948200 | E72: =C72/D72-1 -> -0.081004224
B73: Native | C73: 4363525 | D73: 3604071 | E73: =C73/D73-1 -> 0.21072115
B74: Other | C74: 1399617 | D74: 981555 | E74: =C74/D74-1 -> 0.42591806
B75: - z toho digitálna audio reklama | C75: 479310 | D75: N/A | E75: N/A
B76: TOTAL | C76: =SUM(C69:C74) -> 78511873 | D76: =SUM(D69:D74) -> 73224906 | E76: =C76/D76-1 -> 0.072201755
B79: Platforma | C79: 2HY 2020 | D79: 2HY 2019 | E79: 2HY2020/2HY2019
B80: Desktop | C80: 37588807 | D80: 38478296 | E80: =C80/D80-1 -> -0.023116642
B81: Mobil | C81: 40923066 | D81: 34746610 | E81: =C81/D81-1 -> 0.17775708
B82: TOTAL | C82: =SUM(C80:C81) -> 78511873 | D82: =SUM(D80:D81) -> 73224906 | E82: =C82/D82-1 -> 0.072201759
B85: Display | C85: 2HY 2020 | D85: 2HY 2019 | E85: 2HY2020/2HY2019
B86: Non programmatic display | C86: 38887258 | D86: 36103022 | E86: =C86/D86-1 -> 0.077119196
B87: Programmatic display | C87: 8870172 | D87: 8062185 | E87: =C87/D87-1 -> 0.10021936
B88: DISPLAY SPOLU vrátane Video | C88: 47757430 | D88: =SUM(D86:D87) -> 44165207 | E88: =C88/D88-1 -> 0.08133604
B91: Display | C91: 2HY 2020 | D91: 2HY 2019 | E91: 2HY2020/2HY2019
B92: Non video display | C92: 31157455 | D92: 29619231 | E92: =C92/D92-1 -> 0.051933288
B93: Video display | C93: 16599975 | D93: 14545976 | E93: =C93/D93-1 -> 0.14120737
B94: DISPLAY SPOLU vrátane Video | C94: 47757430 | D94: 44165207 | E94: =C94/D94-1 -> 0.08133604
B98: Graf číslo 1: Vývoj výdavkov 2017 - 2020
B117: Graf číslo 2: Vývoj výdavkov do jednotlivých platforiem 2017 - 2020
B135: Graf číslo 3: Vývoj výdavkov do jednotlivých formátov 2017- 2020
B160: Graf číslo 4: Percentuálny medziročný vývoj výdavkov do formátov 2020/2019
B186: Graf číslo 5: Podiel programmatic display na celkovej display reklame
B204: Graf číslo 6: Podiel video reklamy na celkovej display reklame

Sheet Výdavky_1HY_2020
B2: VÝDAVKY DO INTERNETOVEJ REKLAMY ZA 1 POLROK 2020
B5: 1 POLROK 2020 - výdavky podľa FORMÁTU
B7: Formát reklamy | C7: 1HY 2020 | D7: 1HY 2019 | E7: % Podiel 2020 | F7: % Rast - Pokles 2020/2019
B8: Non - video display | C8: 24053985 | D8: 26122052 | E8: =C8/C14 -> 0.39079394 | F8: =C8/D8-1 -> -0.079169393
B9: Paid for search | C9: 13500759 | D9: 14602862 | E9: =C9/C14 -> 0.21934057 | F9: =C9/D9-1 -> -0.075471712
B10: Video display | C10: 12287379 | D10: 10629730 | E10: =C10/C14 -> 0.19962735 | F10: =C10/D10-1 -> 0.1559446
B11: Classifieds and directories | C11: 8272290 | D11: 9130514 | E11: =C11/C14 -> 0.13439606 | F11: =C11/D11-1 -> -0.093995146
B12: Native | C12: 2599528 | D12: 2598782 | E12: =C12/C14 -> 0.042233326 | F12: =C12/D12-1 -> 0.00028705755
B13: Other | C13: 837640 | D13: 525250 | E13: =C13/C14 -> 0.013608749 | F13: =C13/D13-1 -> 0.59474536
B14: TOTAL | C14: 61551581 | D14: =SUM(D8:D13) -> 63609190 | E14: =SUM(E8:E13) -> 1 | F14: =C14/D14-1 -> -0.032347669
B17: 1 POLROK 2020 - výdavky podľa PLATFORMY
B19: Platforma | C19: 1HY 2020 | D19: 1HY 2019 | E19: % Podiel 2020 | F19: % Rast - Pokles 2020/2019
B20: Desktop | C20: 32310142 | D20: 36986897 | E20: =C20/C22 -> 0.5249279 | F20: =C20/D20-1 -> -0.12644356
B21: Mobil | C21: 29241439 | D21: 26622293 | E21: =C21/C22 -> 0.4750721 | F21: =C21/D21-1 -> 0.098381683
B22: TOTAL | C22: =SUM(C20:C21) -> 61551581 | D22: =SUM(D20:D21) -> 63609190 | E22: =SUM(E20:E21) -> 1 | F22: =C22/D22-1 -> -0.032347669
B25: 1 POLROK 2020 - PODIEL PROGRAMMATIC NA DISPLAY A VÝVOJ
B27: Display | C27: 1HY 2020 | D27: 1HY 2019 | E27: % Podiel 2020 | F27: % Rast - Pokles 2020/2019
B28: Non programmatic display | C28: =C30-C29 -> 29170509 | D28: 29837411 | E28: =C28/C30 -> 0.80268063 | F28: =C28/D28-1 -> -0.022351209
B29: Programmatic display | C29: 7170855.2 | D29: 6914371 | E29: =C29/C30 -> 0.19731937 | F29: =C29/D29-1 -> 0.037094368
B30: DISPLAY SPOLU vrátane Video | C30: =C8+C10 -> 36341364 | D30: =SUM(D28:D29) -> 36751782 | E30: =SUM(E28:E29) -> 1 | F30: =C30/D30-1 -> -0.011167295
B33: 1 POLROK 2020 - PODIEL VIDEO NA DISPLAY A VÝVOJ
B35: Display | C35: 1HY 2020 | D35: 1HY 2019 | E35: % Podiel 2020 | F35: % Rast - Pokles 2020/2019
B36: Non video display | C36: =C8 -> 24053985 | D36: =D8 -> 26122052 | E36: =C36/C38 -> 0.66188999 | F36: =C36/D36-1 -> -0.079169393
B37: Video display | C37: 12287379 | D37: =D10 -> 10629730 | E37: =C37/C38 -> 0.33811001 | F37: =C37/D37-1 -> 0.15594458
B38: DISPLAY SPOLU vrátane Video | C38: =SUM(C36:C37) -> 36341364 | D38: =SUM(D36:D37) -> 36751782 | E38: =SUM(E36:E37) -> 1 | F38: =C38/D38-1 -> -0.011167301
B43: Graf číslo 1: Vývoj výdavkov v prvých polrokoch za roky 2017 - 2020 | F43: Vývoj výdavkov v prvých polrokoch a medziročný rast (v EUR)
F45: 2017 | G45: 2018 | H45: 2019 | I45: 2020
F46: =Výdavky_2017!C15 -> 55020480 | G46: =Výdavky_2018!C15 -> 59044414 | H46: =D14 -> 63609190 | I46: =C22 -> 61551581
G47: =G46/F46-1 -> 0.073135208 | H47: =H46/G46-1 -> 0.07731088 | I47: =I46/H46-1 -> -0.032347669
B62: Graf číslo 2: Vývoj výdavkov do jednotlivých platforiem v prvých polrokoch 2017 - 2020 | F62: Vývoj výdavkov do jednotlivých platforiem v prvých polrokoch 2017 - 2020
F64: Rok | G64: Desktop | H64: Mobil
F65: 2017 | G65: =Výdavky_2017!C21 -> 35294869 | H65: =Výdavky_2017!C22 -> 19725611
F66: 2018 | G66: =Výdavky_2018!C21 -> 36679710 | H66: =Výdavky_2018!C22 -> 22364704
F67: 2019 | G67: =Výdavky_2019!$C$20 -> 36986897 | H67: =Výdavky_2019!$C$21 -> 26622293
F68: 2020 | G68: =C20 -> 32310142 | H68: =C21 -> 29241439
B80: Graf číslo 3: Vývoj výdavkov do jednotlivých formátov v prvých polrokoch 2017- 2020 | F80: Vývoj výdavkov do jednotlivých formátov v prvých polrokoch 2017- 2020
F82: Rok | G82: Non video Display | H82: Search | I82: Video display | J82: Classifieds | K82: Native | L82: Other
F83: 2017 | G83: =Výdavky_2017!C8+Výdavky_2017!C12 -> 24834698 | H83: =Výdavky_2017!C9 -> 12261287 | I83: =Výdavky_2017!C10 -> 8839912.7 | J83: =Výdavky_2017!C11 -> 6779478 | K83: =Výdavky_2017!C13 -> 1368260 | L83: =Výdavky_2017!C14 -> 936844.5
F84: 2018 | G84: =Výdavky_2018!C8+Výdavky_2018!C12 -> 24735090 | H84: =Výdavky_2018!C9 -> 13926671 | I84: =Výdavky_2018!C10 -> 9636459.2 | J84: =Výdavky_2018!C11 -> 7972095.9 | K84: =Výdavky_2018!C13 -> 1605390.7 | L84: =Výdavky_2018!C14 -> 1168707.1
F85: 2019 | G85: =Výdavky_2019!C8 -> 26122052 | H85: =Výdavky_2019!C9 -> 14602862 | I85: =Výdavky_2019!C10 -> 10629730 | J85: =Výdavky_2019!C11 -> 9130514 | K85: =Výdavky_2019!C12 -> 2598782 | L85: =Výdavky_2019!C13 -> 525250
F86: 2020 | G86: =C8 -> 24053985 | H86: =C9 -> 13500759 | I86: =C10 -> 12287379 | J86: =C11 -> 8272290 | K86: =C12 -> 2599528 | L86: =C13 -> 837640
F89: * v roku 2018 je v Non-display reklame započítaná aj textová reklama s obrázkom, ktorá sa v tomto období viedla ako samostatná položka
B105: Graf číslo 4: Podiel programmatic display na celkovej display reklame
B123: Graf číslo 5: Podiel video reklamy na celkovej display reklame

Sheet Výdavky_2019
B2: VÝDAVKY DO INTERNETOVEJ REKLAMY ZA ROK 2019
B5: 2019 - výdavky podľa FORMÁTU
B7: Formát reklamy | C7: 1HY 2019 | D7: 2HY 2019 | E7: Total | F7: % Podiel
B8: Display | C8: 26122052 | D8: 29619231 | E8: =C8+D8 -> 55741283 | F8: =E8/E14 -> 0.40736399
B9: Paid for search | C9: 14602862 | D9: 15525873 | E9: =C9+D9 -> 30128735 | F9: =E9/E14 -> 0.22018441
B10: Video | C10: 10629730 | D10: 14545976 | E10: =C10+D10 -> 25175706 | F10: =E10/E14 -> 0.18398708
B11: Classifieds and directories | C11: 9130514 | D11: 8948200 | E11: =C11+D11 -> 18078714 | F11: =E11/E14 -> 0.13212141
B12: Native | C12: 2598782 | D12: 3604071 | E12: =C12+D12 -> 6202853 | F12: =E12/E14 -> 0.045331194
B13: Other | C13: 525250 | D13: 981555 | E13: =C13+D13 -> 1506805 | F13: =E13/E14 -> 0.011011912
B14: TOTAL | C14: =SUM(C8:C13) -> 63609190 | D14: =SUM(D8:D13) -> 73224906 | E14: =SUM(E8:E13) -> 136834096 | F14: =SUM(F8:F13) -> 1
B17: 2019 - výdavky podľa PLATFORMY
B19: Platforma | C19: 1HY 2019 | D19: 2HY 2019 | E19: Total | F19: %Podiel
B20: Desktop | C20: 36986897 | D20: 38478296 | E20: =C20+D20 -> 75465193 | F20: =E20/E22 -> 0.55150869
B21: Mobil | C21: 26622293 | D21: 34746610 | E21: =D21+C21 -> 61368903 | F21: =E21/E22 -> 0.44849131
B22: TOTAL | C22: =SUM(C20:C21) -> 63609190 | D22: =SUM(D20:D21) -> 73224906 | E22: =SUM(E20:E21) -> 136834096 | F22: =SUM(F20:F21) -> 1
B25: 2019 - PODIEL PROGRAMMATIC NA DISPLAY A VÝVOJ
B27: Display | C27: 1HY 2019 | D27: 2HY 2019 | E27: Total | F27: %Podiel
B28: Ostatný display | C28: 29837411 | D28: 36103022 | E28: =C28+D28 -> 65940433 | F28: =E28/E30 -> 0.81491457
B29: Programmatic display | C29: 6914371 | D29: 8062185 | E29: =C29+D29 -> 14976556 | F29: =E29/E30 -> 0.18508543
B30: DISPLAY SPOLU vrátane Video | C30: =SUM(C28:C29) -> 36751782 | D30: =D8+D10 -> 44165207 | E30: =E8+E10 -> 80916989 | F30: =SUM(F28:F29) -> 1
B33: 2019 - PODIEL VIDEO NA DISPLAY A VÝVOJ
B35: Display | C35: 1HY 2019 | D35: 2HY 2019 | E35: Total | F35: %Podiel
B36: Ostatný display | C36: =C8 -> 26122052 | D36: =D38-D37 -> 29619231 | E36: =C36+D36 -> 55741283 | F36: =E36/E38 -> 0.68886996
B37: Video display | C37: =C10 -> 10629730 | D37: =D10 -> 14545976 | E37: =C37+D37 -> 25175706 | F37: =E37/E38 -> 0.31113004
B38: DISPLAY SPOLU vrátane Video | C38: =SUM(C36:C37) -> 36751782 | D38: =D8+D10 -> 44165207 | E38: =E8+E10 -> 80916989 | F38: =SUM(F36:F37) -> 1
B41: VÝVOJ VÝDAVKOV DO INTERNETOVEJ REKLAMY MEDZIROČNÉ POROVNANIE 2019/2018
B43: PLATFORMA | C43: 2017 | D43: 2018 | E43: 2019 | F43: 2018/2017 | G43: 2019/2018 | H43: PODIEL 2018 | I43: PODIEL 2019
B44: Desktop | C44: =Výdavky_2017!E21 -> 74748945 | D44: 78184330 | E44: =E20 -> 75465193 | F44: =D44/C44-1 -> 0.04595897 | G44: =E44/D44-1 -> -0.034778536 | H44: =D44/D46 -> 0.6097877 | I44: =E44/E46 -> 0.55150869
B45: Mobil | C45: =Výdavky_2017!E22 -> 43020939 | D45: 50031325 | E45: =E21 -> 61368903 | F45: =D45/C45-1 -> 0.16295288 | G45: =E45/D45-1 -> 0.22660959 | H45: =D45/D46 -> 0.39021229 | I45: =E45/E46 -> 0.44849131
B46: TOTAL | C46: =SUM(C44:C45) -> 1.1776988e+08 | D46: 128215655 | E46: =SUM(E44:E45) -> 136834096 | F46: =D46/C46-1 -> 0.088696452 | G46: =E46/D46-1 -> 0.067218321 | H46: 1 | I46: 1
B48: REKLAMNÝ FORMÁT | C48: 2017 | D48: 2018 | E48: 2019 | F48: 2018/2017 | G48: 2019/2018 | H48: PODIEL 2018 | I48: PODIEL 2019
B49: Display | C49: =Výdavky_2017!E8+Výdavky_2017!E12 -> 53440908 | D49: =53216190.3022644+1320080 -> 54536270 | E49: =E8 -> 55741283 | F49: =D49/C49-1 -> 0.020496703 | G49: =E49/D49-1 -> 0.02209562 | H49: =D49/$D$55 -> 0.42534798 | I49: =E49/$E$55 -> 0.40736399
B50: Paid for search | C50: =Výdavky_2017!E9 -> 26786329 | D50: 29023726 | E50: =E9 -> 30128735 | F50: =D50/C50-1 -> 0.08352759 | G50: =E50/D50-1 -> 0.038072597 | H50: =D50/$D$55 -> 0.22636648 | I50: =E50/$E$55 -> 0.22018441
B51: Video | C51: =Výdavky_2017!E10 -> 19625070 | D51: 22225424 | E51: =E10 -> 25175706 | F51: =D51/C51-1 -> 0.13250162 | G51: =E51/D51-1 -> 0.13274357 | H51: =D51/$D$55 -> 0.17334407 | I51: =E51/$E$55 -> 0.18398708
B52: Classifieds and directories | C52: =Výdavky_2017!E11 -> 13187804 | D52: 16074435 | E52: =E11 -> 18078714 | F52: =D52/C52-1 -> 0.21888639 | G52: =E52/D52-1 -> 0.12468739 | H52: =D52/$D$55 -> 0.1253703 | I52: =E52/$E$55 -> 0.13212141
B53: Native | C53: =Výdavky_2017!E13 -> 3017230.5 | D53: 4163961.4 | E53: =E12 -> 6202853 | F53: =D53/C53-1 -> 0.38006077 | G53: =E53/D53-1 -> 0.4896519 | H53: =D53/$D$55 -> 0.032476232 | I53: =E53/$E$55 -> 0.045331194
B54: Other | C54: =Výdavky_2017!E14 -> 1712542.7 | D54: 2191838 | E54: =E13 -> 1506805 | F54: =D54/C54-1 -> 0.27987349 | G54: =E54/D54-1 -> -0.31253814 | H54: =D54/$D$55 -> 0.017094933 | I54: =E54/$E$55 -> 0.011011912
B55: TOTAL | C55: =SUM(C49:C54) -> 1.1776988e+08 | D55: 1.2821565e+08 | E55: =SUM(E49:E54) -> 136834096 | F55: =D55/C55-1 -> 0.088696448 | G55: =E55/D55-1 -> 0.067218324 | H55: =SUM(H49:H54) -> 1 | I55: =SUM(I49:I54) -> 1
B58: SPÔSOB PREDAJA | C58: 2017 | D58: 2018 | E58: 2019 | F58: 2018/2017 | G58: 2019/2018
B59: Programmatic | C59: =Výdavky_2018!C60 -> 9439474.1 | D59: 13266287 | E59: =E29 -> 14976556 | F59: =D59/C59-1 -> 0.40540531 | G59: =E59/D59-1 -> 0.12891844
B63: Graf číslo 1: Vývoj výdavkov za roky 2017 - 2019
B82: Graf číslo 2: Vývoj výdavkov do jednotlivých platforiem 2017 - 2019
B100: Graf číslo 3: Vývoj výdavkov do jednotlivých formátov 2017- 2019
B125: Graf číslo 4: Percentuálny medziročný vývoj výdavkov do formátov 2018/2017 a 2019/2018
B151: Graf číslo 5: Podiel programmatic display na celkovej display reklame
B169: Graf číslo 6: Podiel video reklamy na celkovej display reklame

Sheet Výdavky_2018
B2: VÝDAVKY DO INTERNETOVEJ REKLAMY ZA CELÝ ROK 2018
B5: 2018 - výdavky podľa FORMÁT
B7: Formát reklamy | C7: 1 HY 2018 | D7: 2 HY 2018 | E7: Total | F7: % Podiel
B8: Display | C8: 23965423 | D8: 29250768 | E8: =SUM(C8:D8) -> 53216190 | F8: =E8/$E$15 -> 0.41505221
B9: Paid for search | C9: 13926671 | D9: 15097055 | E9: =SUM(C9:D9) -> 29023726 | F9: =E9/$E$15 -> 0.22636648
B10: Video | C10: 9636459.2 | D10: 12588965 | E10: =SUM(C10:D10) -> 22225424 | F10: =E10/$E$15 -> 0.17334407
B11: Classifieds and directories | C11: 7972095.9 | D11: 8102338.8 | E11: =SUM(C11:D11) -> 16074435 | F11: =E11/$E$15 -> 0.1253703
B12: Textová reklama | C12: 769667.76 | D12: 550412.14 | E12: =SUM(C12:D12) -> 1320079.9 | F12: =E12/$E$15 -> 0.010295778
B13: Native | C13: 1605390.7 | D13: 2558570.7 | E13: =SUM(C13:D13) -> 4163961.4 | F13: =E13/$E$15 -> 0.032476232
B14: Other | C14: 1168707.1 | D14: 1023130.9 | E14: =SUM(C14:D14) -> 2191838 | F14: =E14/$E$15 -> 0.017094933
B15: TOTAL | C15: =SUM(C8:C14) -> 59044414 | D15: 69171241 | E15: =SUM(E8:E14) -> 1.2821565e+08 | F15: 1
B18: 2018 - výdavky podľa PLATFORMA
B20: Platforma | C20: 1HY 2018 | D20: 2 HY 2018 | E20: Total | F20: % Podiel
B21: Desktop | C21: 36679710 | D21: 41504620 | E21: =SUM(C21:D21) -> 78184330 | F21: =E21/$E$23 -> 0.60978771
B22: Mobil | C22: 22364704 | D22: 27666621 | E22: =SUM(C22:D22) -> 50031325 | F22: =E22/$E$23 -> 0.3902123
B23: TOTAL | C23: =SUM(C21:C22) -> 59044414 | D23: =SUM(D21:D22) -> 69171241 | E23: 1.2821565e+08 | F23: =SUM(F21:F22) -> 1
B26: 2018 - PODIEL PROGRAMMATIC NA DISPLAY
B28: Display | C28: 1HY 2018 | D28: 2HY 2018 | E28: Total | F28: % Podiel
B29: Ostatný display | C29: 27825037 | D29: 34350289 | E29: =SUM(C29:D29) -> 62175326 | F29: =E29/E31 -> 0.8241516
B30: Programmatic display | C30: 5776844 | D30: 7489443 | E30: =SUM(C30:D30) -> 13266287 | F30: =E30/E31 -> 0.1758484
B31: DISPLAY SPOLU vrátane Video | C31: =SUM(C29:C30) -> 33601881 | D31: =SUM(D29:D30) -> 41839732 | E31: =SUM(E29:E30) -> 75441613 | F31: =SUM(F29:F30) -> 1
B34: 2018 - PODIEL VIDEO NA DISPLAY
B36: Display | C36: 1HY 2018 | D36: 2HY 2018 | E36: Total | F36: % Podiel
B37: Ostatný display | C37: 23965423 | D37: 29250768 | E37: =SUM(C37:D37) -> 53216190 | F37: =E37/E39 -> 0.7053957
B38: Video display | C38: 9636459.2 | D38: 12588965 | E38: =SUM(C38:D38) -> 22225424 | F38: =E38/E39 -> 0.2946043
B39: DISPLAY SPOLU | C39: =SUM(C37:C38) -> 33601882 | D39: =SUM(D37:D38) -> 41839732 | E39: =SUM(E37:E38) -> 75441614 | F39: =SUM(F37:F38) -> 1
B42: VÝVOJ VÝDAVKOV DO INTERNETOVEJ REKLAMY POROVNANIE 2018/2017
B44: PLATFORMA | C44: 2017 | D44: 2018 | E44: RAST 2018/2017 | F44: PODIEL 2017 | G44: PODIEL 2018
B45: Desktop | C45: 74748945 | D45: 78184330 | E45: 0.04595897 | F45: 0.63470339 | G45: 0.6097877
B46: Mobil | C46: 43020939 | D46: 50031325 | E46: 0.16295288 | F46: 0.36529661 | G46: 0.39021229
B47: TOTAL | C47: 1.1776988e+08 | D47: 128215655 | E47: 0.088696452 | F47: 1 | G47: 1
B49: REKLAMNÝ FORMÁT | C49: 2017 | D49: 2018 | E49: RAST 2018/2017 | F49: PODIEL 2017 | G49: PODIEL 2018
B50: Display | C50: 51493923 | D50: 53216190 | E50: 0.033446035 | F50: 0.43724186 | G50: 0.41505221
B51: Video | C51: 19625070 | D51: 22225424 | E51: 0.13250162 | F51: 0.16663912 | G51: 0.17334407
B52: Paid for search | C52: 26786329 | D52: 29023726 | E52: 0.08352759 | F52: 0.22744634 | G52: 0.22636648
B53: Classifieds and directories | C53: 13187804 | D53: 16074435 | E53: 0.21888639 | F53: 0.11197942 | G53: 0.1253703
B54: Textová reklama | C54: 1946985.1 | D54: 1320079.9 | E54: -0.32198768 | F54: 0.016532114 | G54: 0.010295778
B55: Native | C55: 3017230.5 | D55: 4163961.4 | E55: 0.38006077 | F55: 0.025619712 | G55: 0.032476232
B56: Other | C56: 1712542.7 | D56: 2191838 | E56: 0.27987349 | F56: 0.014541431 | G56: 0.017094933
B57: TOTAL | C57: 1.1776988e+08 | D57: 1.2821565e+08 | E57: 0.088696448 | F57: 1 | G57: 1
B59: SPÔSOB PREDAJA | C59: 2017 | D59: 2018 | E59: RAST 2018/2017
B60: Programmatic | C60: 9439474.1 | D60: 13266287 | E60: 0.40540535
B61: *hodnota programmatic bola pre rok 2017 prepočítaná nakoľko došlo k úprave metodiky výpočtu v prvom polroku 2018
B65: LINK NA INFOGRAFIKU

Sheet Výdavky_2017
B2: VÝDAVKY DO INTERNETOVEJ REKLAMY ZA CELÝ ROK 2017
B5: 2017 - výdavky podľa FORMÁT
B7: Formát reklamy | C7: 1 HY 2017 | D7: 2 HY 2017 | E7: Total | F7: % Podiel
B8: Display | C8: 23721417 | D8: 27772506 | E8: =SUM(C8:D8) -> 51493923 | F8: =E8/$E$15 -> 0.43724186
B9: Paid for search | C9: 12261287 | D9: 14525042 | E9: =SUM(C9:D9) -> 26786329 | F9: =E9/$E$15 -> 0.22744634
B10: Video | C10: 8839912.7 | D10: 10785158 | E10: =SUM(C10:D10) -> 19625070 | F10: =E10/$E$15 -> 0.16663912
B11: Classifieds and directories | C11: 6779478 | D11: 6408325.9 | E11: =SUM(C11:D11) -> 13187804 | F11: =E11/$E$15 -> 0.11197942
B12: Textová reklama | C12: 1113281.4 | D12: 833703.78 | E12: =SUM(C12:D12) -> 1946985.1 | F12: =E12/$E$15 -> 0.016532114
B13: Native | C13: 1368260 | D13: 1648970.4 | E13: =SUM(C13:D13) -> 3017230.5 | F13: =E13/$E$15 -> 0.025619712
B14: Other | C14: 936844.5 | D14: 775698.18 | E14: =SUM(C14:D14) -> 1712542.7 | F14: =E14/$E$15 -> 0.014541431
B15: TOTAL | C15: 55020480 | D15: 62749404 | E15: =SUM(E8:E14) -> 1.1776988e+08 | F15: 1
B18: 2017 - výdavky podľa PLATFORMA
B20: Platforma | C20: 1HY 2017 | D20: 2 HY 2017 | E20: Total | F20: % Podiel
B21: Desktop | C21: 35294869 | D21: 39454076 | E21: =SUM(C21:D21) -> 74748945 | F21: =E21/$E$23 -> 0.63470339
B22: Mobil | C22: 19725611 | D22: 23295328 | E22: =SUM(C22:D22) -> 43020939 | F22: =E22/$E$23 -> 0.36529661
B23: TOTAL | C23: 55020480 | D23: 62749404 | E23: =SUM(E21:E22) -> 1.1776988e+08 | F23: =SUM(F21:F22) -> 1
B29: 2017 - PODIEL PROGRAMMATIC NA DISPLAY
B31: Display | C31: 1HY 2017 | D31: 2HY 2017 | E31: Total | F31: % Podiel
B32: Ostatný display | C32: 28330393 | D32: =D34-D33 -> 33564698 | E32: =SUM(C32:D32) -> 61895090 | F32: =E32/E34 -> 0.87030324
B33: Programmatic display | C33: 4230936.8 | D33: 4992966 | E33: =SUM(C33:D33) -> 9223902.8 | F33: =E33/E34 -> 0.12969676
B34: DISPLAY SPOLU | C34: 32561330 | D34: =D8+D10 -> 38557664 | E34: =E8+E10 -> 71118993 | F34: =SUM(F32:F33) -> 1
B39: 2017 - PODIEL VIDEO NA DISPLAY
B41: Display | C41: 1HY 2017 | D41: 2HY 2017 | E41: Total | F41: % Podiel
B42: Ostatný display | C42: 23721417 | D42: =D44-D43 -> 27772506 | E42: =SUM(C42:D42) -> 51493923 | F42: =E42/E44 -> 0.72405303
B43: Video display | C43: 8839912.7 | D43: =D10 -> 10785158 | E43: =SUM(C43:D43) -> 19625070 | F43: =E43/E44 -> 0.27594697
B44: DISPLAY SPOLU | C44: 32561330 | D44: =D8+D10 -> 38557664 | E44: =SUM(E42:E43) -> 71118993 | F44: =SUM(F42:F43) -> 1

Sheet VYSVETLIVKY_2017_2018
B1: VYSVETLIVKY
B2: Display reklama
B3: Banners, buttons, skyscrapers, overlays, interstitials, pop ups zobrazené na stránkach
B4: Video reklama
B5: Existuje mnoho definícií online video reklamy. Principiálne zahrnuté sem môžu byť:
B6: in-stream video reklama (pre-rolls, mid-rolls, post-rolls)
B7: in-stream banner overlays
B8: out-of-stream video reklama (napr. self-play videá na sociálnych sieťach)
B9: in-banner Video reklama
B10: in-text Video reklama
B11: kontextové video (napr. brandované video prehrávače)
B12: Paid-for-search advertising
... B40: Reklama v podcastoch, online rádiách a streamovacích službách

Sheet Výdavky_2007_2021_old_clenenie
B1: Výdavky po rokoch 2012 - 2020
B3: Rok /reklamná kategória | C3: 2012 | D3: 2013 | E3: 2014* | F3: 2015 | G3: 2016 | H3: 2017 | I3: 2018 | J3: 2019 | K3: 2020 | L3: 2021 | M3: 2021/2020
B4: Display | C4: 21330188 | D4: 23607076 | E4: 36032224 | F4: 55179393 | G4: 70857796 | H4: =Výdavky_2017!E8+Výdavky_2017!E10 -> 71118993 | I4: =Výdavky_2018!E8+Výdavky_2018!E10 -> 75441614 | J4: =Výdavky_2019!E8+Výdavky_2019!E10 -> 80916989 | K4: =Výdavky_2020!E8+Výdavky_2020!E10 -> 84098794 | L4: =Výdavky_2021!E7+Výdavky_2021!E9 -> 109721838 | M4: =L4/K4-1 -> 0.3046779
B5: Classifieds & Directories | C5: 12446982 | D5: 15806332 | E5: 18955774 | F5: 10547320 | G5: 12184187 | H5: =Výdavky_2017!E11 -> 13187804 | I5: =Výdavky_2018!E11 -> 16074435 | J5: =Výdavky_2019!E11 -> 18078714 | K5: =Výdavky_2020!E11 -> 16495648 | L5: =Výdavky_2021!E10 -> 20526521 | M5: =L5/K5-1 -> 0.24435979
B6: Paid-for search | C6: 20231973 | D6: 25186527 | E6: 19005219 | F6: 24059854 | G6: 26871747 | H6: =Výdavky_2017!E9 -> 26786329 | I6: =Výdavky_2018!E9 -> 29023726 | J6: =Výdavky_2019!E9 -> 30128735 | K6: =Výdavky_2020!E9 -> 30268702 | L6: =Výdavky_2021!E8 -> 40187709 | M6: =L6/K6-1 -> 0.32769847
B7: Other | C7: 2013650 | D7: 1234309 | E7: 1529580 | F7: 1253271.6 | G7: 2270982.2 | H7: =Výdavky_2017!E12+Výdavky_2017!E13+Výdavky_2017!E14 -> 6676758.3 | I7: =Výdavky_2018!E12+Výdavky_2018!E13+Výdavky_2018!E14 -> 7675879.3 | J7: =Výdavky_2019!E12+Výdavky_2019!E13 -> 7709658 | K7: =Výdavky_2020!E12+Výdavky_2020!E13 -> 9200310 | L7: =Výdavky_2021!E11+Výdavky_2021!E12 -> 13985184 | M7: =L7/K7-1 -> 0.52007748
B8: Total v Eur | C8: 56022793 | D8: 65834244 | E8: 75522797 | F8: 91039838 | G8: 1.1218471e+08 | H8: =SUM(H4:H7) -> 1.1776988e+08 | I8: =SUM(I4:I7) -> 1.2821565e+08 | J8: =SUM(J4:J7) -> 136834096 | K8: =SUM(K4:K7) -> 1.4006345e+08 | L8: =SUM(L4:L7) -> 184421252 | M8: =L8/K8-1 -> 0.31669788
B11: Výdavky na polročnej báze 2012 - 2021
B13: Rok /formát | C13: 1.polrok 2012 | D13: 2.polrok 2012 | E13: 1.polrok 2013 | F13: 2.polrok 2013 | G13: 1.polrok 2014 | H13: 2.polrok 2014 | I13: 1.polrok 2015 | J13: 2.polrok 2015 | K13: 1.polrok 2016 | L13: 2.polrok 2016 | M13: 1.polrok 2017 | N13: 2.polrok 2017 | O13: 1.polrok 2018 | P13: 2.polrok 2018 | Q13: 1.polrok 2019 | R13: 2.polrok 2019 | S13: 1.polrok 2020 | T13: 2.polrok 2020 | U13: 1.polrok 2021 | V13: 2.polrok 2021
B14: Display | C14: 10173132 | D14: 11157056 | E14: 11299503 | F14: 12307572 | G14: 16599134 | H14: 19433090 | I14: 24625382 | J14: 30554011 | K14: 32696922 | L14: 38160874 | M14: =Výdavky_2017!C8+Výdavky_2017!C10 -> 32561330 | N14: =Výdavky_2017!D8+Výdavky_2017!D10 -> 38557664 | O14: 33601882 | P14: =Výdavky_2018!D8+Výdavky_2018!D10 -> 41839732 | Q14: =Výdavky_2019!C8+Výdavky_2019!C10 -> 36751782 | R14: =Výdavky_2019!D8+Výdavky_2019!D10 -> 44165207 | S14: =Výdavky_1HY_2020!C8+Výdavky_1HY_2020!C10 -> 36341364 | T14: =Výdavky_2020!D8+Výdavky_2020!D10 -> 47757430 | U14: =Výdavky_1HY_2021!C8+Výdavky_1HY_2021!C10 -> 46283924 | V14: =Výdavky_2021!D7+Výdavky_2021!D9 -> 63437914
B15: Classifieds & Directories | C15: 5973884.8 | D15: 6473097.5 | E15: 6995732.4 | F15: 8810599.4 | G15: 8867993.4 | H15: 10087781 | I15: 5304206.8 | J15: 5243113.4 | K15: 6241853 | L15: 5942333.6 | M15: =Výdavky_2017!C11 -> 6779478 | N15: =Výdavky_2017!D11 -> 6408325.9 | O15: 7972095.9 | P15: =Výdavky_2018!D11 -> 8102338.8 | Q15: =Výdavky_2019!C11 -> 9130514 | R15: =Výdavky_2019!D11 -> 8948200 | S15: =Výdavky_1HY_2020!C11 -> 8272290 | T15: =Výdavky_2020!D11 -> 8223358 | U15: =Výdavky_1HY_2021!C11 -> 9290618 | V15: =Výdavky_2021!D10 -> 11235903
B16: Paid-for search | C16: 9623945.5 | D16: 10608028 | E16: 12102073 | F16: 13084454 | G16: 9501034.3 | H16: 9504185.2 | I16: 10938100 | J16: 13121754 | K16: 12143655 | L16: 14728092 | M16: =Výdavky_2017!C9 -> 12261287 | N16: =Výdavky_2017!D9 -> 14525042 | O16: 13926671 | P16: =Výdavky_2018!D9 -> 15097055 | Q16: =Výdavky_2019!C9 -> 14602862 | R16: =Výdavky_2019!D9 -> 15525873 | S16: =Výdavky_1HY_2020!C9 -> 13500759 | T16: =Výdavky_2020!D9 -> 16767943 | U16: =Výdavky_1HY_2021!C9 -> 17550986 | V16: =Výdavky_2021!D8 -> 22636723
B17: Other | C17: 1014654.1 | D17: 998995.42 | E17: 554356.55 | F17: 679952.29 | G17: 726500.04 | H17: 803080.32 | I17: 636129.46 | J17: 617142.17 | K17: 1081420.1 | L17: 1189562.1 | M17: =Výdavky_2017!C12+Výdavky_2017!C13+Výdavky_2017!C14 -> 3418385.9 | N17: =Výdavky_2017!D12+Výdavky_2017!D13+Výdavky_2017!D14 -> 3258372.4 | O17: 3543765.6 | P17: =Výdavky_2018!D14+Výdavky_2018!D13+Výdavky_2018!D12 -> 4132113.7 | Q17: =Výdavky_2019!C12+Výdavky_2019!C13 -> 3124032 | R17: =Výdavky_2019!D12+Výdavky_2019!D13 -> 4585626 | S17: =Výdavky_1HY_2020!C12+Výdavky_1HY_2020!C13 -> 3437168 | T17: =Výdavky_2020!D12+Výdavky_2020!D13 -> 5763142 | U17: =Výdavky_1HY_2021!C12+Výdavky_1HY_2021!C13 -> 5566815 | V17: =Výdavky_2021!D11+Výdavky_2021!D12 -> 8418369
B18: Total v Eur | C18: 26785616 | D18: 29237177 | E18: 30951665 | F18: 34882578 | G18: 35694661 | H18: 39828136 | I18: 41503818 | J18: 49536021 | K18: 52163850 | L18: 60020861 | M18: =SUM(M14:M17) -> 55020480 | N18: =SUM(N14:N17) -> 62749404 | O18: 59044414 | P18: =ROUNDUP(SUM(P14:P17),0) -> 69171241 | Q18: =SUM(Q14:Q17) -> 63609190 | R18: =ROUNDUP(SUM(R14:R17),0) -> 73224906 | S18: =SUM(S14:S17) -> 61551581 | T18: =SUM(T14:T17) -> 78511873 | U18: =SUM(U14:U17) -> 78692343 | V18: =SUM(V14:V17) -> 105728909
B21: Zdroj: IAB Slovakia, údaje pozostávajú z media-net-net hodnoty reklamy na členských serveroch IAB Slovakia a kvalifikovaného odhadu IAB Slovakia tržieb slovenských a medzinárodných nečlenských serverov.
B22: Nahlasovací formulár / vysvetlivky k jednotlivým kategóriám nájdete v sheete VYSVETLIVKY
B24: *POZNÁMKA: | C24: nie je možné porovnávať údaje v rámci jednotlivých reklamných kategórií nakoľko v roku 2014 AdEx komisia rozhodla o prerozdelení výdavkov v rámci niektorých položiek reklamných kategórií (Display, Search). Toto nové prerozdelenie bolo po prvýkrát aplikované v roku 2014 a v roku 2015 ešte upravované. Nová metodika bola potrebná, nakoľko v rámci nadnárodných nečlenských médií sa postupne niektoré PPC pozície redefinovali na display. Metodika kopíruje odporúčania IAB Europe. Pre potreby porovnania vývoja niektorých kategórií v tlačových správach (napr. Display reklama) vychádzame z dát, ktoré boli spätne prepočítané podľa novej metodiky. V roku 2017 došlo k novému spôsobu nahlasovania príjmov členských médií a to podľa formátu, platformy a spôsobu predaja reklamy. Tým pádom kontinuálne je možno porovnávať len niektoré položky ako Display, Classifieds&Directories a Paid for search.
B31: Výdavky roky 2004 - 2011
B34: Rok /reklamná kategória | C34: 2004 | D34: 2005 | E34: 2006 | F34: 2007 | G34: 2008 | H34: 2009 | I34: 2010 | J34: 2011*
B35: Display | C35: N/A | D35: N/A | E35: N/A | F35: 8038239.4 | G35: 14176425 | H35: 12112774 | I35: 13105787 | J35: 20793003
B36: Classifieds | F36: 4028712.7 | G36: 4753933 | H36: 5167189.6 | I36: 4961664.5 | J36: 7456469.4
B37: Paid-for search | F37: 3141107.3 | G37: 4026223 | H37: 3757636.1 | I37: 3973887 | J37: 13113166
B38: Sponsorship | F38: 616709.82 | G38: 504845 | H38: 445345 | I38: 736805.93 | J38: 950836.97
B39: E-mail | F39: 263858.46 | G39: 733685 | H39: 608095.26 | I39: 751962.84 | J39: 514967.33
B40: Slotting fees | F40: 89822.744 | G40: 0 | H40: 150473.03 | I40: 114992.39 | J40: 168367.75
B41: Rich media | F41: 88295.824 | G41: 389199 | H41: 990662.71 | I41: 1119134.2 | J41: 1406264.4
B42: Lead generation | F42: 31467.835 | G42: 43151 | H42: 59808.69 | I42: 322370.83 | J42: 772772.54
B43: Total v Eur | C43: 5145057.4 | D43: 7634601.3 | E43: 10180575 | F43: 16298214 | G43: 24627461 | H43: 23291985 | I43: 25086605 | J43: 45175847
B46: *POZNÁMKA: | C46: do roku 2011 sú deklarované len čísla členských reklamných serverov AIM (dnes IAB Slovakia) a to v media-net hodnote. V roku 2011 došlo k zmene metodiky a údaje sú za celý slovenský reklamný internetový trh. Od roku 2011 údaje pozostávajú z media-net hodnoty reklamy a mediálnych partnerstiev na členských serveroch IAB Slovakia a kvalifikovaného odhadu tržieb slovenských a medzinárodných nečlenských serverov.
B51: Špecifikácia reklamných kategórií pre roky 2004 - 2011
B53: Vyhľadávanie (Search)
B54: vyhľadávanie podľa kľúčového slova (textový odkaz na vrchu alebo boku stránky ako výsledok vyhľadávania preddefinovaného výrazu)
B56: Do tejto kategórie patria:
B58: • Paid listings (Prednostné výpisy) – textové linky zobrazujúce sa na vrchu alebo boku stránky výsledkov vyhľadania na konkrétne slovo.
B59: Čím viac zadávateľ platí tým na vyššej pozícii sa jeho odkaz zobrazuje. Zadávateľ platí v prípade, že užívateľ klikne na textový link, prípadne platba za obdobie.
B61: • Contextual search (textový odkaz v článkoch) – textový link sa zobrazí
B62: v článku na základe prepojenia s obsahom, platí sa len v prípade kliknutia na odkaz, prípadne platba za obdobie
B64: • Paid inclusion – garantuje, že stránka je indexovaná podľa vyhľadávača prevádzkovateľa. Vyhľadanie je determinované algoritmami vyhľadávača
B66: • Site optimization (optimalizácia stránky) – zmena stránky, ktorá umožní automatické indexovanie stránky a vyššiu pravdepodobnosť lepšieho umiestnenia vo výsledkoch vyhľadania
B68: Classifieds and auctions
B69: riadková inzercia, resp. textová inzercia na špecifikcký produkt alebo službu
... B80: .
